BEGIN:VCALENDAR
VERSION:2.0
PRODID:spatie/icalendar-generator
NAME:Schloss Laufen am Rheinfall\, Dachsen\, Gesamterneuerung
X-WR-CALNAME:Schloss Laufen am Rheinfall\, Dachsen\, Gesamterneuerung
BEGIN:VTIMEZONE
TZID:Europe/Zurich
BEGIN:STANDARD
DTSTART:20251026T030000
TZOFFSETFROM:+0200
TZOFFSETTO:+0100
END:STANDARD
BEGIN:DAYLIGHT
DTSTART:20260329T010000
TZOFFSETFROM:+0100
TZOFFSETTO:+0200
END:DAYLIGHT
BEGIN:STANDARD
DTSTART:20261025T030000
TZOFFSETFROM:+0200
TZOFFSETTO:+0100
END:STANDARD
END:VTIMEZONE
BEGIN:VTIMEZONE
TZID:UTC
BEGIN:STANDARD
DTSTART:20250723T135356
TZOFFSETFROM:+0000
TZOFFSETTO:+0000
END:STANDARD
END:VTIMEZONE
BEGIN:VEVENT
UID:69e4de74c8bce
DTSTAMP:20260419T135356Z
SUMMARY:KONKURADO: Schloss Laufen am Rheinfall\, Dachsen\, Gesamterneuerung
 \, Fragerunde\, einreichen bis 17.04.2026 - 17.04.2026
DESCRIPTION:Link zum Verfahren: https://konkurado.ch/de/schloss-laufen-am-r
 heinfall-dachsen-gesamterneuerung
X-MICROSOFT-CDO-ALLDAYEVENT:TRUE
DTSTART;TZID=Europe/Zurich;VALUE=DATE:20260417
END:VEVENT
BEGIN:VEVENT
UID:69e4de74c8c8b
DTSTAMP:20260419T135356Z
SUMMARY:KONKURADO: Schloss Laufen am Rheinfall\, Dachsen\, Gesamterneuerung
 \, Fragerunde\, einreichen bis 17.04.2026 - 17.04.2026
DESCRIPTION:Link zum Verfahren: https://konkurado.ch/de/schloss-laufen-am-r
 heinfall-dachsen-gesamterneuerung
X-MICROSOFT-CDO-ALLDAYEVENT:TRUE
DTSTART;TZID=Europe/Zurich;VALUE=DATE:20260417
END:VEVENT
BEGIN:VEVENT
UID:69e4de74c8d3b
DTSTAMP:20260419T135356Z
SUMMARY:KONKURADO: Schloss Laufen am Rheinfall\, Dachsen\, Gesamterneuerung
 \, Einreichen von Angeboten bis 22.05.2026 - 22.05.2026
DESCRIPTION:Link zum Verfahren: https://konkurado.ch/de/schloss-laufen-am-r
 heinfall-dachsen-gesamterneuerung
X-MICROSOFT-CDO-ALLDAYEVENT:TRUE
DTSTART;TZID=Europe/Zurich;VALUE=DATE:20260522
END:VEVENT
BEGIN:VEVENT
UID:69e4de74c8d7d
DTSTAMP:20260419T135356Z
SUMMARY:KONKURADO: Schloss Laufen am Rheinfall\, Dachsen\, Gesamterneuerung
 \, Einreichen von Angeboten bis 22.05.2026 - 22.05.2026
DESCRIPTION:Link zum Verfahren: https://konkurado.ch/de/schloss-laufen-am-r
 heinfall-dachsen-gesamterneuerung
X-MICROSOFT-CDO-ALLDAYEVENT:TRUE
DTSTART;TZID=Europe/Zurich;VALUE=DATE:20260522
END:VEVENT
BEGIN:VEVENT
UID:69e4de74c8e1b
DTSTAMP:20260419T135356Z
SUMMARY:KONKURADO: Schloss Laufen am Rheinfall\, Dachsen\, Gesamterneuerung
 \, Vorgesehene Frist für die Einreichung des Angebots 14.08.2026 - 14.08.
 2026
DESCRIPTION:Link zum Verfahren: https://konkurado.ch/de/schloss-laufen-am-r
 heinfall-dachsen-gesamterneuerung
X-MICROSOFT-CDO-ALLDAYEVENT:TRUE
DTSTART;TZID=Europe/Zurich;VALUE=DATE:20260814
END:VEVENT
BEGIN:VEVENT
UID:69e4de74c8e4d
DTSTAMP:20260419T135356Z
SUMMARY:KONKURADO: Schloss Laufen am Rheinfall\, Dachsen\, Gesamterneuerung
 \, Vorgesehene Frist für die Einreichung des Angebots 14.08.2026 - 14.08.
 2026
DESCRIPTION:Link zum Verfahren: https://konkurado.ch/de/schloss-laufen-am-r
 heinfall-dachsen-gesamterneuerung
X-MICROSOFT-CDO-ALLDAYEVENT:TRUE
DTSTART;TZID=Europe/Zurich;VALUE=DATE:20260814
END:VEVENT
BEGIN:VEVENT
UID:69e4de74c8edd
DTSTAMP:20260419T135356Z
SUMMARY:KONKURADO: Schloss Laufen am Rheinfall\, Dachsen\, Gesamterneuerung
 \, Verfügbarkeit der Ausschreibungsunterlagen 17.04.2026 - 22.05.2026
DESCRIPTION:Link zum Verfahren: https://konkurado.ch/de/schloss-laufen-am-r
 heinfall-dachsen-gesamterneuerung
X-MICROSOFT-CDO-ALLDAYEVENT:TRUE
DTSTART;TZID=Europe/Zurich;VALUE=DATE:20260417
END:VEVENT
BEGIN:VEVENT
UID:69e4de74c8f1d
DTSTAMP:20260419T135356Z
SUMMARY:KONKURADO: Schloss Laufen am Rheinfall\, Dachsen\, Gesamterneuerung
 \, Verfügbarkeit der Ausschreibungsunterlagen 17.04.2026 - 22.05.2026
DESCRIPTION:Link zum Verfahren: https://konkurado.ch/de/schloss-laufen-am-r
 heinfall-dachsen-gesamterneuerung
X-MICROSOFT-CDO-ALLDAYEVENT:TRUE
DTSTART;TZID=Europe/Zurich;VALUE=DATE:20260522
END:VEVENT
BEGIN:VEVENT
UID:69e4de74c8f91
DTSTAMP:20260419T135356Z
SUMMARY:KONKURADO: Schloss Laufen am Rheinfall\, Dachsen\, Gesamterneuerung
 \, Abgabe der Unterlagen\; 2. Phase - Angebot 15.06.2026 - 15.06.2026
DESCRIPTION:Link zum Verfahren: https://konkurado.ch/de/schloss-laufen-am-r
 heinfall-dachsen-gesamterneuerung
X-MICROSOFT-CDO-ALLDAYEVENT:TRUE
DTSTART;TZID=Europe/Zurich;VALUE=DATE:20260615
END:VEVENT
BEGIN:VEVENT
UID:69e4de74c8fbd
DTSTAMP:20260419T135356Z
SUMMARY:KONKURADO: Schloss Laufen am Rheinfall\, Dachsen\, Gesamterneuerung
 \, Abgabe der Unterlagen\; 2. Phase - Angebot 15.06.2026 - 15.06.2026
DESCRIPTION:Link zum Verfahren: https://konkurado.ch/de/schloss-laufen-am-r
 heinfall-dachsen-gesamterneuerung
X-MICROSOFT-CDO-ALLDAYEVENT:TRUE
DTSTART;TZID=Europe/Zurich;VALUE=DATE:20260615
END:VEVENT
BEGIN:VEVENT
UID:69e4de74c9015
DTSTAMP:20260419T135356Z
SUMMARY:KONKURADO: Schloss Laufen am Rheinfall\, Dachsen\, Gesamterneuerung
 \, Fragenstellung\; 2. Phase – Angebot 24.06.2026 - 24.06.2026
DESCRIPTION:Link zum Verfahren: https://konkurado.ch/de/schloss-laufen-am-r
 heinfall-dachsen-gesamterneuerung
X-MICROSOFT-CDO-ALLDAYEVENT:TRUE
DTSTART;TZID=Europe/Zurich;VALUE=DATE:20260624
END:VEVENT
BEGIN:VEVENT
UID:69e4de74c903f
DTSTAMP:20260419T135356Z
SUMMARY:KONKURADO: Schloss Laufen am Rheinfall\, Dachsen\, Gesamterneuerung
 \, Fragenstellung\; 2. Phase – Angebot 24.06.2026 - 24.06.2026
DESCRIPTION:Link zum Verfahren: https://konkurado.ch/de/schloss-laufen-am-r
 heinfall-dachsen-gesamterneuerung
X-MICROSOFT-CDO-ALLDAYEVENT:TRUE
DTSTART;TZID=Europe/Zurich;VALUE=DATE:20260624
END:VEVENT
BEGIN:VEVENT
UID:69e4de74c9093
DTSTAMP:20260419T135356Z
SUMMARY:KONKURADO: Schloss Laufen am Rheinfall\, Dachsen\, Gesamterneuerung
 \, Beantwortung der Fragen per E-Mail an alle Teilnehmenden\; 2. Phase –
  Angebot 08.07.2026 - 08.07.2026
DESCRIPTION:Link zum Verfahren: https://konkurado.ch/de/schloss-laufen-am-r
 heinfall-dachsen-gesamterneuerung
X-MICROSOFT-CDO-ALLDAYEVENT:TRUE
DTSTART;TZID=Europe/Zurich;VALUE=DATE:20260708
END:VEVENT
BEGIN:VEVENT
UID:69e4de74c90b9
DTSTAMP:20260419T135356Z
SUMMARY:KONKURADO: Schloss Laufen am Rheinfall\, Dachsen\, Gesamterneuerung
 \, Beantwortung der Fragen per E-Mail an alle Teilnehmenden\; 2. Phase –
  Angebot 08.07.2026 - 08.07.2026
DESCRIPTION:Link zum Verfahren: https://konkurado.ch/de/schloss-laufen-am-r
 heinfall-dachsen-gesamterneuerung
X-MICROSOFT-CDO-ALLDAYEVENT:TRUE
DTSTART;TZID=Europe/Zurich;VALUE=DATE:20260708
END:VEVENT
BEGIN:VEVENT
UID:69e4de74c9112
DTSTAMP:20260419T135356Z
SUMMARY:KONKURADO: Schloss Laufen am Rheinfall\, Dachsen\, Gesamterneuerung
 \, Eingabetermin Präsentationsfolien\; 2. Phase – Angebot 08.09.2026 - 
 08.09.2026
DESCRIPTION:Link zum Verfahren: https://konkurado.ch/de/schloss-laufen-am-r
 heinfall-dachsen-gesamterneuerung
X-MICROSOFT-CDO-ALLDAYEVENT:TRUE
DTSTART;TZID=Europe/Zurich;VALUE=DATE:20260908
END:VEVENT
BEGIN:VEVENT
UID:69e4de74c9139
DTSTAMP:20260419T135356Z
SUMMARY:KONKURADO: Schloss Laufen am Rheinfall\, Dachsen\, Gesamterneuerung
 \, Eingabetermin Präsentationsfolien\; 2. Phase – Angebot 08.09.2026 - 
 08.09.2026
DESCRIPTION:Link zum Verfahren: https://konkurado.ch/de/schloss-laufen-am-r
 heinfall-dachsen-gesamterneuerung
X-MICROSOFT-CDO-ALLDAYEVENT:TRUE
DTSTART;TZID=Europe/Zurich;VALUE=DATE:20260908
END:VEVENT
BEGIN:VEVENT
UID:69e4de74c9194
DTSTAMP:20260419T135356Z
SUMMARY:KONKURADO: Schloss Laufen am Rheinfall\, Dachsen\, Gesamterneuerung
 \, Präsentation der Eingaben durch die Teilnehmenden\, Bewertung\; 2. Pha
 se – Angebot 10.09.2026 - 10.09.2026
DESCRIPTION:Link zum Verfahren: https://konkurado.ch/de/schloss-laufen-am-r
 heinfall-dachsen-gesamterneuerung
X-MICROSOFT-CDO-ALLDAYEVENT:TRUE
DTSTART;TZID=Europe/Zurich;VALUE=DATE:20260910
END:VEVENT
BEGIN:VEVENT
UID:69e4de74c91c8
DTSTAMP:20260419T135356Z
SUMMARY:KONKURADO: Schloss Laufen am Rheinfall\, Dachsen\, Gesamterneuerung
 \, Präsentation der Eingaben durch die Teilnehmenden\, Bewertung\; 2. Pha
 se – Angebot 10.09.2026 - 10.09.2026
DESCRIPTION:Link zum Verfahren: https://konkurado.ch/de/schloss-laufen-am-r
 heinfall-dachsen-gesamterneuerung
X-MICROSOFT-CDO-ALLDAYEVENT:TRUE
DTSTART;TZID=Europe/Zurich;VALUE=DATE:20260910
END:VEVENT
END:VCALENDAR