BEGIN:VCALENDAR
VERSION:2.0
PRODID:spatie/icalendar-generator
NAME:Sanierung und Erweiterung der Schulanlage Oberstufe Schönau Steffisbu
 rg
X-WR-CALNAME:Sanierung und Erweiterung der Schulanlage Oberstufe Schönau S
 teffisburg
BEGIN:VTIMEZONE
TZID:Europe/Zurich
BEGIN:STANDARD
DTSTART:20241027T030000
TZOFFSETFROM:+0200
TZOFFSETTO:+0100
END:STANDARD
BEGIN:DAYLIGHT
DTSTART:20250330T010000
TZOFFSETFROM:+0100
TZOFFSETTO:+0200
END:DAYLIGHT
BEGIN:STANDARD
DTSTART:20251026T030000
TZOFFSETFROM:+0200
TZOFFSETTO:+0100
END:STANDARD
BEGIN:DAYLIGHT
DTSTART:20260329T010000
TZOFFSETFROM:+0100
TZOFFSETTO:+0200
END:DAYLIGHT
END:VTIMEZONE
BEGIN:VTIMEZONE
TZID:UTC
BEGIN:STANDARD
DTSTART:20250727T133047
TZOFFSETFROM:+0000
TZOFFSETTO:+0000
END:STANDARD
END:VTIMEZONE
BEGIN:VEVENT
UID:69ea1f0756edf
DTSTAMP:20260423T133047Z
SUMMARY:KONKURADO: Sanierung und Erweiterung der Schulanlage Oberstufe Sch
 önau Steffisburg\, Eingabe der Bewerbungen 15.04.2025 - 14.05.2025
DESCRIPTION:Link zum Verfahren: https://konkurado.ch/de/sanierung-und-erwei
 terung-der-schulanlage-oberstufe-schonau-steffisburg
X-MICROSOFT-CDO-ALLDAYEVENT:TRUE
DTSTART;TZID=Europe/Zurich;VALUE=DATE:20250415
END:VEVENT
BEGIN:VEVENT
UID:69ea1f0756f67
DTSTAMP:20260423T133047Z
SUMMARY:KONKURADO: Sanierung und Erweiterung der Schulanlage Oberstufe Sch
 önau Steffisburg\, Eingabe der Bewerbungen 15.04.2025 - 14.05.2025
DESCRIPTION:Link zum Verfahren: https://konkurado.ch/de/sanierung-und-erwei
 terung-der-schulanlage-oberstufe-schonau-steffisburg
X-MICROSOFT-CDO-ALLDAYEVENT:TRUE
DTSTART;TZID=Europe/Zurich;VALUE=DATE:20250514
END:VEVENT
BEGIN:VEVENT
UID:69ea1f0756fbb
DTSTAMP:20260423T133047Z
SUMMARY:KONKURADO: Sanierung und Erweiterung der Schulanlage Oberstufe Sch
 önau Steffisburg\, Fragenstellung bis 04.06.2025 - 20.06.2025
DESCRIPTION:Link zum Verfahren: https://konkurado.ch/de/sanierung-und-erwei
 terung-der-schulanlage-oberstufe-schonau-steffisburg
X-MICROSOFT-CDO-ALLDAYEVENT:TRUE
DTSTART;TZID=Europe/Zurich;VALUE=DATE:20250604
END:VEVENT
BEGIN:VEVENT
UID:69ea1f0756fe3
DTSTAMP:20260423T133047Z
SUMMARY:KONKURADO: Sanierung und Erweiterung der Schulanlage Oberstufe Sch
 önau Steffisburg\, Fragenstellung bis 04.06.2025 - 20.06.2025
DESCRIPTION:Link zum Verfahren: https://konkurado.ch/de/sanierung-und-erwei
 terung-der-schulanlage-oberstufe-schonau-steffisburg
X-MICROSOFT-CDO-ALLDAYEVENT:TRUE
DTSTART;TZID=Europe/Zurich;VALUE=DATE:20250620
END:VEVENT
BEGIN:VEVENT
UID:69ea1f075702c
DTSTAMP:20260423T133047Z
SUMMARY:KONKURADO: Sanierung und Erweiterung der Schulanlage Oberstufe Sch
 önau Steffisburg\, Abgabe Unterlagen Zwischenbesprechung 04.06.2025 - 25.
 08.2025
DESCRIPTION:Link zum Verfahren: https://konkurado.ch/de/sanierung-und-erwei
 terung-der-schulanlage-oberstufe-schonau-steffisburg
X-MICROSOFT-CDO-ALLDAYEVENT:TRUE
DTSTART;TZID=Europe/Zurich;VALUE=DATE:20250604
END:VEVENT
BEGIN:VEVENT
UID:69ea1f0757051
DTSTAMP:20260423T133047Z
SUMMARY:KONKURADO: Sanierung und Erweiterung der Schulanlage Oberstufe Sch
 önau Steffisburg\, Abgabe Unterlagen Zwischenbesprechung 04.06.2025 - 25.
 08.2025
DESCRIPTION:Link zum Verfahren: https://konkurado.ch/de/sanierung-und-erwei
 terung-der-schulanlage-oberstufe-schonau-steffisburg
X-MICROSOFT-CDO-ALLDAYEVENT:TRUE
DTSTART;TZID=Europe/Zurich;VALUE=DATE:20250825
END:VEVENT
BEGIN:VEVENT
UID:69ea1f07571c4
DTSTAMP:20260423T133047Z
SUMMARY:KONKURADO: Sanierung und Erweiterung der Schulanlage Oberstufe Sch
 önau Steffisburg\, Versand Programm und Unterlagen 04.06.2025 - 04.06.202
 5
DESCRIPTION:Link zum Verfahren: https://konkurado.ch/de/sanierung-und-erwei
 terung-der-schulanlage-oberstufe-schonau-steffisburg
X-MICROSOFT-CDO-ALLDAYEVENT:TRUE
DTSTART;TZID=Europe/Zurich;VALUE=DATE:20250604
END:VEVENT
BEGIN:VEVENT
UID:69ea1f07571ee
DTSTAMP:20260423T133047Z
SUMMARY:KONKURADO: Sanierung und Erweiterung der Schulanlage Oberstufe Sch
 önau Steffisburg\, Versand Programm und Unterlagen 04.06.2025 - 04.06.202
 5
DESCRIPTION:Link zum Verfahren: https://konkurado.ch/de/sanierung-und-erwei
 terung-der-schulanlage-oberstufe-schonau-steffisburg
X-MICROSOFT-CDO-ALLDAYEVENT:TRUE
DTSTART;TZID=Europe/Zurich;VALUE=DATE:20250604
END:VEVENT
BEGIN:VEVENT
UID:69ea1f075724d
DTSTAMP:20260423T133047Z
SUMMARY:KONKURADO: Sanierung und Erweiterung der Schulanlage Oberstufe Sch
 önau Steffisburg\, Startkolloquium mit Begehung 16.06.2025 - 16.06.2025
DESCRIPTION:Link zum Verfahren: https://konkurado.ch/de/sanierung-und-erwei
 terung-der-schulanlage-oberstufe-schonau-steffisburg
X-MICROSOFT-CDO-ALLDAYEVENT:TRUE
DTSTART;TZID=Europe/Zurich;VALUE=DATE:20250616
END:VEVENT
BEGIN:VEVENT
UID:69ea1f0757273
DTSTAMP:20260423T133047Z
SUMMARY:KONKURADO: Sanierung und Erweiterung der Schulanlage Oberstufe Sch
 önau Steffisburg\, Startkolloquium mit Begehung 16.06.2025 - 16.06.2025
DESCRIPTION:Link zum Verfahren: https://konkurado.ch/de/sanierung-und-erwei
 terung-der-schulanlage-oberstufe-schonau-steffisburg
X-MICROSOFT-CDO-ALLDAYEVENT:TRUE
DTSTART;TZID=Europe/Zurich;VALUE=DATE:20250616
END:VEVENT
BEGIN:VEVENT
UID:69ea1f07572c8
DTSTAMP:20260423T133047Z
SUMMARY:KONKURADO: Sanierung und Erweiterung der Schulanlage Oberstufe Sch
 önau Steffisburg\, Fragenbeantwortung 21.06.2025 - 27.06.2025
DESCRIPTION:Link zum Verfahren: https://konkurado.ch/de/sanierung-und-erwei
 terung-der-schulanlage-oberstufe-schonau-steffisburg
X-MICROSOFT-CDO-ALLDAYEVENT:TRUE
DTSTART;TZID=Europe/Zurich;VALUE=DATE:20250621
END:VEVENT
BEGIN:VEVENT
UID:69ea1f07572ee
DTSTAMP:20260423T133047Z
SUMMARY:KONKURADO: Sanierung und Erweiterung der Schulanlage Oberstufe Sch
 önau Steffisburg\, Fragenbeantwortung 21.06.2025 - 27.06.2025
DESCRIPTION:Link zum Verfahren: https://konkurado.ch/de/sanierung-und-erwei
 terung-der-schulanlage-oberstufe-schonau-steffisburg
X-MICROSOFT-CDO-ALLDAYEVENT:TRUE
DTSTART;TZID=Europe/Zurich;VALUE=DATE:20250627
END:VEVENT
BEGIN:VEVENT
UID:69ea1f0757341
DTSTAMP:20260423T133047Z
SUMMARY:KONKURADO: Sanierung und Erweiterung der Schulanlage Oberstufe Sch
 önau Steffisburg\, Zwischenbesprechung 08.09.2025 - 08.09.2025
DESCRIPTION:Link zum Verfahren: https://konkurado.ch/de/sanierung-und-erwei
 terung-der-schulanlage-oberstufe-schonau-steffisburg
X-MICROSOFT-CDO-ALLDAYEVENT:TRUE
DTSTART;TZID=Europe/Zurich;VALUE=DATE:20250908
END:VEVENT
BEGIN:VEVENT
UID:69ea1f0757367
DTSTAMP:20260423T133047Z
SUMMARY:KONKURADO: Sanierung und Erweiterung der Schulanlage Oberstufe Sch
 önau Steffisburg\, Zwischenbesprechung 08.09.2025 - 08.09.2025
DESCRIPTION:Link zum Verfahren: https://konkurado.ch/de/sanierung-und-erwei
 terung-der-schulanlage-oberstufe-schonau-steffisburg
X-MICROSOFT-CDO-ALLDAYEVENT:TRUE
DTSTART;TZID=Europe/Zurich;VALUE=DATE:20250908
END:VEVENT
BEGIN:VEVENT
UID:69ea1f0757397
DTSTAMP:20260423T133047Z
SUMMARY:KONKURADO: Sanierung und Erweiterung der Schulanlage Oberstufe Sch
 önau Steffisburg\, Abgabe Projektdossier 09.09.2025 - 01.12.2025
DESCRIPTION:Link zum Verfahren: https://konkurado.ch/de/sanierung-und-erwei
 terung-der-schulanlage-oberstufe-schonau-steffisburg
X-MICROSOFT-CDO-ALLDAYEVENT:TRUE
DTSTART;TZID=Europe/Zurich;VALUE=DATE:20250909
END:VEVENT
BEGIN:VEVENT
UID:69ea1f07573be
DTSTAMP:20260423T133047Z
SUMMARY:KONKURADO: Sanierung und Erweiterung der Schulanlage Oberstufe Sch
 önau Steffisburg\, Abgabe Projektdossier 09.09.2025 - 01.12.2025
DESCRIPTION:Link zum Verfahren: https://konkurado.ch/de/sanierung-und-erwei
 terung-der-schulanlage-oberstufe-schonau-steffisburg
X-MICROSOFT-CDO-ALLDAYEVENT:TRUE
DTSTART;TZID=Europe/Zurich;VALUE=DATE:20251201
END:VEVENT
BEGIN:VEVENT
UID:69ea1f0757410
DTSTAMP:20260423T133047Z
SUMMARY:KONKURADO: Sanierung und Erweiterung der Schulanlage Oberstufe Sch
 önau Steffisburg\, Abgabe Modell 16.06.2025 - 15.12.2025
DESCRIPTION:Link zum Verfahren: https://konkurado.ch/de/sanierung-und-erwei
 terung-der-schulanlage-oberstufe-schonau-steffisburg
X-MICROSOFT-CDO-ALLDAYEVENT:TRUE
DTSTART;TZID=Europe/Zurich;VALUE=DATE:20250616
END:VEVENT
BEGIN:VEVENT
UID:69ea1f0757436
DTSTAMP:20260423T133047Z
SUMMARY:KONKURADO: Sanierung und Erweiterung der Schulanlage Oberstufe Sch
 önau Steffisburg\, Abgabe Modell 16.06.2025 - 15.12.2025
DESCRIPTION:Link zum Verfahren: https://konkurado.ch/de/sanierung-und-erwei
 terung-der-schulanlage-oberstufe-schonau-steffisburg
X-MICROSOFT-CDO-ALLDAYEVENT:TRUE
DTSTART;TZID=Europe/Zurich;VALUE=DATE:20251215
END:VEVENT
END:VCALENDAR