BEGIN:VCALENDAR
VERSION:2.0
PRODID:spatie/icalendar-generator
NAME:Rénovation énergétique Rhône 29 - Marché d'architecte
X-WR-CALNAME:Rénovation énergétique Rhône 29 - Marché d'architecte
BEGIN:VTIMEZONE
TZID:Europe/Zurich
BEGIN:STANDARD
DTSTART:20251026T030000
TZOFFSETFROM:+0200
TZOFFSETTO:+0100
END:STANDARD
BEGIN:DAYLIGHT
DTSTART:20260329T010000
TZOFFSETFROM:+0100
TZOFFSETTO:+0200
END:DAYLIGHT
END:VTIMEZONE
BEGIN:VTIMEZONE
TZID:UTC
BEGIN:STANDARD
DTSTART:20250725T181643
TZOFFSETFROM:+0000
TZOFFSETTO:+0000
END:STANDARD
END:VTIMEZONE
BEGIN:VEVENT
UID:69e7bf0b567c2
DTSTAMP:20260421T181643Z
SUMMARY:KONKURADO: Rénovation énergétique Rhône 29 - Marché d'architec
 te\, Session de questions\, soumettre avant 20.02.2026 - 20.02.2026
DESCRIPTION:Link zum Verfahren: https://konkurado.ch/de/renovation-energeti
 que-rhone-29-marche-darchitecte
X-MICROSOFT-CDO-ALLDAYEVENT:TRUE
DTSTART;TZID=Europe/Zurich;VALUE=DATE:20260220
END:VEVENT
BEGIN:VEVENT
UID:69e7bf0b5685f
DTSTAMP:20260421T181643Z
SUMMARY:KONKURADO: Rénovation énergétique Rhône 29 - Marché d'architec
 te\, Session de questions\, soumettre avant 20.02.2026 - 20.02.2026
DESCRIPTION:Link zum Verfahren: https://konkurado.ch/de/renovation-energeti
 que-rhone-29-marche-darchitecte
X-MICROSOFT-CDO-ALLDAYEVENT:TRUE
DTSTART;TZID=Europe/Zurich;VALUE=DATE:20260220
END:VEVENT
BEGIN:VEVENT
UID:69e7bf0b568d8
DTSTAMP:20260421T181643Z
SUMMARY:KONKURADO: Rénovation énergétique Rhône 29 - Marché d'architec
 te\, Soumission de la demande de participation 23.03.2026 - 23.03.2026
DESCRIPTION:Link zum Verfahren: https://konkurado.ch/de/renovation-energeti
 que-rhone-29-marche-darchitecte
X-MICROSOFT-CDO-ALLDAYEVENT:TRUE
DTSTART;TZID=Europe/Zurich;VALUE=DATE:20260323
END:VEVENT
BEGIN:VEVENT
UID:69e7bf0b56900
DTSTAMP:20260421T181643Z
SUMMARY:KONKURADO: Rénovation énergétique Rhône 29 - Marché d'architec
 te\, Soumission de la demande de participation 23.03.2026 - 23.03.2026
DESCRIPTION:Link zum Verfahren: https://konkurado.ch/de/renovation-energeti
 que-rhone-29-marche-darchitecte
X-MICROSOFT-CDO-ALLDAYEVENT:TRUE
DTSTART;TZID=Europe/Zurich;VALUE=DATE:20260323
END:VEVENT
END:VCALENDAR