BEGIN:VCALENDAR
VERSION:2.0
PRODID:spatie/icalendar-generator
NAME:Rinnovamento catastale della misurazione ufficiale nel Comune di Ronco
  s/Ascona\, lotto 5
X-WR-CALNAME:Rinnovamento catastale della misurazione ufficiale nel Comune 
 di Ronco s/Ascona\, lotto 5
BEGIN:VTIMEZONE
TZID:Europe/Zurich
BEGIN:STANDARD
DTSTART:20251026T030000
TZOFFSETFROM:+0200
TZOFFSETTO:+0100
END:STANDARD
BEGIN:DAYLIGHT
DTSTART:20260329T010000
TZOFFSETFROM:+0100
TZOFFSETTO:+0200
END:DAYLIGHT
BEGIN:STANDARD
DTSTART:20261025T030000
TZOFFSETFROM:+0200
TZOFFSETTO:+0100
END:STANDARD
END:VTIMEZONE
BEGIN:VTIMEZONE
TZID:UTC
BEGIN:STANDARD
DTSTART:20250723T135458
TZOFFSETFROM:+0000
TZOFFSETTO:+0000
END:STANDARD
END:VTIMEZONE
BEGIN:VEVENT
UID:69e4deb29ad69
DTSTAMP:20260419T135458Z
SUMMARY:KONKURADO: Rinnovamento catastale della misurazione ufficiale nel C
 omune di Ronco s/Ascona\, lotto 5\, invio delle offerte 25.05.2026 - 25.05
 .2026
DESCRIPTION:Link zum Verfahren: https://konkurado.ch/de/renouvellement-parc
 ellaire-de-la-mensuration-officielle-sur-tout-le-territoire-communal-de-ro
 nco-sascona
X-MICROSOFT-CDO-ALLDAYEVENT:TRUE
DTSTART;TZID=Europe/Zurich;VALUE=DATE:20260525
END:VEVENT
BEGIN:VEVENT
UID:69e4deb29adf3
DTSTAMP:20260419T135458Z
SUMMARY:KONKURADO: Rinnovamento catastale della misurazione ufficiale nel C
 omune di Ronco s/Ascona\, lotto 5\, invio delle offerte 25.05.2026 - 25.05
 .2026
DESCRIPTION:Link zum Verfahren: https://konkurado.ch/de/renouvellement-parc
 ellaire-de-la-mensuration-officielle-sur-tout-le-territoire-communal-de-ro
 nco-sascona
X-MICROSOFT-CDO-ALLDAYEVENT:TRUE
DTSTART;TZID=Europe/Zurich;VALUE=DATE:20260525
END:VEVENT
BEGIN:VEVENT
UID:69e4deb29ae65
DTSTAMP:20260419T135458Z
SUMMARY:KONKURADO: Rinnovamento catastale della misurazione ufficiale nel C
 omune di Ronco s/Ascona\, lotto 5\, Apertura offerte 25.05.2026 - 25.05.20
 26
DESCRIPTION:Link zum Verfahren: https://konkurado.ch/de/renouvellement-parc
 ellaire-de-la-mensuration-officielle-sur-tout-le-territoire-communal-de-ro
 nco-sascona
X-MICROSOFT-CDO-ALLDAYEVENT:TRUE
DTSTART;TZID=Europe/Zurich;VALUE=DATE:20260525
END:VEVENT
BEGIN:VEVENT
UID:69e4deb29ae92
DTSTAMP:20260419T135458Z
SUMMARY:KONKURADO: Rinnovamento catastale della misurazione ufficiale nel C
 omune di Ronco s/Ascona\, lotto 5\, Apertura offerte 25.05.2026 - 25.05.20
 26
DESCRIPTION:Link zum Verfahren: https://konkurado.ch/de/renouvellement-parc
 ellaire-de-la-mensuration-officielle-sur-tout-le-territoire-communal-de-ro
 nco-sascona
X-MICROSOFT-CDO-ALLDAYEVENT:TRUE
DTSTART;TZID=Europe/Zurich;VALUE=DATE:20260525
END:VEVENT
BEGIN:VEVENT
UID:69e4deb29aeec
DTSTAMP:20260419T135458Z
SUMMARY:KONKURADO: Rinnovamento catastale della misurazione ufficiale nel C
 omune di Ronco s/Ascona\, lotto 5\, Disponibilità dei documenti di gara 1
 4.04.2026 - 22.05.2026
DESCRIPTION:Link zum Verfahren: https://konkurado.ch/de/renouvellement-parc
 ellaire-de-la-mensuration-officielle-sur-tout-le-territoire-communal-de-ro
 nco-sascona
X-MICROSOFT-CDO-ALLDAYEVENT:TRUE
DTSTART;TZID=Europe/Zurich;VALUE=DATE:20260414
END:VEVENT
BEGIN:VEVENT
UID:69e4deb29af11
DTSTAMP:20260419T135458Z
SUMMARY:KONKURADO: Rinnovamento catastale della misurazione ufficiale nel C
 omune di Ronco s/Ascona\, lotto 5\, Disponibilità dei documenti di gara 1
 4.04.2026 - 22.05.2026
DESCRIPTION:Link zum Verfahren: https://konkurado.ch/de/renouvellement-parc
 ellaire-de-la-mensuration-officielle-sur-tout-le-territoire-communal-de-ro
 nco-sascona
X-MICROSOFT-CDO-ALLDAYEVENT:TRUE
DTSTART;TZID=Europe/Zurich;VALUE=DATE:20260522
END:VEVENT
END:VCALENDAR