BEGIN:VCALENDAR
VERSION:2.0
PRODID:spatie/icalendar-generator
NAME:Renouvellement et création d'une gare de croisement à Six-Fontaines 
 LHand – Lots 1 et 2 - Prestations d’ingénieur spécialisé et directi
 on générale de projet phases 41 à 53
X-WR-CALNAME:Renouvellement et création d'une gare de croisement à Six-Fo
 ntaines LHand – Lots 1 et 2 - Prestations d’ingénieur spécialisé et
  direction générale de projet phases 41 à 53
BEGIN:VTIMEZONE
TZID:Europe/Zurich
BEGIN:STANDARD
DTSTART:20251026T030000
TZOFFSETFROM:+0200
TZOFFSETTO:+0100
END:STANDARD
BEGIN:DAYLIGHT
DTSTART:20260329T010000
TZOFFSETFROM:+0100
TZOFFSETTO:+0200
END:DAYLIGHT
BEGIN:STANDARD
DTSTART:20261025T030000
TZOFFSETFROM:+0200
TZOFFSETTO:+0100
END:STANDARD
END:VTIMEZONE
BEGIN:VTIMEZONE
TZID:UTC
BEGIN:STANDARD
DTSTART:20250723T135513
TZOFFSETFROM:+0000
TZOFFSETTO:+0000
END:STANDARD
END:VTIMEZONE
BEGIN:VEVENT
UID:69e4dec19ed72
DTSTAMP:20260419T135513Z
SUMMARY:KONKURADO: Renouvellement et création d'une gare de croisement à 
 Six-Fontaines LHand – Lots 1 et 2 - Prestations d’ingénieur spéciali
 sé et direction générale de projet phases 41 à 53\, Session de questio
 ns\, soumettre avant 30.04.2026 - 30.04.2026
DESCRIPTION:Link zum Verfahren: https://konkurado.ch/de/renouvellement-et-c
 reation-dune-gare-de-croisement-a-six-fontaines-lhand-lots-1-et-2-prestati
 ons-dingenieur-specialise-et-direction-generale-de-projet-phases-41-a-53
X-MICROSOFT-CDO-ALLDAYEVENT:TRUE
DTSTART;TZID=Europe/Zurich;VALUE=DATE:20260430
END:VEVENT
BEGIN:VEVENT
UID:69e4dec19ee1d
DTSTAMP:20260419T135513Z
SUMMARY:KONKURADO: Renouvellement et création d'une gare de croisement à 
 Six-Fontaines LHand – Lots 1 et 2 - Prestations d’ingénieur spéciali
 sé et direction générale de projet phases 41 à 53\, Session de questio
 ns\, soumettre avant 30.04.2026 - 30.04.2026
DESCRIPTION:Link zum Verfahren: https://konkurado.ch/de/renouvellement-et-c
 reation-dune-gare-de-croisement-a-six-fontaines-lhand-lots-1-et-2-prestati
 ons-dingenieur-specialise-et-direction-generale-de-projet-phases-41-a-53
X-MICROSOFT-CDO-ALLDAYEVENT:TRUE
DTSTART;TZID=Europe/Zurich;VALUE=DATE:20260430
END:VEVENT
BEGIN:VEVENT
UID:69e4dec19eea7
DTSTAMP:20260419T135513Z
SUMMARY:KONKURADO: Renouvellement et création d'une gare de croisement à 
 Six-Fontaines LHand – Lots 1 et 2 - Prestations d’ingénieur spéciali
 sé et direction générale de projet phases 41 à 53\, Soumission des off
 res 22.05.2026 - 22.05.2026
DESCRIPTION:Link zum Verfahren: https://konkurado.ch/de/renouvellement-et-c
 reation-dune-gare-de-croisement-a-six-fontaines-lhand-lots-1-et-2-prestati
 ons-dingenieur-specialise-et-direction-generale-de-projet-phases-41-a-53
X-MICROSOFT-CDO-ALLDAYEVENT:TRUE
DTSTART;TZID=Europe/Zurich;VALUE=DATE:20260522
END:VEVENT
BEGIN:VEVENT
UID:69e4dec19eef5
DTSTAMP:20260419T135513Z
SUMMARY:KONKURADO: Renouvellement et création d'une gare de croisement à 
 Six-Fontaines LHand – Lots 1 et 2 - Prestations d’ingénieur spéciali
 sé et direction générale de projet phases 41 à 53\, Soumission des off
 res 22.05.2026 - 22.05.2026
DESCRIPTION:Link zum Verfahren: https://konkurado.ch/de/renouvellement-et-c
 reation-dune-gare-de-croisement-a-six-fontaines-lhand-lots-1-et-2-prestati
 ons-dingenieur-specialise-et-direction-generale-de-projet-phases-41-a-53
X-MICROSOFT-CDO-ALLDAYEVENT:TRUE
DTSTART;TZID=Europe/Zurich;VALUE=DATE:20260522
END:VEVENT
BEGIN:VEVENT
UID:69e4dec19ef82
DTSTAMP:20260419T135513Z
SUMMARY:KONKURADO: Renouvellement et création d'une gare de croisement à 
 Six-Fontaines LHand – Lots 1 et 2 - Prestations d’ingénieur spéciali
 sé et direction générale de projet phases 41 à 53\, Manifestation d’
 intérêt jusqu’à 30.04.2026 - 30.04.2026
DESCRIPTION:Link zum Verfahren: https://konkurado.ch/de/renouvellement-et-c
 reation-dune-gare-de-croisement-a-six-fontaines-lhand-lots-1-et-2-prestati
 ons-dingenieur-specialise-et-direction-generale-de-projet-phases-41-a-53
X-MICROSOFT-CDO-ALLDAYEVENT:TRUE
DTSTART;TZID=Europe/Zurich;VALUE=DATE:20260430
END:VEVENT
BEGIN:VEVENT
UID:69e4dec19efbc
DTSTAMP:20260419T135513Z
SUMMARY:KONKURADO: Renouvellement et création d'une gare de croisement à 
 Six-Fontaines LHand – Lots 1 et 2 - Prestations d’ingénieur spéciali
 sé et direction générale de projet phases 41 à 53\, Manifestation d’
 intérêt jusqu’à 30.04.2026 - 30.04.2026
DESCRIPTION:Link zum Verfahren: https://konkurado.ch/de/renouvellement-et-c
 reation-dune-gare-de-croisement-a-six-fontaines-lhand-lots-1-et-2-prestati
 ons-dingenieur-specialise-et-direction-generale-de-projet-phases-41-a-53
X-MICROSOFT-CDO-ALLDAYEVENT:TRUE
DTSTART;TZID=Europe/Zurich;VALUE=DATE:20260430
END:VEVENT
BEGIN:VEVENT
UID:69e4dec19f01e
DTSTAMP:20260419T135513Z
SUMMARY:KONKURADO: Renouvellement et création d'une gare de croisement à 
 Six-Fontaines LHand – Lots 1 et 2 - Prestations d’ingénieur spéciali
 sé et direction générale de projet phases 41 à 53\, Disponibilité des
  documents d’appel d’offres 17.04.2026 - 31.05.2026
DESCRIPTION:Link zum Verfahren: https://konkurado.ch/de/renouvellement-et-c
 reation-dune-gare-de-croisement-a-six-fontaines-lhand-lots-1-et-2-prestati
 ons-dingenieur-specialise-et-direction-generale-de-projet-phases-41-a-53
X-MICROSOFT-CDO-ALLDAYEVENT:TRUE
DTSTART;TZID=Europe/Zurich;VALUE=DATE:20260417
END:VEVENT
BEGIN:VEVENT
UID:69e4dec19f044
DTSTAMP:20260419T135513Z
SUMMARY:KONKURADO: Renouvellement et création d'une gare de croisement à 
 Six-Fontaines LHand – Lots 1 et 2 - Prestations d’ingénieur spéciali
 sé et direction générale de projet phases 41 à 53\, Disponibilité des
  documents d’appel d’offres 17.04.2026 - 31.05.2026
DESCRIPTION:Link zum Verfahren: https://konkurado.ch/de/renouvellement-et-c
 reation-dune-gare-de-croisement-a-six-fontaines-lhand-lots-1-et-2-prestati
 ons-dingenieur-specialise-et-direction-generale-de-projet-phases-41-a-53
X-MICROSOFT-CDO-ALLDAYEVENT:TRUE
DTSTART;TZID=Europe/Zurich;VALUE=DATE:20260531
END:VEVENT
END:VCALENDAR