BEGIN:VCALENDAR
VERSION:2.0
PRODID:spatie/icalendar-generator
NAME:Réaménagement de la place Chauderon
X-WR-CALNAME:Réaménagement de la place Chauderon
BEGIN:VTIMEZONE
TZID:Europe/Zurich
BEGIN:STANDARD
DTSTART:20241027T030000
TZOFFSETFROM:+0200
TZOFFSETTO:+0100
END:STANDARD
BEGIN:DAYLIGHT
DTSTART:20250330T010000
TZOFFSETFROM:+0100
TZOFFSETTO:+0200
END:DAYLIGHT
BEGIN:STANDARD
DTSTART:20251026T030000
TZOFFSETFROM:+0200
TZOFFSETTO:+0100
END:STANDARD
BEGIN:DAYLIGHT
DTSTART:20260329T010000
TZOFFSETFROM:+0100
TZOFFSETTO:+0200
END:DAYLIGHT
BEGIN:STANDARD
DTSTART:20261025T030000
TZOFFSETFROM:+0200
TZOFFSETTO:+0100
END:STANDARD
END:VTIMEZONE
BEGIN:VTIMEZONE
TZID:UTC
BEGIN:STANDARD
DTSTART:20250728T141728
TZOFFSETFROM:+0000
TZOFFSETTO:+0000
END:STANDARD
END:VTIMEZONE
BEGIN:VEVENT
UID:69eb7b78037ab
DTSTAMP:20260424T141728Z
SUMMARY:KONKURADO: Réaménagement de la place Chauderon\, Délai pour le d
 épôt des demandes de candidatures 01.07.2025 - 02.09.2025
DESCRIPTION:Link zum Verfahren: https://konkurado.ch/de/reamenagement-de-la
 -place-chauderon
X-MICROSOFT-CDO-ALLDAYEVENT:TRUE
DTSTART;TZID=Europe/Zurich;VALUE=DATE:20250701
END:VEVENT
BEGIN:VEVENT
UID:69eb7b7803839
DTSTAMP:20260424T141728Z
SUMMARY:KONKURADO: Réaménagement de la place Chauderon\, Délai pour le d
 épôt des demandes de candidatures 01.07.2025 - 02.09.2025
DESCRIPTION:Link zum Verfahren: https://konkurado.ch/de/reamenagement-de-la
 -place-chauderon
X-MICROSOFT-CDO-ALLDAYEVENT:TRUE
DTSTART;TZID=Europe/Zurich;VALUE=DATE:20250902
END:VEVENT
BEGIN:VEVENT
UID:69eb7b78039c2
DTSTAMP:20260424T141728Z
SUMMARY:KONKURADO: Réaménagement de la place Chauderon\, Sélection des c
 andidats admis aux MEP 15.09.2025 - 15.09.2025
DESCRIPTION:Link zum Verfahren: https://konkurado.ch/de/reamenagement-de-la
 -place-chauderon
X-MICROSOFT-CDO-ALLDAYEVENT:TRUE
DTSTART;TZID=Europe/Zurich;VALUE=DATE:20250915
END:VEVENT
BEGIN:VEVENT
UID:69eb7b78039ef
DTSTAMP:20260424T141728Z
SUMMARY:KONKURADO: Réaménagement de la place Chauderon\, Sélection des c
 andidats admis aux MEP 15.09.2025 - 15.09.2025
DESCRIPTION:Link zum Verfahren: https://konkurado.ch/de/reamenagement-de-la
 -place-chauderon
X-MICROSOFT-CDO-ALLDAYEVENT:TRUE
DTSTART;TZID=Europe/Zurich;VALUE=DATE:20250915
END:VEVENT
BEGIN:VEVENT
UID:69eb7b7803a28
DTSTAMP:20260424T141728Z
SUMMARY:KONKURADO: Réaménagement de la place Chauderon\, Délai pour pose
 r des questions 09.10.2025 - 21.10.2025
DESCRIPTION:Link zum Verfahren: https://konkurado.ch/de/reamenagement-de-la
 -place-chauderon
X-MICROSOFT-CDO-ALLDAYEVENT:TRUE
DTSTART;TZID=Europe/Zurich;VALUE=DATE:20251009
END:VEVENT
BEGIN:VEVENT
UID:69eb7b7803a50
DTSTAMP:20260424T141728Z
SUMMARY:KONKURADO: Réaménagement de la place Chauderon\, Délai pour pose
 r des questions 09.10.2025 - 21.10.2025
DESCRIPTION:Link zum Verfahren: https://konkurado.ch/de/reamenagement-de-la
 -place-chauderon
X-MICROSOFT-CDO-ALLDAYEVENT:TRUE
DTSTART;TZID=Europe/Zurich;VALUE=DATE:20251021
END:VEVENT
BEGIN:VEVENT
UID:69eb7b7803a82
DTSTAMP:20260424T141728Z
SUMMARY:KONKURADO: Réaménagement de la place Chauderon\, Délai pour dép
 ôt des dossiers du 1er dialogue intermédiaire 09.10.2025 - 12.01.2026
DESCRIPTION:Link zum Verfahren: https://konkurado.ch/de/reamenagement-de-la
 -place-chauderon
X-MICROSOFT-CDO-ALLDAYEVENT:TRUE
DTSTART;TZID=Europe/Zurich;VALUE=DATE:20251009
END:VEVENT
BEGIN:VEVENT
UID:69eb7b7803aa7
DTSTAMP:20260424T141728Z
SUMMARY:KONKURADO: Réaménagement de la place Chauderon\, Délai pour dép
 ôt des dossiers du 1er dialogue intermédiaire 09.10.2025 - 12.01.2026
DESCRIPTION:Link zum Verfahren: https://konkurado.ch/de/reamenagement-de-la
 -place-chauderon
X-MICROSOFT-CDO-ALLDAYEVENT:TRUE
DTSTART;TZID=Europe/Zurich;VALUE=DATE:20260112
END:VEVENT
BEGIN:VEVENT
UID:69eb7b7803b06
DTSTAMP:20260424T141728Z
SUMMARY:KONKURADO: Réaménagement de la place Chauderon\, Lancement des ME
 P 09.10.2025 - 09.10.2025
DESCRIPTION:Link zum Verfahren: https://konkurado.ch/de/reamenagement-de-la
 -place-chauderon
X-MICROSOFT-CDO-ALLDAYEVENT:TRUE
DTSTART;TZID=Europe/Zurich;VALUE=DATE:20251009
END:VEVENT
BEGIN:VEVENT
UID:69eb7b7803b2c
DTSTAMP:20260424T141728Z
SUMMARY:KONKURADO: Réaménagement de la place Chauderon\, Lancement des ME
 P 09.10.2025 - 09.10.2025
DESCRIPTION:Link zum Verfahren: https://konkurado.ch/de/reamenagement-de-la
 -place-chauderon
X-MICROSOFT-CDO-ALLDAYEVENT:TRUE
DTSTART;TZID=Europe/Zurich;VALUE=DATE:20251009
END:VEVENT
BEGIN:VEVENT
UID:69eb7b7803b85
DTSTAMP:20260424T141728Z
SUMMARY:KONKURADO: Réaménagement de la place Chauderon\, Visite sur le si
 te 09.10.2025 - 09.10.2025
DESCRIPTION:Link zum Verfahren: https://konkurado.ch/de/reamenagement-de-la
 -place-chauderon
X-MICROSOFT-CDO-ALLDAYEVENT:TRUE
DTSTART;TZID=Europe/Zurich;VALUE=DATE:20251009
END:VEVENT
BEGIN:VEVENT
UID:69eb7b7803bac
DTSTAMP:20260424T141728Z
SUMMARY:KONKURADO: Réaménagement de la place Chauderon\, Visite sur le si
 te 09.10.2025 - 09.10.2025
DESCRIPTION:Link zum Verfahren: https://konkurado.ch/de/reamenagement-de-la
 -place-chauderon
X-MICROSOFT-CDO-ALLDAYEVENT:TRUE
DTSTART;TZID=Europe/Zurich;VALUE=DATE:20251009
END:VEVENT
BEGIN:VEVENT
UID:69eb7b7803c01
DTSTAMP:20260424T141728Z
SUMMARY:KONKURADO: Réaménagement de la place Chauderon\, 1er Dialogue int
 ermédiaire 27.01.2026 - 27.01.2026
DESCRIPTION:Link zum Verfahren: https://konkurado.ch/de/reamenagement-de-la
 -place-chauderon
X-MICROSOFT-CDO-ALLDAYEVENT:TRUE
DTSTART;TZID=Europe/Zurich;VALUE=DATE:20260127
END:VEVENT
BEGIN:VEVENT
UID:69eb7b7803c27
DTSTAMP:20260424T141728Z
SUMMARY:KONKURADO: Réaménagement de la place Chauderon\, 1er Dialogue int
 ermédiaire 27.01.2026 - 27.01.2026
DESCRIPTION:Link zum Verfahren: https://konkurado.ch/de/reamenagement-de-la
 -place-chauderon
X-MICROSOFT-CDO-ALLDAYEVENT:TRUE
DTSTART;TZID=Europe/Zurich;VALUE=DATE:20260127
END:VEVENT
BEGIN:VEVENT
UID:69eb7b7803c56
DTSTAMP:20260424T141728Z
SUMMARY:KONKURADO: Réaménagement de la place Chauderon\, Délai pour dép
 ôt des dossiers du dialogue final 27.01.2026 - 27.04.2026
DESCRIPTION:Link zum Verfahren: https://konkurado.ch/de/reamenagement-de-la
 -place-chauderon
X-MICROSOFT-CDO-ALLDAYEVENT:TRUE
DTSTART;TZID=Europe/Zurich;VALUE=DATE:20260127
END:VEVENT
BEGIN:VEVENT
UID:69eb7b7803c7a
DTSTAMP:20260424T141728Z
SUMMARY:KONKURADO: Réaménagement de la place Chauderon\, Délai pour dép
 ôt des dossiers du dialogue final 27.01.2026 - 27.04.2026
DESCRIPTION:Link zum Verfahren: https://konkurado.ch/de/reamenagement-de-la
 -place-chauderon
X-MICROSOFT-CDO-ALLDAYEVENT:TRUE
DTSTART;TZID=Europe/Zurich;VALUE=DATE:20260427
END:VEVENT
BEGIN:VEVENT
UID:69eb7b7803ccd
DTSTAMP:20260424T141728Z
SUMMARY:KONKURADO: Réaménagement de la place Chauderon\, Dialogue final 1
 8.05.2026 - 18.05.2026
DESCRIPTION:Link zum Verfahren: https://konkurado.ch/de/reamenagement-de-la
 -place-chauderon
X-MICROSOFT-CDO-ALLDAYEVENT:TRUE
DTSTART;TZID=Europe/Zurich;VALUE=DATE:20260518
END:VEVENT
BEGIN:VEVENT
UID:69eb7b7803cf2
DTSTAMP:20260424T141728Z
SUMMARY:KONKURADO: Réaménagement de la place Chauderon\, Dialogue final 1
 8.05.2026 - 18.05.2026
DESCRIPTION:Link zum Verfahren: https://konkurado.ch/de/reamenagement-de-la
 -place-chauderon
X-MICROSOFT-CDO-ALLDAYEVENT:TRUE
DTSTART;TZID=Europe/Zurich;VALUE=DATE:20260518
END:VEVENT
END:VCALENDAR