BEGIN:VCALENDAR
VERSION:2.0
PRODID:spatie/icalendar-generator
NAME:Rahmenvertrag für Planerleistungen von Werkleitungsprojekten Ver- und
  Entsorgung sowie Strassenbau Stadt Burgdorf
X-WR-CALNAME:Rahmenvertrag für Planerleistungen von Werkleitungsprojekten 
 Ver- und Entsorgung sowie Strassenbau Stadt Burgdorf
BEGIN:VTIMEZONE
TZID:Europe/Zurich
BEGIN:STANDARD
DTSTART:20251026T030000
TZOFFSETFROM:+0200
TZOFFSETTO:+0100
END:STANDARD
BEGIN:DAYLIGHT
DTSTART:20260329T010000
TZOFFSETFROM:+0100
TZOFFSETTO:+0200
END:DAYLIGHT
BEGIN:STANDARD
DTSTART:20261025T030000
TZOFFSETFROM:+0200
TZOFFSETTO:+0100
END:STANDARD
END:VTIMEZONE
BEGIN:VTIMEZONE
TZID:UTC
BEGIN:STANDARD
DTSTART:20250723T135614
TZOFFSETFROM:+0000
TZOFFSETTO:+0000
END:STANDARD
END:VTIMEZONE
BEGIN:VEVENT
UID:69e4defe15945
DTSTAMP:20260419T135614Z
SUMMARY:KONKURADO: Rahmenvertrag für Planerleistungen von Werkleitungsproj
 ekten Ver- und Entsorgung sowie Strassenbau Stadt Burgdorf\, Fragerunde\, 
 einreichen bis 29.04.2026 - 29.04.2026
DESCRIPTION:Link zum Verfahren: https://konkurado.ch/de/rahmenvertrag-fur-p
 lanerleistungen-von-werkleitungsprojekten-ver-und-entsorgung-sowie-strasse
 nbau-stadt-burgdorf
X-MICROSOFT-CDO-ALLDAYEVENT:TRUE
DTSTART;TZID=Europe/Zurich;VALUE=DATE:20260429
END:VEVENT
BEGIN:VEVENT
UID:69e4defe159dc
DTSTAMP:20260419T135614Z
SUMMARY:KONKURADO: Rahmenvertrag für Planerleistungen von Werkleitungsproj
 ekten Ver- und Entsorgung sowie Strassenbau Stadt Burgdorf\, Fragerunde\, 
 einreichen bis 29.04.2026 - 29.04.2026
DESCRIPTION:Link zum Verfahren: https://konkurado.ch/de/rahmenvertrag-fur-p
 lanerleistungen-von-werkleitungsprojekten-ver-und-entsorgung-sowie-strasse
 nbau-stadt-burgdorf
X-MICROSOFT-CDO-ALLDAYEVENT:TRUE
DTSTART;TZID=Europe/Zurich;VALUE=DATE:20260429
END:VEVENT
BEGIN:VEVENT
UID:69e4defe15a53
DTSTAMP:20260419T135614Z
SUMMARY:KONKURADO: Rahmenvertrag für Planerleistungen von Werkleitungsproj
 ekten Ver- und Entsorgung sowie Strassenbau Stadt Burgdorf\, Einreichen vo
 n Angeboten bis 27.05.2026 - 27.05.2026
DESCRIPTION:Link zum Verfahren: https://konkurado.ch/de/rahmenvertrag-fur-p
 lanerleistungen-von-werkleitungsprojekten-ver-und-entsorgung-sowie-strasse
 nbau-stadt-burgdorf
X-MICROSOFT-CDO-ALLDAYEVENT:TRUE
DTSTART;TZID=Europe/Zurich;VALUE=DATE:20260527
END:VEVENT
BEGIN:VEVENT
UID:69e4defe15a7b
DTSTAMP:20260419T135614Z
SUMMARY:KONKURADO: Rahmenvertrag für Planerleistungen von Werkleitungsproj
 ekten Ver- und Entsorgung sowie Strassenbau Stadt Burgdorf\, Einreichen vo
 n Angeboten bis 27.05.2026 - 27.05.2026
DESCRIPTION:Link zum Verfahren: https://konkurado.ch/de/rahmenvertrag-fur-p
 lanerleistungen-von-werkleitungsprojekten-ver-und-entsorgung-sowie-strasse
 nbau-stadt-burgdorf
X-MICROSOFT-CDO-ALLDAYEVENT:TRUE
DTSTART;TZID=Europe/Zurich;VALUE=DATE:20260527
END:VEVENT
BEGIN:VEVENT
UID:69e4defe15ad2
DTSTAMP:20260419T135614Z
SUMMARY:KONKURADO: Rahmenvertrag für Planerleistungen von Werkleitungsproj
 ekten Ver- und Entsorgung sowie Strassenbau Stadt Burgdorf\, Verfügbarkei
 t der Ausschreibungsunterlagen 17.04.2026 - 27.05.2026
DESCRIPTION:Link zum Verfahren: https://konkurado.ch/de/rahmenvertrag-fur-p
 lanerleistungen-von-werkleitungsprojekten-ver-und-entsorgung-sowie-strasse
 nbau-stadt-burgdorf
X-MICROSOFT-CDO-ALLDAYEVENT:TRUE
DTSTART;TZID=Europe/Zurich;VALUE=DATE:20260417
END:VEVENT
BEGIN:VEVENT
UID:69e4defe15af8
DTSTAMP:20260419T135614Z
SUMMARY:KONKURADO: Rahmenvertrag für Planerleistungen von Werkleitungsproj
 ekten Ver- und Entsorgung sowie Strassenbau Stadt Burgdorf\, Verfügbarkei
 t der Ausschreibungsunterlagen 17.04.2026 - 27.05.2026
DESCRIPTION:Link zum Verfahren: https://konkurado.ch/de/rahmenvertrag-fur-p
 lanerleistungen-von-werkleitungsprojekten-ver-und-entsorgung-sowie-strasse
 nbau-stadt-burgdorf
X-MICROSOFT-CDO-ALLDAYEVENT:TRUE
DTSTART;TZID=Europe/Zurich;VALUE=DATE:20260527
END:VEVENT
END:VCALENDAR