BEGIN:VCALENDAR
VERSION:2.0
PRODID:spatie/icalendar-generator
NAME:Planerwahlverfahren Umbau Patresgebäude Nuolen
X-WR-CALNAME:Planerwahlverfahren Umbau Patresgebäude Nuolen
BEGIN:VTIMEZONE
TZID:Europe/Zurich
BEGIN:STANDARD
DTSTART:20251026T030000
TZOFFSETFROM:+0200
TZOFFSETTO:+0100
END:STANDARD
BEGIN:DAYLIGHT
DTSTART:20260329T010000
TZOFFSETFROM:+0100
TZOFFSETTO:+0200
END:DAYLIGHT
BEGIN:STANDARD
DTSTART:20261025T030000
TZOFFSETFROM:+0200
TZOFFSETTO:+0100
END:STANDARD
END:VTIMEZONE
BEGIN:VTIMEZONE
TZID:UTC
BEGIN:STANDARD
DTSTART:20250725T181314
TZOFFSETFROM:+0000
TZOFFSETTO:+0000
END:STANDARD
END:VTIMEZONE
BEGIN:VEVENT
UID:69e7be3aa71fb
DTSTAMP:20260421T181314Z
SUMMARY:KONKURADO: Planerwahlverfahren Umbau Patresgebäude Nuolen\, Einrei
 chen des Teilnahmeantrags 06.03.2026 - 06.03.2026
DESCRIPTION:Link zum Verfahren: https://konkurado.ch/de/planerwahlverfahren
 -umbau-patresgebaude-nuolen
X-MICROSOFT-CDO-ALLDAYEVENT:TRUE
DTSTART;TZID=Europe/Zurich;VALUE=DATE:20260306
END:VEVENT
BEGIN:VEVENT
UID:69e7be3aa7286
DTSTAMP:20260421T181314Z
SUMMARY:KONKURADO: Planerwahlverfahren Umbau Patresgebäude Nuolen\, Einrei
 chen des Teilnahmeantrags 06.03.2026 - 06.03.2026
DESCRIPTION:Link zum Verfahren: https://konkurado.ch/de/planerwahlverfahren
 -umbau-patresgebaude-nuolen
X-MICROSOFT-CDO-ALLDAYEVENT:TRUE
DTSTART;TZID=Europe/Zurich;VALUE=DATE:20260306
END:VEVENT
BEGIN:VEVENT
UID:69e7be3aa72f8
DTSTAMP:20260421T181314Z
SUMMARY:KONKURADO: Planerwahlverfahren Umbau Patresgebäude Nuolen\, Öffnu
 ng der Teilnahmeanträge 10.03.2026 - 10.03.2026
DESCRIPTION:Link zum Verfahren: https://konkurado.ch/de/planerwahlverfahren
 -umbau-patresgebaude-nuolen
X-MICROSOFT-CDO-ALLDAYEVENT:TRUE
DTSTART;TZID=Europe/Zurich;VALUE=DATE:20260310
END:VEVENT
BEGIN:VEVENT
UID:69e7be3aa7320
DTSTAMP:20260421T181314Z
SUMMARY:KONKURADO: Planerwahlverfahren Umbau Patresgebäude Nuolen\, Öffnu
 ng der Teilnahmeanträge 10.03.2026 - 10.03.2026
DESCRIPTION:Link zum Verfahren: https://konkurado.ch/de/planerwahlverfahren
 -umbau-patresgebaude-nuolen
X-MICROSOFT-CDO-ALLDAYEVENT:TRUE
DTSTART;TZID=Europe/Zurich;VALUE=DATE:20260310
END:VEVENT
BEGIN:VEVENT
UID:69e7be3aa7376
DTSTAMP:20260421T181314Z
SUMMARY:KONKURADO: Planerwahlverfahren Umbau Patresgebäude Nuolen\, Vorges
 ehene Frist für die Einreichung des Angebots 24.04.2026 - 24.04.2026
DESCRIPTION:Link zum Verfahren: https://konkurado.ch/de/planerwahlverfahren
 -umbau-patresgebaude-nuolen
X-MICROSOFT-CDO-ALLDAYEVENT:TRUE
DTSTART;TZID=Europe/Zurich;VALUE=DATE:20260424
END:VEVENT
BEGIN:VEVENT
UID:69e7be3aa739c
DTSTAMP:20260421T181314Z
SUMMARY:KONKURADO: Planerwahlverfahren Umbau Patresgebäude Nuolen\, Vorges
 ehene Frist für die Einreichung des Angebots 24.04.2026 - 24.04.2026
DESCRIPTION:Link zum Verfahren: https://konkurado.ch/de/planerwahlverfahren
 -umbau-patresgebaude-nuolen
X-MICROSOFT-CDO-ALLDAYEVENT:TRUE
DTSTART;TZID=Europe/Zurich;VALUE=DATE:20260424
END:VEVENT
BEGIN:VEVENT
UID:69e7be3aa73f0
DTSTAMP:20260421T181314Z
SUMMARY:KONKURADO: Planerwahlverfahren Umbau Patresgebäude Nuolen\, Verfü
 gbarkeit der Ausschreibungsunterlagen 06.02.2026 - 06.03.2026
DESCRIPTION:Link zum Verfahren: https://konkurado.ch/de/planerwahlverfahren
 -umbau-patresgebaude-nuolen
X-MICROSOFT-CDO-ALLDAYEVENT:TRUE
DTSTART;TZID=Europe/Zurich;VALUE=DATE:20260206
END:VEVENT
BEGIN:VEVENT
UID:69e7be3aa741f
DTSTAMP:20260421T181314Z
SUMMARY:KONKURADO: Planerwahlverfahren Umbau Patresgebäude Nuolen\, Verfü
 gbarkeit der Ausschreibungsunterlagen 06.02.2026 - 06.03.2026
DESCRIPTION:Link zum Verfahren: https://konkurado.ch/de/planerwahlverfahren
 -umbau-patresgebaude-nuolen
X-MICROSOFT-CDO-ALLDAYEVENT:TRUE
DTSTART;TZID=Europe/Zurich;VALUE=DATE:20260306
END:VEVENT
BEGIN:VEVENT
UID:69e7be3aa7480
DTSTAMP:20260421T181314Z
SUMMARY:KONKURADO: Planerwahlverfahren Umbau Patresgebäude Nuolen\, Bestim
 mung der Teilnehmer 16.03.2026 - 16.03.2026
DESCRIPTION:Link zum Verfahren: https://konkurado.ch/de/planerwahlverfahren
 -umbau-patresgebaude-nuolen
X-MICROSOFT-CDO-ALLDAYEVENT:TRUE
DTSTART;TZID=Europe/Zurich;VALUE=DATE:20260316
END:VEVENT
BEGIN:VEVENT
UID:69e7be3aa74b2
DTSTAMP:20260421T181314Z
SUMMARY:KONKURADO: Planerwahlverfahren Umbau Patresgebäude Nuolen\, Bestim
 mung der Teilnehmer 16.03.2026 - 16.03.2026
DESCRIPTION:Link zum Verfahren: https://konkurado.ch/de/planerwahlverfahren
 -umbau-patresgebaude-nuolen
X-MICROSOFT-CDO-ALLDAYEVENT:TRUE
DTSTART;TZID=Europe/Zurich;VALUE=DATE:20260316
END:VEVENT
END:VCALENDAR