BEGIN:VCALENDAR
VERSION:2.0
PRODID:spatie/icalendar-generator
NAME:Optimisation énergétique des installations CVCS des bâtiments en pr
 opriété de l’Etat de Vaud - Lot 3
X-WR-CALNAME:Optimisation énergétique des installations CVCS des bâtimen
 ts en propriété de l’Etat de Vaud - Lot 3
BEGIN:VTIMEZONE
TZID:Europe/Zurich
BEGIN:STANDARD
DTSTART:20251026T030000
TZOFFSETFROM:+0200
TZOFFSETTO:+0100
END:STANDARD
BEGIN:DAYLIGHT
DTSTART:20260329T010000
TZOFFSETFROM:+0100
TZOFFSETTO:+0200
END:DAYLIGHT
BEGIN:STANDARD
DTSTART:20261025T030000
TZOFFSETFROM:+0200
TZOFFSETTO:+0100
END:STANDARD
END:VTIMEZONE
BEGIN:VTIMEZONE
TZID:UTC
BEGIN:STANDARD
DTSTART:20250728T171914
TZOFFSETFROM:+0000
TZOFFSETTO:+0000
END:STANDARD
END:VTIMEZONE
BEGIN:VEVENT
UID:69eba612723cb
DTSTAMP:20260424T171914Z
SUMMARY:KONKURADO: Optimisation énergétique des installations CVCS des b
 âtiments en propriété de l’Etat de Vaud - Lot 3\, Soumission de quest
 ions jusqu’au 07.05.2026 - 07.05.2026
DESCRIPTION:Link zum Verfahren: https://konkurado.ch/de/optimisation-energe
 tique-des-installations-cvcs-des-batiments-en-propriete-de-letat-de-vaud-l
 ot-3
X-MICROSOFT-CDO-ALLDAYEVENT:TRUE
DTSTART;TZID=Europe/Zurich;VALUE=DATE:20260507
END:VEVENT
BEGIN:VEVENT
UID:69eba61272449
DTSTAMP:20260424T171914Z
SUMMARY:KONKURADO: Optimisation énergétique des installations CVCS des b
 âtiments en propriété de l’Etat de Vaud - Lot 3\, Soumission de quest
 ions jusqu’au 07.05.2026 - 07.05.2026
DESCRIPTION:Link zum Verfahren: https://konkurado.ch/de/optimisation-energe
 tique-des-installations-cvcs-des-batiments-en-propriete-de-letat-de-vaud-l
 ot-3
X-MICROSOFT-CDO-ALLDAYEVENT:TRUE
DTSTART;TZID=Europe/Zurich;VALUE=DATE:20260507
END:VEVENT
BEGIN:VEVENT
UID:69eba612724bd
DTSTAMP:20260424T171914Z
SUMMARY:KONKURADO: Optimisation énergétique des installations CVCS des b
 âtiments en propriété de l’Etat de Vaud - Lot 3\, Soumission des offr
 es jusqu’au 09.06.2026 - 09.06.2026
DESCRIPTION:Link zum Verfahren: https://konkurado.ch/de/optimisation-energe
 tique-des-installations-cvcs-des-batiments-en-propriete-de-letat-de-vaud-l
 ot-3
X-MICROSOFT-CDO-ALLDAYEVENT:TRUE
DTSTART;TZID=Europe/Zurich;VALUE=DATE:20260609
END:VEVENT
BEGIN:VEVENT
UID:69eba612724e4
DTSTAMP:20260424T171914Z
SUMMARY:KONKURADO: Optimisation énergétique des installations CVCS des b
 âtiments en propriété de l’Etat de Vaud - Lot 3\, Soumission des offr
 es jusqu’au 09.06.2026 - 09.06.2026
DESCRIPTION:Link zum Verfahren: https://konkurado.ch/de/optimisation-energe
 tique-des-installations-cvcs-des-batiments-en-propriete-de-letat-de-vaud-l
 ot-3
X-MICROSOFT-CDO-ALLDAYEVENT:TRUE
DTSTART;TZID=Europe/Zurich;VALUE=DATE:20260609
END:VEVENT
BEGIN:VEVENT
UID:69eba61272540
DTSTAMP:20260424T171914Z
SUMMARY:KONKURADO: Optimisation énergétique des installations CVCS des b
 âtiments en propriété de l’Etat de Vaud - Lot 3\, Disponibilité des 
 documents d’appel d’offres 23.04.2026 - 08.06.2026
DESCRIPTION:Link zum Verfahren: https://konkurado.ch/de/optimisation-energe
 tique-des-installations-cvcs-des-batiments-en-propriete-de-letat-de-vaud-l
 ot-3
X-MICROSOFT-CDO-ALLDAYEVENT:TRUE
DTSTART;TZID=Europe/Zurich;VALUE=DATE:20260423
END:VEVENT
BEGIN:VEVENT
UID:69eba61272576
DTSTAMP:20260424T171914Z
SUMMARY:KONKURADO: Optimisation énergétique des installations CVCS des b
 âtiments en propriété de l’Etat de Vaud - Lot 3\, Disponibilité des 
 documents d’appel d’offres 23.04.2026 - 08.06.2026
DESCRIPTION:Link zum Verfahren: https://konkurado.ch/de/optimisation-energe
 tique-des-installations-cvcs-des-batiments-en-propriete-de-letat-de-vaud-l
 ot-3
X-MICROSOFT-CDO-ALLDAYEVENT:TRUE
DTSTART;TZID=Europe/Zurich;VALUE=DATE:20260608
END:VEVENT
END:VCALENDAR