BEGIN:VCALENDAR
VERSION:2.0
PRODID:spatie/icalendar-generator
NAME:Offener Projektwettbewerb Neubau Schulergänzende Betreuung (SEB) Walc
 hwil
X-WR-CALNAME:Offener Projektwettbewerb Neubau Schulergänzende Betreuung (S
 EB) Walchwil
BEGIN:VTIMEZONE
TZID:Europe/Zurich
BEGIN:STANDARD
DTSTART:20251026T030000
TZOFFSETFROM:+0200
TZOFFSETTO:+0100
END:STANDARD
BEGIN:DAYLIGHT
DTSTART:20260329T010000
TZOFFSETFROM:+0100
TZOFFSETTO:+0200
END:DAYLIGHT
BEGIN:STANDARD
DTSTART:20261025T030000
TZOFFSETFROM:+0200
TZOFFSETTO:+0100
END:STANDARD
END:VTIMEZONE
BEGIN:VTIMEZONE
TZID:UTC
BEGIN:STANDARD
DTSTART:20250726T142952
TZOFFSETFROM:+0000
TZOFFSETTO:+0000
END:STANDARD
END:VTIMEZONE
BEGIN:VEVENT
UID:69e8db60d58e7
DTSTAMP:20260422T142952Z
SUMMARY:KONKURADO: Offener Projektwettbewerb Neubau Schulergänzende Betreu
 ung (SEB) Walchwil\, Einreichung des Projektbeitrags bis 13.08.2026 - 13.0
 8.2026
DESCRIPTION:Link zum Verfahren: https://konkurado.ch/de/offener-projektwett
 bewerb-neubau-schulerganzende-betreuung-seb-walchwil
X-MICROSOFT-CDO-ALLDAYEVENT:TRUE
DTSTART;TZID=Europe/Zurich;VALUE=DATE:20260813
END:VEVENT
BEGIN:VEVENT
UID:69e8db60d5967
DTSTAMP:20260422T142952Z
SUMMARY:KONKURADO: Offener Projektwettbewerb Neubau Schulergänzende Betreu
 ung (SEB) Walchwil\, Einreichung des Projektbeitrags bis 13.08.2026 - 13.0
 8.2026
DESCRIPTION:Link zum Verfahren: https://konkurado.ch/de/offener-projektwett
 bewerb-neubau-schulerganzende-betreuung-seb-walchwil
X-MICROSOFT-CDO-ALLDAYEVENT:TRUE
DTSTART;TZID=Europe/Zurich;VALUE=DATE:20260813
END:VEVENT
BEGIN:VEVENT
UID:69e8db60d59db
DTSTAMP:20260422T142952Z
SUMMARY:KONKURADO: Offener Projektwettbewerb Neubau Schulergänzende Betreu
 ung (SEB) Walchwil\, Verfügbarkeit der Ausschreibungsunterlagen 22.04.202
 6 - 13.08.2026
DESCRIPTION:Link zum Verfahren: https://konkurado.ch/de/offener-projektwett
 bewerb-neubau-schulerganzende-betreuung-seb-walchwil
X-MICROSOFT-CDO-ALLDAYEVENT:TRUE
DTSTART;TZID=Europe/Zurich;VALUE=DATE:20260422
END:VEVENT
BEGIN:VEVENT
UID:69e8db60d5a02
DTSTAMP:20260422T142952Z
SUMMARY:KONKURADO: Offener Projektwettbewerb Neubau Schulergänzende Betreu
 ung (SEB) Walchwil\, Verfügbarkeit der Ausschreibungsunterlagen 22.04.202
 6 - 13.08.2026
DESCRIPTION:Link zum Verfahren: https://konkurado.ch/de/offener-projektwett
 bewerb-neubau-schulerganzende-betreuung-seb-walchwil
X-MICROSOFT-CDO-ALLDAYEVENT:TRUE
DTSTART;TZID=Europe/Zurich;VALUE=DATE:20260813
END:VEVENT
END:VCALENDAR