BEGIN:VCALENDAR
VERSION:2.0
PRODID:spatie/icalendar-generator
NAME:Neuorganisation und Erweiterung Schule Vitznau
X-WR-CALNAME:Neuorganisation und Erweiterung Schule Vitznau
BEGIN:VTIMEZONE
TZID:Europe/Zurich
BEGIN:STANDARD
DTSTART:20241027T030000
TZOFFSETFROM:+0200
TZOFFSETTO:+0100
END:STANDARD
BEGIN:DAYLIGHT
DTSTART:20250330T010000
TZOFFSETFROM:+0100
TZOFFSETTO:+0200
END:DAYLIGHT
BEGIN:STANDARD
DTSTART:20251026T030000
TZOFFSETFROM:+0200
TZOFFSETTO:+0100
END:STANDARD
END:VTIMEZONE
BEGIN:VTIMEZONE
TZID:UTC
BEGIN:STANDARD
DTSTART:20250727T132500
TZOFFSETFROM:+0000
TZOFFSETTO:+0000
END:STANDARD
END:VTIMEZONE
BEGIN:VEVENT
UID:69ea1dac8624b
DTSTAMP:20260423T132500Z
SUMMARY:KONKURADO: Neuorganisation und Erweiterung Schule Vitznau\, Publika
 tion der Unterlagen ab 06.01.2025 - 06.01.2025
DESCRIPTION:Link zum Verfahren: https://konkurado.ch/de/neuorganisation-und
 -erweiterung-schule-vitznau
X-MICROSOFT-CDO-ALLDAYEVENT:TRUE
DTSTART;TZID=Europe/Zurich;VALUE=DATE:20250106
END:VEVENT
BEGIN:VEVENT
UID:69ea1dac862d2
DTSTAMP:20260423T132500Z
SUMMARY:KONKURADO: Neuorganisation und Erweiterung Schule Vitznau\, Publika
 tion der Unterlagen ab 06.01.2025 - 06.01.2025
DESCRIPTION:Link zum Verfahren: https://konkurado.ch/de/neuorganisation-und
 -erweiterung-schule-vitznau
X-MICROSOFT-CDO-ALLDAYEVENT:TRUE
DTSTART;TZID=Europe/Zurich;VALUE=DATE:20250106
END:VEVENT
BEGIN:VEVENT
UID:69ea1dac86311
DTSTAMP:20260423T132500Z
SUMMARY:KONKURADO: Neuorganisation und Erweiterung Schule Vitznau\, Fragen 
 zur Ausschreibung (per E-Mail) 06.01.2025 - 22.01.2025
DESCRIPTION:Link zum Verfahren: https://konkurado.ch/de/neuorganisation-und
 -erweiterung-schule-vitznau
X-MICROSOFT-CDO-ALLDAYEVENT:TRUE
DTSTART;TZID=Europe/Zurich;VALUE=DATE:20250106
END:VEVENT
BEGIN:VEVENT
UID:69ea1dac8633a
DTSTAMP:20260423T132500Z
SUMMARY:KONKURADO: Neuorganisation und Erweiterung Schule Vitznau\, Fragen 
 zur Ausschreibung (per E-Mail) 06.01.2025 - 22.01.2025
DESCRIPTION:Link zum Verfahren: https://konkurado.ch/de/neuorganisation-und
 -erweiterung-schule-vitznau
X-MICROSOFT-CDO-ALLDAYEVENT:TRUE
DTSTART;TZID=Europe/Zurich;VALUE=DATE:20250122
END:VEVENT
BEGIN:VEVENT
UID:69ea1dac8636d
DTSTAMP:20260423T132500Z
SUMMARY:KONKURADO: Neuorganisation und Erweiterung Schule Vitznau\, Eingabe
 termin Angebot 06.01.2025 - 17.02.2025
DESCRIPTION:Link zum Verfahren: https://konkurado.ch/de/neuorganisation-und
 -erweiterung-schule-vitznau
X-MICROSOFT-CDO-ALLDAYEVENT:TRUE
DTSTART;TZID=Europe/Zurich;VALUE=DATE:20250106
END:VEVENT
BEGIN:VEVENT
UID:69ea1dac86392
DTSTAMP:20260423T132500Z
SUMMARY:KONKURADO: Neuorganisation und Erweiterung Schule Vitznau\, Eingabe
 termin Angebot 06.01.2025 - 17.02.2025
DESCRIPTION:Link zum Verfahren: https://konkurado.ch/de/neuorganisation-und
 -erweiterung-schule-vitznau
X-MICROSOFT-CDO-ALLDAYEVENT:TRUE
DTSTART;TZID=Europe/Zurich;VALUE=DATE:20250217
END:VEVENT
BEGIN:VEVENT
UID:69ea1dac863ff
DTSTAMP:20260423T132500Z
SUMMARY:KONKURADO: Neuorganisation und Erweiterung Schule Vitznau\, Begehun
 g (obligatorisch) 15.01.2025 - 15.01.2025
DESCRIPTION:Link zum Verfahren: https://konkurado.ch/de/neuorganisation-und
 -erweiterung-schule-vitznau
X-MICROSOFT-CDO-ALLDAYEVENT:TRUE
DTSTART;TZID=Europe/Zurich;VALUE=DATE:20250115
END:VEVENT
BEGIN:VEVENT
UID:69ea1dac86426
DTSTAMP:20260423T132500Z
SUMMARY:KONKURADO: Neuorganisation und Erweiterung Schule Vitznau\, Begehun
 g (obligatorisch) 15.01.2025 - 15.01.2025
DESCRIPTION:Link zum Verfahren: https://konkurado.ch/de/neuorganisation-und
 -erweiterung-schule-vitznau
X-MICROSOFT-CDO-ALLDAYEVENT:TRUE
DTSTART;TZID=Europe/Zurich;VALUE=DATE:20250115
END:VEVENT
BEGIN:VEVENT
UID:69ea1dac8647e
DTSTAMP:20260423T132500Z
SUMMARY:KONKURADO: Neuorganisation und Erweiterung Schule Vitznau\, Beantwo
 rtung Fragen (Zustellung per E-Mail durch Verfahrensbegleitung) 06.01.2025
  - 27.01.2025
DESCRIPTION:Link zum Verfahren: https://konkurado.ch/de/neuorganisation-und
 -erweiterung-schule-vitznau
X-MICROSOFT-CDO-ALLDAYEVENT:TRUE
DTSTART;TZID=Europe/Zurich;VALUE=DATE:20250106
END:VEVENT
BEGIN:VEVENT
UID:69ea1dac864a4
DTSTAMP:20260423T132500Z
SUMMARY:KONKURADO: Neuorganisation und Erweiterung Schule Vitznau\, Beantwo
 rtung Fragen (Zustellung per E-Mail durch Verfahrensbegleitung) 06.01.2025
  - 27.01.2025
DESCRIPTION:Link zum Verfahren: https://konkurado.ch/de/neuorganisation-und
 -erweiterung-schule-vitznau
X-MICROSOFT-CDO-ALLDAYEVENT:TRUE
DTSTART;TZID=Europe/Zurich;VALUE=DATE:20250127
END:VEVENT
BEGIN:VEVENT
UID:69ea1dac864f7
DTSTAMP:20260423T132500Z
SUMMARY:KONKURADO: Neuorganisation und Erweiterung Schule Vitznau\, Offert
 öffnung 17.02.2025 - 17.02.2025
DESCRIPTION:Link zum Verfahren: https://konkurado.ch/de/neuorganisation-und
 -erweiterung-schule-vitznau
X-MICROSOFT-CDO-ALLDAYEVENT:TRUE
DTSTART;TZID=Europe/Zurich;VALUE=DATE:20250217
END:VEVENT
BEGIN:VEVENT
UID:69ea1dac8651d
DTSTAMP:20260423T132500Z
SUMMARY:KONKURADO: Neuorganisation und Erweiterung Schule Vitznau\, Offert
 öffnung 17.02.2025 - 17.02.2025
DESCRIPTION:Link zum Verfahren: https://konkurado.ch/de/neuorganisation-und
 -erweiterung-schule-vitznau
X-MICROSOFT-CDO-ALLDAYEVENT:TRUE
DTSTART;TZID=Europe/Zurich;VALUE=DATE:20250217
END:VEVENT
BEGIN:VEVENT
UID:69ea1dac8656e
DTSTAMP:20260423T132500Z
SUMMARY:KONKURADO: Neuorganisation und Erweiterung Schule Vitznau\, Urnenab
 stimmung Projektierungskredit (Phasen 31-33) 18.05.2025 - 18.05.2025
DESCRIPTION:Link zum Verfahren: https://konkurado.ch/de/neuorganisation-und
 -erweiterung-schule-vitznau
X-MICROSOFT-CDO-ALLDAYEVENT:TRUE
DTSTART;TZID=Europe/Zurich;VALUE=DATE:20250518
END:VEVENT
BEGIN:VEVENT
UID:69ea1dac86594
DTSTAMP:20260423T132500Z
SUMMARY:KONKURADO: Neuorganisation und Erweiterung Schule Vitznau\, Urnenab
 stimmung Projektierungskredit (Phasen 31-33) 18.05.2025 - 18.05.2025
DESCRIPTION:Link zum Verfahren: https://konkurado.ch/de/neuorganisation-und
 -erweiterung-schule-vitznau
X-MICROSOFT-CDO-ALLDAYEVENT:TRUE
DTSTART;TZID=Europe/Zurich;VALUE=DATE:20250518
END:VEVENT
BEGIN:VEVENT
UID:69ea1dac865e5
DTSTAMP:20260423T132500Z
SUMMARY:KONKURADO: Neuorganisation und Erweiterung Schule Vitznau\, Verfüg
 ung / Zuschlag 19.05.2025 - 19.05.2025
DESCRIPTION:Link zum Verfahren: https://konkurado.ch/de/neuorganisation-und
 -erweiterung-schule-vitznau
X-MICROSOFT-CDO-ALLDAYEVENT:TRUE
DTSTART;TZID=Europe/Zurich;VALUE=DATE:20250519
END:VEVENT
BEGIN:VEVENT
UID:69ea1dac8660a
DTSTAMP:20260423T132500Z
SUMMARY:KONKURADO: Neuorganisation und Erweiterung Schule Vitznau\, Verfüg
 ung / Zuschlag 19.05.2025 - 19.05.2025
DESCRIPTION:Link zum Verfahren: https://konkurado.ch/de/neuorganisation-und
 -erweiterung-schule-vitznau
X-MICROSOFT-CDO-ALLDAYEVENT:TRUE
DTSTART;TZID=Europe/Zurich;VALUE=DATE:20250519
END:VEVENT
BEGIN:VEVENT
UID:69ea1dac8665a
DTSTAMP:20260423T132500Z
SUMMARY:KONKURADO: Neuorganisation und Erweiterung Schule Vitznau\, Beschwe
 rdefrist 16.06.2025 - 16.06.2025
DESCRIPTION:Link zum Verfahren: https://konkurado.ch/de/neuorganisation-und
 -erweiterung-schule-vitznau
X-MICROSOFT-CDO-ALLDAYEVENT:TRUE
DTSTART;TZID=Europe/Zurich;VALUE=DATE:20250616
END:VEVENT
BEGIN:VEVENT
UID:69ea1dac86680
DTSTAMP:20260423T132500Z
SUMMARY:KONKURADO: Neuorganisation und Erweiterung Schule Vitznau\, Beschwe
 rdefrist 16.06.2025 - 16.06.2025
DESCRIPTION:Link zum Verfahren: https://konkurado.ch/de/neuorganisation-und
 -erweiterung-schule-vitznau
X-MICROSOFT-CDO-ALLDAYEVENT:TRUE
DTSTART;TZID=Europe/Zurich;VALUE=DATE:20250616
END:VEVENT
END:VCALENDAR