BEGIN:VCALENDAR
VERSION:2.0
PRODID:spatie/icalendar-generator
NAME:Neubau Schulzentrum \"Lärche\"
X-WR-CALNAME:Neubau Schulzentrum \"Lärche\"
BEGIN:VTIMEZONE
TZID:Europe/Zurich
BEGIN:STANDARD
DTSTART:20241027T030000
TZOFFSETFROM:+0200
TZOFFSETTO:+0100
END:STANDARD
BEGIN:DAYLIGHT
DTSTART:20250330T010000
TZOFFSETFROM:+0100
TZOFFSETTO:+0200
END:DAYLIGHT
BEGIN:STANDARD
DTSTART:20251026T030000
TZOFFSETFROM:+0200
TZOFFSETTO:+0100
END:STANDARD
END:VTIMEZONE
BEGIN:VTIMEZONE
TZID:UTC
BEGIN:STANDARD
DTSTART:20250727T132201
TZOFFSETFROM:+0000
TZOFFSETTO:+0000
END:STANDARD
END:VTIMEZONE
BEGIN:VEVENT
UID:69ea1cf9ac28e
DTSTAMP:20260423T132201Z
SUMMARY:KONKURADO: Neubau Schulzentrum \"Lärche\"\, Eingabetermin Unterlag
 en Phase 1 bis 11.04.2025 - 09.05.2025
DESCRIPTION:Link zum Verfahren: https://konkurado.ch/de/neubau-schulzentrum
 -larche
X-MICROSOFT-CDO-ALLDAYEVENT:TRUE
DTSTART;TZID=Europe/Zurich;VALUE=DATE:20250411
END:VEVENT
BEGIN:VEVENT
UID:69ea1cf9ac313
DTSTAMP:20260423T132201Z
SUMMARY:KONKURADO: Neubau Schulzentrum \"Lärche\"\, Eingabetermin Unterlag
 en Phase 1 bis 11.04.2025 - 09.05.2025
DESCRIPTION:Link zum Verfahren: https://konkurado.ch/de/neubau-schulzentrum
 -larche
X-MICROSOFT-CDO-ALLDAYEVENT:TRUE
DTSTART;TZID=Europe/Zurich;VALUE=DATE:20250509
END:VEVENT
BEGIN:VEVENT
UID:69ea1cf9ac4a1
DTSTAMP:20260423T132201Z
SUMMARY:KONKURADO: Neubau Schulzentrum \"Lärche\"\, Eröffnung Teilnahmeen
 tscheid für Phase 2 bis 10.05.2025 - 23.05.2025
DESCRIPTION:Link zum Verfahren: https://konkurado.ch/de/neubau-schulzentrum
 -larche
X-MICROSOFT-CDO-ALLDAYEVENT:TRUE
DTSTART;TZID=Europe/Zurich;VALUE=DATE:20250510
END:VEVENT
BEGIN:VEVENT
UID:69ea1cf9ac4cd
DTSTAMP:20260423T132201Z
SUMMARY:KONKURADO: Neubau Schulzentrum \"Lärche\"\, Eröffnung Teilnahmeen
 tscheid für Phase 2 bis 10.05.2025 - 23.05.2025
DESCRIPTION:Link zum Verfahren: https://konkurado.ch/de/neubau-schulzentrum
 -larche
X-MICROSOFT-CDO-ALLDAYEVENT:TRUE
DTSTART;TZID=Europe/Zurich;VALUE=DATE:20250523
END:VEVENT
BEGIN:VEVENT
UID:69ea1cf9ac52f
DTSTAMP:20260423T132201Z
SUMMARY:KONKURADO: Neubau Schulzentrum \"Lärche\"\, Versand Unterlagen und
  Einladung zur Angebotserstellung 28.05.2025 - 28.05.2025
DESCRIPTION:Link zum Verfahren: https://konkurado.ch/de/neubau-schulzentrum
 -larche
X-MICROSOFT-CDO-ALLDAYEVENT:TRUE
DTSTART;TZID=Europe/Zurich;VALUE=DATE:20250528
END:VEVENT
BEGIN:VEVENT
UID:69ea1cf9ac556
DTSTAMP:20260423T132201Z
SUMMARY:KONKURADO: Neubau Schulzentrum \"Lärche\"\, Versand Unterlagen und
  Einladung zur Angebotserstellung 28.05.2025 - 28.05.2025
DESCRIPTION:Link zum Verfahren: https://konkurado.ch/de/neubau-schulzentrum
 -larche
X-MICROSOFT-CDO-ALLDAYEVENT:TRUE
DTSTART;TZID=Europe/Zurich;VALUE=DATE:20250528
END:VEVENT
BEGIN:VEVENT
UID:69ea1cf9ac5ad
DTSTAMP:20260423T132201Z
SUMMARY:KONKURADO: Neubau Schulzentrum \"Lärche\"\, Teilnahmebestätigung 
 bis 28.05.2025 - 13.06.2025
DESCRIPTION:Link zum Verfahren: https://konkurado.ch/de/neubau-schulzentrum
 -larche
X-MICROSOFT-CDO-ALLDAYEVENT:TRUE
DTSTART;TZID=Europe/Zurich;VALUE=DATE:20250528
END:VEVENT
BEGIN:VEVENT
UID:69ea1cf9ac5d3
DTSTAMP:20260423T132201Z
SUMMARY:KONKURADO: Neubau Schulzentrum \"Lärche\"\, Teilnahmebestätigung 
 bis 28.05.2025 - 13.06.2025
DESCRIPTION:Link zum Verfahren: https://konkurado.ch/de/neubau-schulzentrum
 -larche
X-MICROSOFT-CDO-ALLDAYEVENT:TRUE
DTSTART;TZID=Europe/Zurich;VALUE=DATE:20250613
END:VEVENT
BEGIN:VEVENT
UID:69ea1cf9ac608
DTSTAMP:20260423T132201Z
SUMMARY:KONKURADO: Neubau Schulzentrum \"Lärche\"\, Eingabetermin Teilnehm
 enden Fragen 28.05.2025 - 13.06.2025
DESCRIPTION:Link zum Verfahren: https://konkurado.ch/de/neubau-schulzentrum
 -larche
X-MICROSOFT-CDO-ALLDAYEVENT:TRUE
DTSTART;TZID=Europe/Zurich;VALUE=DATE:20250528
END:VEVENT
BEGIN:VEVENT
UID:69ea1cf9ac62c
DTSTAMP:20260423T132201Z
SUMMARY:KONKURADO: Neubau Schulzentrum \"Lärche\"\, Eingabetermin Teilnehm
 enden Fragen 28.05.2025 - 13.06.2025
DESCRIPTION:Link zum Verfahren: https://konkurado.ch/de/neubau-schulzentrum
 -larche
X-MICROSOFT-CDO-ALLDAYEVENT:TRUE
DTSTART;TZID=Europe/Zurich;VALUE=DATE:20250613
END:VEVENT
BEGIN:VEVENT
UID:69ea1cf9ac694
DTSTAMP:20260423T132201Z
SUMMARY:KONKURADO: Neubau Schulzentrum \"Lärche\"\, Versand Antworten Teil
 nehmenden-Fragen 14.06.2025 - 20.06.2025
DESCRIPTION:Link zum Verfahren: https://konkurado.ch/de/neubau-schulzentrum
 -larche
X-MICROSOFT-CDO-ALLDAYEVENT:TRUE
DTSTART;TZID=Europe/Zurich;VALUE=DATE:20250614
END:VEVENT
BEGIN:VEVENT
UID:69ea1cf9ac6bd
DTSTAMP:20260423T132201Z
SUMMARY:KONKURADO: Neubau Schulzentrum \"Lärche\"\, Versand Antworten Teil
 nehmenden-Fragen 14.06.2025 - 20.06.2025
DESCRIPTION:Link zum Verfahren: https://konkurado.ch/de/neubau-schulzentrum
 -larche
X-MICROSOFT-CDO-ALLDAYEVENT:TRUE
DTSTART;TZID=Europe/Zurich;VALUE=DATE:20250620
END:VEVENT
BEGIN:VEVENT
UID:69ea1cf9ac6f3
DTSTAMP:20260423T132201Z
SUMMARY:KONKURADO: Neubau Schulzentrum \"Lärche\"\, Eingabetermin Unterlag
 en Phase 2 bis 28.05.2025 - 08.08.2025
DESCRIPTION:Link zum Verfahren: https://konkurado.ch/de/neubau-schulzentrum
 -larche
X-MICROSOFT-CDO-ALLDAYEVENT:TRUE
DTSTART;TZID=Europe/Zurich;VALUE=DATE:20250528
END:VEVENT
BEGIN:VEVENT
UID:69ea1cf9ac719
DTSTAMP:20260423T132201Z
SUMMARY:KONKURADO: Neubau Schulzentrum \"Lärche\"\, Eingabetermin Unterlag
 en Phase 2 bis 28.05.2025 - 08.08.2025
DESCRIPTION:Link zum Verfahren: https://konkurado.ch/de/neubau-schulzentrum
 -larche
X-MICROSOFT-CDO-ALLDAYEVENT:TRUE
DTSTART;TZID=Europe/Zurich;VALUE=DATE:20250808
END:VEVENT
BEGIN:VEVENT
UID:69ea1cf9ac779
DTSTAMP:20260423T132201Z
SUMMARY:KONKURADO: Neubau Schulzentrum \"Lärche\"\, Fachgespräch / Interv
 iew ProjektleiterIn 18.08.2025 - 19.08.2025
DESCRIPTION:Link zum Verfahren: https://konkurado.ch/de/neubau-schulzentrum
 -larche
X-MICROSOFT-CDO-ALLDAYEVENT:TRUE
DTSTART;TZID=Europe/Zurich;VALUE=DATE:20250818
END:VEVENT
BEGIN:VEVENT
UID:69ea1cf9ac79e
DTSTAMP:20260423T132201Z
SUMMARY:KONKURADO: Neubau Schulzentrum \"Lärche\"\, Fachgespräch / Interv
 iew ProjektleiterIn 18.08.2025 - 19.08.2025
DESCRIPTION:Link zum Verfahren: https://konkurado.ch/de/neubau-schulzentrum
 -larche
X-MICROSOFT-CDO-ALLDAYEVENT:TRUE
DTSTART;TZID=Europe/Zurich;VALUE=DATE:20250819
END:VEVENT
END:VCALENDAR