BEGIN:VCALENDAR
VERSION:2.0
PRODID:spatie/icalendar-generator
NAME:Neubau Kindertagesstätte\, Hittnau ZH
X-WR-CALNAME:Neubau Kindertagesstätte\, Hittnau ZH
BEGIN:VTIMEZONE
TZID:Europe/Zurich
BEGIN:STANDARD
DTSTART:20241027T030000
TZOFFSETFROM:+0200
TZOFFSETTO:+0100
END:STANDARD
BEGIN:DAYLIGHT
DTSTART:20250330T010000
TZOFFSETFROM:+0100
TZOFFSETTO:+0200
END:DAYLIGHT
BEGIN:STANDARD
DTSTART:20251026T030000
TZOFFSETFROM:+0200
TZOFFSETTO:+0100
END:STANDARD
END:VTIMEZONE
BEGIN:VTIMEZONE
TZID:UTC
BEGIN:STANDARD
DTSTART:20250727T132405
TZOFFSETFROM:+0000
TZOFFSETTO:+0000
END:STANDARD
END:VTIMEZONE
BEGIN:VEVENT
UID:69ea1d7535196
DTSTAMP:20260423T132405Z
SUMMARY:KONKURADO: Neubau Kindertagesstätte\, Hittnau ZH\, Einreichung von
  Fragen bis 31.01.2025 - 21.02.2025
DESCRIPTION:Link zum Verfahren: https://konkurado.ch/de/neubau-kindertagess
 tatte-hittnau-zh
X-MICROSOFT-CDO-ALLDAYEVENT:TRUE
DTSTART;TZID=Europe/Zurich;VALUE=DATE:20250131
END:VEVENT
BEGIN:VEVENT
UID:69ea1d7535219
DTSTAMP:20260423T132405Z
SUMMARY:KONKURADO: Neubau Kindertagesstätte\, Hittnau ZH\, Einreichung von
  Fragen bis 31.01.2025 - 21.02.2025
DESCRIPTION:Link zum Verfahren: https://konkurado.ch/de/neubau-kindertagess
 tatte-hittnau-zh
X-MICROSOFT-CDO-ALLDAYEVENT:TRUE
DTSTART;TZID=Europe/Zurich;VALUE=DATE:20250221
END:VEVENT
BEGIN:VEVENT
UID:69ea1d7535255
DTSTAMP:20260423T132405Z
SUMMARY:KONKURADO: Neubau Kindertagesstätte\, Hittnau ZH\, Einreichen des 
 Teilnahmeantrags 31.01.2025 - 14.03.2025
DESCRIPTION:Link zum Verfahren: https://konkurado.ch/de/neubau-kindertagess
 tatte-hittnau-zh
X-MICROSOFT-CDO-ALLDAYEVENT:TRUE
DTSTART;TZID=Europe/Zurich;VALUE=DATE:20250131
END:VEVENT
BEGIN:VEVENT
UID:69ea1d753527b
DTSTAMP:20260423T132405Z
SUMMARY:KONKURADO: Neubau Kindertagesstätte\, Hittnau ZH\, Einreichen des 
 Teilnahmeantrags 31.01.2025 - 14.03.2025
DESCRIPTION:Link zum Verfahren: https://konkurado.ch/de/neubau-kindertagess
 tatte-hittnau-zh
X-MICROSOFT-CDO-ALLDAYEVENT:TRUE
DTSTART;TZID=Europe/Zurich;VALUE=DATE:20250314
END:VEVENT
BEGIN:VEVENT
UID:69ea1d75352ac
DTSTAMP:20260423T132405Z
SUMMARY:KONKURADO: Neubau Kindertagesstätte\, Hittnau ZH\, Einreichung des
  Angebots bis 15.03.2025 - 04.07.2025
DESCRIPTION:Link zum Verfahren: https://konkurado.ch/de/neubau-kindertagess
 tatte-hittnau-zh
X-MICROSOFT-CDO-ALLDAYEVENT:TRUE
DTSTART;TZID=Europe/Zurich;VALUE=DATE:20250315
END:VEVENT
BEGIN:VEVENT
UID:69ea1d75352d0
DTSTAMP:20260423T132405Z
SUMMARY:KONKURADO: Neubau Kindertagesstätte\, Hittnau ZH\, Einreichung des
  Angebots bis 15.03.2025 - 04.07.2025
DESCRIPTION:Link zum Verfahren: https://konkurado.ch/de/neubau-kindertagess
 tatte-hittnau-zh
X-MICROSOFT-CDO-ALLDAYEVENT:TRUE
DTSTART;TZID=Europe/Zurich;VALUE=DATE:20250704
END:VEVENT
END:VCALENDAR