BEGIN:VCALENDAR
VERSION:2.0
PRODID:spatie/icalendar-generator
NAME:Neubau Bundesasylzentrum Buosingen
X-WR-CALNAME:Neubau Bundesasylzentrum Buosingen
BEGIN:VTIMEZONE
TZID:Europe/Zurich
BEGIN:STANDARD
DTSTART:20241027T030000
TZOFFSETFROM:+0200
TZOFFSETTO:+0100
END:STANDARD
BEGIN:DAYLIGHT
DTSTART:20250330T010000
TZOFFSETFROM:+0100
TZOFFSETTO:+0200
END:DAYLIGHT
BEGIN:STANDARD
DTSTART:20251026T030000
TZOFFSETFROM:+0200
TZOFFSETTO:+0100
END:STANDARD
BEGIN:DAYLIGHT
DTSTART:20260329T010000
TZOFFSETFROM:+0100
TZOFFSETTO:+0200
END:DAYLIGHT
END:VTIMEZONE
BEGIN:VTIMEZONE
TZID:UTC
BEGIN:STANDARD
DTSTART:20250727T102320
TZOFFSETFROM:+0000
TZOFFSETTO:+0000
END:STANDARD
END:VTIMEZONE
BEGIN:VEVENT
UID:69e9f318297dc
DTSTAMP:20260423T102320Z
SUMMARY:KONKURADO: Neubau Bundesasylzentrum Buosingen\, Eingabe der Präqua
 lifikations-Unterlagen 23.04.2025 - 04.06.2025
DESCRIPTION:Link zum Verfahren: https://konkurado.ch/de/neubau-bundesasylze
 ntrum-buosingen
X-MICROSOFT-CDO-ALLDAYEVENT:TRUE
DTSTART;TZID=Europe/Zurich;VALUE=DATE:20250423
END:VEVENT
BEGIN:VEVENT
UID:69e9f3182985f
DTSTAMP:20260423T102320Z
SUMMARY:KONKURADO: Neubau Bundesasylzentrum Buosingen\, Eingabe der Präqua
 lifikations-Unterlagen 23.04.2025 - 04.06.2025
DESCRIPTION:Link zum Verfahren: https://konkurado.ch/de/neubau-bundesasylze
 ntrum-buosingen
X-MICROSOFT-CDO-ALLDAYEVENT:TRUE
DTSTART;TZID=Europe/Zurich;VALUE=DATE:20250604
END:VEVENT
BEGIN:VEVENT
UID:69e9f31829a03
DTSTAMP:20260423T102320Z
SUMMARY:KONKURADO: Neubau Bundesasylzentrum Buosingen\, Bezug der digitalen
  Unterlagen zur Präqualifikation 23.04.2025 - 04.06.2025
DESCRIPTION:Link zum Verfahren: https://konkurado.ch/de/neubau-bundesasylze
 ntrum-buosingen
X-MICROSOFT-CDO-ALLDAYEVENT:TRUE
DTSTART;TZID=Europe/Zurich;VALUE=DATE:20250423
END:VEVENT
BEGIN:VEVENT
UID:69e9f31829a2e
DTSTAMP:20260423T102320Z
SUMMARY:KONKURADO: Neubau Bundesasylzentrum Buosingen\, Bezug der digitalen
  Unterlagen zur Präqualifikation 23.04.2025 - 04.06.2025
DESCRIPTION:Link zum Verfahren: https://konkurado.ch/de/neubau-bundesasylze
 ntrum-buosingen
X-MICROSOFT-CDO-ALLDAYEVENT:TRUE
DTSTART;TZID=Europe/Zurich;VALUE=DATE:20250604
END:VEVENT
BEGIN:VEVENT
UID:69e9f31829a67
DTSTAMP:20260423T102320Z
SUMMARY:KONKURADO: Neubau Bundesasylzentrum Buosingen\, Fragestellung durch
  die Teilnehmenden 23.04.2025 - 07.05.2025
DESCRIPTION:Link zum Verfahren: https://konkurado.ch/de/neubau-bundesasylze
 ntrum-buosingen
X-MICROSOFT-CDO-ALLDAYEVENT:TRUE
DTSTART;TZID=Europe/Zurich;VALUE=DATE:20250423
END:VEVENT
BEGIN:VEVENT
UID:69e9f31829a8e
DTSTAMP:20260423T102320Z
SUMMARY:KONKURADO: Neubau Bundesasylzentrum Buosingen\, Fragestellung durch
  die Teilnehmenden 23.04.2025 - 07.05.2025
DESCRIPTION:Link zum Verfahren: https://konkurado.ch/de/neubau-bundesasylze
 ntrum-buosingen
X-MICROSOFT-CDO-ALLDAYEVENT:TRUE
DTSTART;TZID=Europe/Zurich;VALUE=DATE:20250507
END:VEVENT
BEGIN:VEVENT
UID:69e9f31829ac0
DTSTAMP:20260423T102320Z
SUMMARY:KONKURADO: Neubau Bundesasylzentrum Buosingen\, Abgabe Zwischenbesp
 rechung 08.07.2025 - 05.09.2025
DESCRIPTION:Link zum Verfahren: https://konkurado.ch/de/neubau-bundesasylze
 ntrum-buosingen
X-MICROSOFT-CDO-ALLDAYEVENT:TRUE
DTSTART;TZID=Europe/Zurich;VALUE=DATE:20250708
END:VEVENT
BEGIN:VEVENT
UID:69e9f31829ae5
DTSTAMP:20260423T102320Z
SUMMARY:KONKURADO: Neubau Bundesasylzentrum Buosingen\, Abgabe Zwischenbesp
 rechung 08.07.2025 - 05.09.2025
DESCRIPTION:Link zum Verfahren: https://konkurado.ch/de/neubau-bundesasylze
 ntrum-buosingen
X-MICROSOFT-CDO-ALLDAYEVENT:TRUE
DTSTART;TZID=Europe/Zurich;VALUE=DATE:20250905
END:VEVENT
BEGIN:VEVENT
UID:69e9f31829b43
DTSTAMP:20260423T102320Z
SUMMARY:KONKURADO: Neubau Bundesasylzentrum Buosingen\, Beantwortung der Fr
 agen 08.05.2025 - 13.05.2025
DESCRIPTION:Link zum Verfahren: https://konkurado.ch/de/neubau-bundesasylze
 ntrum-buosingen
X-MICROSOFT-CDO-ALLDAYEVENT:TRUE
DTSTART;TZID=Europe/Zurich;VALUE=DATE:20250508
END:VEVENT
BEGIN:VEVENT
UID:69e9f31829b69
DTSTAMP:20260423T102320Z
SUMMARY:KONKURADO: Neubau Bundesasylzentrum Buosingen\, Beantwortung der Fr
 agen 08.05.2025 - 13.05.2025
DESCRIPTION:Link zum Verfahren: https://konkurado.ch/de/neubau-bundesasylze
 ntrum-buosingen
X-MICROSOFT-CDO-ALLDAYEVENT:TRUE
DTSTART;TZID=Europe/Zurich;VALUE=DATE:20250513
END:VEVENT
BEGIN:VEVENT
UID:69e9f31829bbf
DTSTAMP:20260423T102320Z
SUMMARY:KONKURADO: Neubau Bundesasylzentrum Buosingen\, Ausgabe Programm un
 d Unterlagen Studienauftrag 08.07.2025 - 12.12.2025
DESCRIPTION:Link zum Verfahren: https://konkurado.ch/de/neubau-bundesasylze
 ntrum-buosingen
X-MICROSOFT-CDO-ALLDAYEVENT:TRUE
DTSTART;TZID=Europe/Zurich;VALUE=DATE:20250708
END:VEVENT
BEGIN:VEVENT
UID:69e9f31829be7
DTSTAMP:20260423T102320Z
SUMMARY:KONKURADO: Neubau Bundesasylzentrum Buosingen\, Ausgabe Programm un
 d Unterlagen Studienauftrag 08.07.2025 - 12.12.2025
DESCRIPTION:Link zum Verfahren: https://konkurado.ch/de/neubau-bundesasylze
 ntrum-buosingen
X-MICROSOFT-CDO-ALLDAYEVENT:TRUE
DTSTART;TZID=Europe/Zurich;VALUE=DATE:20251212
END:VEVENT
BEGIN:VEVENT
UID:69e9f31829c16
DTSTAMP:20260423T102320Z
SUMMARY:KONKURADO: Neubau Bundesasylzentrum Buosingen\, Fragestellung durch
  die Teilnehmenden 08.07.2025 - 23.07.2025
DESCRIPTION:Link zum Verfahren: https://konkurado.ch/de/neubau-bundesasylze
 ntrum-buosingen
X-MICROSOFT-CDO-ALLDAYEVENT:TRUE
DTSTART;TZID=Europe/Zurich;VALUE=DATE:20250708
END:VEVENT
BEGIN:VEVENT
UID:69e9f31829c3a
DTSTAMP:20260423T102320Z
SUMMARY:KONKURADO: Neubau Bundesasylzentrum Buosingen\, Fragestellung durch
  die Teilnehmenden 08.07.2025 - 23.07.2025
DESCRIPTION:Link zum Verfahren: https://konkurado.ch/de/neubau-bundesasylze
 ntrum-buosingen
X-MICROSOFT-CDO-ALLDAYEVENT:TRUE
DTSTART;TZID=Europe/Zurich;VALUE=DATE:20250723
END:VEVENT
BEGIN:VEVENT
UID:69e9f31829c67
DTSTAMP:20260423T102320Z
SUMMARY:KONKURADO: Neubau Bundesasylzentrum Buosingen\, Schlussabgabe 06.09
 .2025 - 12.12.2025
DESCRIPTION:Link zum Verfahren: https://konkurado.ch/de/neubau-bundesasylze
 ntrum-buosingen
X-MICROSOFT-CDO-ALLDAYEVENT:TRUE
DTSTART;TZID=Europe/Zurich;VALUE=DATE:20250906
END:VEVENT
BEGIN:VEVENT
UID:69e9f31829c8b
DTSTAMP:20260423T102320Z
SUMMARY:KONKURADO: Neubau Bundesasylzentrum Buosingen\, Schlussabgabe 06.09
 .2025 - 12.12.2025
DESCRIPTION:Link zum Verfahren: https://konkurado.ch/de/neubau-bundesasylze
 ntrum-buosingen
X-MICROSOFT-CDO-ALLDAYEVENT:TRUE
DTSTART;TZID=Europe/Zurich;VALUE=DATE:20251212
END:VEVENT
END:VCALENDAR