BEGIN:VCALENDAR
VERSION:2.0
PRODID:spatie/icalendar-generator
NAME:Neu- und Umbau Werkhof Felsenau
X-WR-CALNAME:Neu- und Umbau Werkhof Felsenau
BEGIN:VTIMEZONE
TZID:Europe/Zurich
BEGIN:STANDARD
DTSTART:20251026T030000
TZOFFSETFROM:+0200
TZOFFSETTO:+0100
END:STANDARD
BEGIN:DAYLIGHT
DTSTART:20260329T010000
TZOFFSETFROM:+0100
TZOFFSETTO:+0200
END:DAYLIGHT
BEGIN:STANDARD
DTSTART:20261025T030000
TZOFFSETFROM:+0200
TZOFFSETTO:+0100
END:STANDARD
END:VTIMEZONE
BEGIN:VTIMEZONE
TZID:UTC
BEGIN:STANDARD
DTSTART:20250723T135345
TZOFFSETFROM:+0000
TZOFFSETTO:+0000
END:STANDARD
END:VTIMEZONE
BEGIN:VEVENT
UID:69e4de6950183
DTSTAMP:20260419T135345Z
SUMMARY:KONKURADO: Neu- und Umbau Werkhof Felsenau\, Fragerunde\, einreiche
 n bis 05.05.2026 - 05.05.2026
DESCRIPTION:Link zum Verfahren: https://konkurado.ch/de/neu-und-umbau-werkh
 of-felsenau
X-MICROSOFT-CDO-ALLDAYEVENT:TRUE
DTSTART;TZID=Europe/Zurich;VALUE=DATE:20260505
END:VEVENT
BEGIN:VEVENT
UID:69e4de6950208
DTSTAMP:20260419T135345Z
SUMMARY:KONKURADO: Neu- und Umbau Werkhof Felsenau\, Fragerunde\, einreiche
 n bis 05.05.2026 - 05.05.2026
DESCRIPTION:Link zum Verfahren: https://konkurado.ch/de/neu-und-umbau-werkh
 of-felsenau
X-MICROSOFT-CDO-ALLDAYEVENT:TRUE
DTSTART;TZID=Europe/Zurich;VALUE=DATE:20260505
END:VEVENT
BEGIN:VEVENT
UID:69e4de695027f
DTSTAMP:20260419T135345Z
SUMMARY:KONKURADO: Neu- und Umbau Werkhof Felsenau\, Einreichen von Angebot
 en bis 05.06.2026 - 05.06.2026
DESCRIPTION:Link zum Verfahren: https://konkurado.ch/de/neu-und-umbau-werkh
 of-felsenau
X-MICROSOFT-CDO-ALLDAYEVENT:TRUE
DTSTART;TZID=Europe/Zurich;VALUE=DATE:20260605
END:VEVENT
BEGIN:VEVENT
UID:69e4de69502b7
DTSTAMP:20260419T135345Z
SUMMARY:KONKURADO: Neu- und Umbau Werkhof Felsenau\, Einreichen von Angebot
 en bis 05.06.2026 - 05.06.2026
DESCRIPTION:Link zum Verfahren: https://konkurado.ch/de/neu-und-umbau-werkh
 of-felsenau
X-MICROSOFT-CDO-ALLDAYEVENT:TRUE
DTSTART;TZID=Europe/Zurich;VALUE=DATE:20260605
END:VEVENT
BEGIN:VEVENT
UID:69e4de6950324
DTSTAMP:20260419T135345Z
SUMMARY:KONKURADO: Neu- und Umbau Werkhof Felsenau\, Verfügbarkeit der Aus
 schreibungsunterlagen 17.04.2026 - 05.06.2026
DESCRIPTION:Link zum Verfahren: https://konkurado.ch/de/neu-und-umbau-werkh
 of-felsenau
X-MICROSOFT-CDO-ALLDAYEVENT:TRUE
DTSTART;TZID=Europe/Zurich;VALUE=DATE:20260417
END:VEVENT
BEGIN:VEVENT
UID:69e4de695034b
DTSTAMP:20260419T135345Z
SUMMARY:KONKURADO: Neu- und Umbau Werkhof Felsenau\, Verfügbarkeit der Aus
 schreibungsunterlagen 17.04.2026 - 05.06.2026
DESCRIPTION:Link zum Verfahren: https://konkurado.ch/de/neu-und-umbau-werkh
 of-felsenau
X-MICROSOFT-CDO-ALLDAYEVENT:TRUE
DTSTART;TZID=Europe/Zurich;VALUE=DATE:20260605
END:VEVENT
END:VCALENDAR