BEGIN:VCALENDAR
VERSION:2.0
PRODID:spatie/icalendar-generator
NAME:N20.72 MP-200061 - NEB Upn. CDF-Neuchâtel - APR-DLT BSA ph.MP à 53 (
 ID 11767)
X-WR-CALNAME:N20.72 MP-200061 - NEB Upn. CDF-Neuchâtel - APR-DLT BSA ph.MP
  à 53 (ID 11767)
BEGIN:VTIMEZONE
TZID:Europe/Zurich
BEGIN:STANDARD
DTSTART:20251026T030000
TZOFFSETFROM:+0200
TZOFFSETTO:+0100
END:STANDARD
BEGIN:DAYLIGHT
DTSTART:20260329T010000
TZOFFSETFROM:+0100
TZOFFSETTO:+0200
END:DAYLIGHT
BEGIN:STANDARD
DTSTART:20261025T030000
TZOFFSETFROM:+0200
TZOFFSETTO:+0100
END:STANDARD
END:VTIMEZONE
BEGIN:VTIMEZONE
TZID:UTC
BEGIN:STANDARD
DTSTART:20250723T135344
TZOFFSETFROM:+0000
TZOFFSETTO:+0000
END:STANDARD
END:VTIMEZONE
BEGIN:VEVENT
UID:69e4de6880b8f
DTSTAMP:20260419T135344Z
SUMMARY:KONKURADO: N20.72 MP-200061 - NEB Upn. CDF-Neuchâtel - APR-DLT BSA
  ph.MP à 53 (ID 11767)\, Soumission de questions jusqu’au 04.05.2026 - 
 04.05.2026
DESCRIPTION:Link zum Verfahren: https://konkurado.ch/de/n2072-mp-200061-neb
 -upn-cdf-neuchatel-apr-dlt-bsa-phmp-a-53-id-11767
X-MICROSOFT-CDO-ALLDAYEVENT:TRUE
DTSTART;TZID=Europe/Zurich;VALUE=DATE:20260504
END:VEVENT
BEGIN:VEVENT
UID:69e4de6880c16
DTSTAMP:20260419T135344Z
SUMMARY:KONKURADO: N20.72 MP-200061 - NEB Upn. CDF-Neuchâtel - APR-DLT BSA
  ph.MP à 53 (ID 11767)\, Soumission de questions jusqu’au 04.05.2026 - 
 04.05.2026
DESCRIPTION:Link zum Verfahren: https://konkurado.ch/de/n2072-mp-200061-neb
 -upn-cdf-neuchatel-apr-dlt-bsa-phmp-a-53-id-11767
X-MICROSOFT-CDO-ALLDAYEVENT:TRUE
DTSTART;TZID=Europe/Zurich;VALUE=DATE:20260504
END:VEVENT
BEGIN:VEVENT
UID:69e4de6880c89
DTSTAMP:20260419T135344Z
SUMMARY:KONKURADO: N20.72 MP-200061 - NEB Upn. CDF-Neuchâtel - APR-DLT BSA
  ph.MP à 53 (ID 11767)\, Soumission des offres jusqu’au 02.06.2026 - 02
 .06.2026
DESCRIPTION:Link zum Verfahren: https://konkurado.ch/de/n2072-mp-200061-neb
 -upn-cdf-neuchatel-apr-dlt-bsa-phmp-a-53-id-11767
X-MICROSOFT-CDO-ALLDAYEVENT:TRUE
DTSTART;TZID=Europe/Zurich;VALUE=DATE:20260602
END:VEVENT
BEGIN:VEVENT
UID:69e4de6880cb1
DTSTAMP:20260419T135344Z
SUMMARY:KONKURADO: N20.72 MP-200061 - NEB Upn. CDF-Neuchâtel - APR-DLT BSA
  ph.MP à 53 (ID 11767)\, Soumission des offres jusqu’au 02.06.2026 - 02
 .06.2026
DESCRIPTION:Link zum Verfahren: https://konkurado.ch/de/n2072-mp-200061-neb
 -upn-cdf-neuchatel-apr-dlt-bsa-phmp-a-53-id-11767
X-MICROSOFT-CDO-ALLDAYEVENT:TRUE
DTSTART;TZID=Europe/Zurich;VALUE=DATE:20260602
END:VEVENT
BEGIN:VEVENT
UID:69e4de6880d0a
DTSTAMP:20260419T135344Z
SUMMARY:KONKURADO: N20.72 MP-200061 - NEB Upn. CDF-Neuchâtel - APR-DLT BSA
  ph.MP à 53 (ID 11767)\, Ouverture des offres 05.06.2026 - 05.06.2026
DESCRIPTION:Link zum Verfahren: https://konkurado.ch/de/n2072-mp-200061-neb
 -upn-cdf-neuchatel-apr-dlt-bsa-phmp-a-53-id-11767
X-MICROSOFT-CDO-ALLDAYEVENT:TRUE
DTSTART;TZID=Europe/Zurich;VALUE=DATE:20260605
END:VEVENT
BEGIN:VEVENT
UID:69e4de6880d33
DTSTAMP:20260419T135344Z
SUMMARY:KONKURADO: N20.72 MP-200061 - NEB Upn. CDF-Neuchâtel - APR-DLT BSA
  ph.MP à 53 (ID 11767)\, Ouverture des offres 05.06.2026 - 05.06.2026
DESCRIPTION:Link zum Verfahren: https://konkurado.ch/de/n2072-mp-200061-neb
 -upn-cdf-neuchatel-apr-dlt-bsa-phmp-a-53-id-11767
X-MICROSOFT-CDO-ALLDAYEVENT:TRUE
DTSTART;TZID=Europe/Zurich;VALUE=DATE:20260605
END:VEVENT
BEGIN:VEVENT
UID:69e4de6880d89
DTSTAMP:20260419T135344Z
SUMMARY:KONKURADO: N20.72 MP-200061 - NEB Upn. CDF-Neuchâtel - APR-DLT BSA
  ph.MP à 53 (ID 11767)\, Disponibilité des documents d’appel d’offre
 s 15.04.2026 - 02.06.2026
DESCRIPTION:Link zum Verfahren: https://konkurado.ch/de/n2072-mp-200061-neb
 -upn-cdf-neuchatel-apr-dlt-bsa-phmp-a-53-id-11767
X-MICROSOFT-CDO-ALLDAYEVENT:TRUE
DTSTART;TZID=Europe/Zurich;VALUE=DATE:20260415
END:VEVENT
BEGIN:VEVENT
UID:69e4de6880db2
DTSTAMP:20260419T135344Z
SUMMARY:KONKURADO: N20.72 MP-200061 - NEB Upn. CDF-Neuchâtel - APR-DLT BSA
  ph.MP à 53 (ID 11767)\, Disponibilité des documents d’appel d’offre
 s 15.04.2026 - 02.06.2026
DESCRIPTION:Link zum Verfahren: https://konkurado.ch/de/n2072-mp-200061-neb
 -upn-cdf-neuchatel-apr-dlt-bsa-phmp-a-53-id-11767
X-MICROSOFT-CDO-ALLDAYEVENT:TRUE
DTSTART;TZID=Europe/Zurich;VALUE=DATE:20260602
END:VEVENT
END:VCALENDAR