BEGIN:VCALENDAR
VERSION:2.0
PRODID:spatie/icalendar-generator
NAME:N09.48 MP-080010 - Upn.Vennes-Chexbres - Suivi environnemental de réa
 lisation (SER) TP2 (ID 11792)
X-WR-CALNAME:N09.48 MP-080010 - Upn.Vennes-Chexbres - Suivi environnemental
  de réalisation (SER) TP2 (ID 11792)
BEGIN:VTIMEZONE
TZID:Europe/Zurich
BEGIN:STANDARD
DTSTART:20251026T030000
TZOFFSETFROM:+0200
TZOFFSETTO:+0100
END:STANDARD
BEGIN:DAYLIGHT
DTSTART:20260329T010000
TZOFFSETFROM:+0100
TZOFFSETTO:+0200
END:DAYLIGHT
BEGIN:STANDARD
DTSTART:20261025T030000
TZOFFSETFROM:+0200
TZOFFSETTO:+0100
END:STANDARD
END:VTIMEZONE
BEGIN:VTIMEZONE
TZID:UTC
BEGIN:STANDARD
DTSTART:20250723T135457
TZOFFSETFROM:+0000
TZOFFSETTO:+0000
END:STANDARD
END:VTIMEZONE
BEGIN:VEVENT
UID:69e4deb15ff01
DTSTAMP:20260419T135457Z
SUMMARY:KONKURADO: N09.48 MP-080010 - Upn.Vennes-Chexbres - Suivi environne
 mental de réalisation (SER) TP2 (ID 11792)\, Soumission de questions jusq
 u’au 07.05.2026 - 07.05.2026
DESCRIPTION:Link zum Verfahren: https://konkurado.ch/de/n0948-mp-080010-upn
 vennes-chexbres-suivi-environnemental-de-realisation-ser-tp2-id-11792
X-MICROSOFT-CDO-ALLDAYEVENT:TRUE
DTSTART;TZID=Europe/Zurich;VALUE=DATE:20260507
END:VEVENT
BEGIN:VEVENT
UID:69e4deb15ff94
DTSTAMP:20260419T135457Z
SUMMARY:KONKURADO: N09.48 MP-080010 - Upn.Vennes-Chexbres - Suivi environne
 mental de réalisation (SER) TP2 (ID 11792)\, Soumission de questions jusq
 u’au 07.05.2026 - 07.05.2026
DESCRIPTION:Link zum Verfahren: https://konkurado.ch/de/n0948-mp-080010-upn
 vennes-chexbres-suivi-environnemental-de-realisation-ser-tp2-id-11792
X-MICROSOFT-CDO-ALLDAYEVENT:TRUE
DTSTART;TZID=Europe/Zurich;VALUE=DATE:20260507
END:VEVENT
BEGIN:VEVENT
UID:69e4deb160008
DTSTAMP:20260419T135457Z
SUMMARY:KONKURADO: N09.48 MP-080010 - Upn.Vennes-Chexbres - Suivi environne
 mental de réalisation (SER) TP2 (ID 11792)\, Soumission des offres jusqu
 ’au 08.06.2026 - 08.06.2026
DESCRIPTION:Link zum Verfahren: https://konkurado.ch/de/n0948-mp-080010-upn
 vennes-chexbres-suivi-environnemental-de-realisation-ser-tp2-id-11792
X-MICROSOFT-CDO-ALLDAYEVENT:TRUE
DTSTART;TZID=Europe/Zurich;VALUE=DATE:20260608
END:VEVENT
BEGIN:VEVENT
UID:69e4deb160031
DTSTAMP:20260419T135457Z
SUMMARY:KONKURADO: N09.48 MP-080010 - Upn.Vennes-Chexbres - Suivi environne
 mental de réalisation (SER) TP2 (ID 11792)\, Soumission des offres jusqu
 ’au 08.06.2026 - 08.06.2026
DESCRIPTION:Link zum Verfahren: https://konkurado.ch/de/n0948-mp-080010-upn
 vennes-chexbres-suivi-environnemental-de-realisation-ser-tp2-id-11792
X-MICROSOFT-CDO-ALLDAYEVENT:TRUE
DTSTART;TZID=Europe/Zurich;VALUE=DATE:20260608
END:VEVENT
BEGIN:VEVENT
UID:69e4deb160099
DTSTAMP:20260419T135457Z
SUMMARY:KONKURADO: N09.48 MP-080010 - Upn.Vennes-Chexbres - Suivi environne
 mental de réalisation (SER) TP2 (ID 11792)\, Ouverture des offres 11.06.2
 026 - 11.06.2026
DESCRIPTION:Link zum Verfahren: https://konkurado.ch/de/n0948-mp-080010-upn
 vennes-chexbres-suivi-environnemental-de-realisation-ser-tp2-id-11792
X-MICROSOFT-CDO-ALLDAYEVENT:TRUE
DTSTART;TZID=Europe/Zurich;VALUE=DATE:20260611
END:VEVENT
BEGIN:VEVENT
UID:69e4deb1600c3
DTSTAMP:20260419T135457Z
SUMMARY:KONKURADO: N09.48 MP-080010 - Upn.Vennes-Chexbres - Suivi environne
 mental de réalisation (SER) TP2 (ID 11792)\, Ouverture des offres 11.06.2
 026 - 11.06.2026
DESCRIPTION:Link zum Verfahren: https://konkurado.ch/de/n0948-mp-080010-upn
 vennes-chexbres-suivi-environnemental-de-realisation-ser-tp2-id-11792
X-MICROSOFT-CDO-ALLDAYEVENT:TRUE
DTSTART;TZID=Europe/Zurich;VALUE=DATE:20260611
END:VEVENT
BEGIN:VEVENT
UID:69e4deb16011b
DTSTAMP:20260419T135457Z
SUMMARY:KONKURADO: N09.48 MP-080010 - Upn.Vennes-Chexbres - Suivi environne
 mental de réalisation (SER) TP2 (ID 11792)\, Disponibilité des documents
  d’appel d’offres 16.04.2026 - 08.06.2026
DESCRIPTION:Link zum Verfahren: https://konkurado.ch/de/n0948-mp-080010-upn
 vennes-chexbres-suivi-environnemental-de-realisation-ser-tp2-id-11792
X-MICROSOFT-CDO-ALLDAYEVENT:TRUE
DTSTART;TZID=Europe/Zurich;VALUE=DATE:20260416
END:VEVENT
BEGIN:VEVENT
UID:69e4deb160141
DTSTAMP:20260419T135457Z
SUMMARY:KONKURADO: N09.48 MP-080010 - Upn.Vennes-Chexbres - Suivi environne
 mental de réalisation (SER) TP2 (ID 11792)\, Disponibilité des documents
  d’appel d’offres 16.04.2026 - 08.06.2026
DESCRIPTION:Link zum Verfahren: https://konkurado.ch/de/n0948-mp-080010-upn
 vennes-chexbres-suivi-environnemental-de-realisation-ser-tp2-id-11792
X-MICROSOFT-CDO-ALLDAYEVENT:TRUE
DTSTART;TZID=Europe/Zurich;VALUE=DATE:20260608
END:VEVENT
END:VCALENDAR