BEGIN:VCALENDAR
VERSION:2.0
PRODID:spatie/icalendar-generator
NAME:Modernisierung Schulraum\, Primarschulanlage Rorbas
X-WR-CALNAME:Modernisierung Schulraum\, Primarschulanlage Rorbas
BEGIN:VTIMEZONE
TZID:Europe/Zurich
BEGIN:STANDARD
DTSTART:20251026T030000
TZOFFSETFROM:+0200
TZOFFSETTO:+0100
END:STANDARD
BEGIN:DAYLIGHT
DTSTART:20260329T010000
TZOFFSETFROM:+0100
TZOFFSETTO:+0200
END:DAYLIGHT
BEGIN:STANDARD
DTSTART:20261025T030000
TZOFFSETFROM:+0200
TZOFFSETTO:+0100
END:STANDARD
BEGIN:DAYLIGHT
DTSTART:20270328T010000
TZOFFSETFROM:+0100
TZOFFSETTO:+0200
END:DAYLIGHT
END:VTIMEZONE
BEGIN:VTIMEZONE
TZID:UTC
BEGIN:STANDARD
DTSTART:20250727T234239
TZOFFSETFROM:+0000
TZOFFSETTO:+0000
END:STANDARD
END:VTIMEZONE
BEGIN:VEVENT
UID:69eaae6f99b8f
DTSTAMP:20260423T234239Z
SUMMARY:KONKURADO: Modernisierung Schulraum\, Primarschulanlage Rorbas\, Ab
 gabe PQ-Unterlagen (Bewerbung) 28.05.2026 - 28.05.2026
DESCRIPTION:Link zum Verfahren: https://konkurado.ch/de/modernisierung-schu
 lraum-primarschulanlage-rorbas
X-MICROSOFT-CDO-ALLDAYEVENT:TRUE
DTSTART;TZID=Europe/Zurich;VALUE=DATE:20260528
END:VEVENT
BEGIN:VEVENT
UID:69eaae6f99c21
DTSTAMP:20260423T234239Z
SUMMARY:KONKURADO: Modernisierung Schulraum\, Primarschulanlage Rorbas\, Ab
 gabe PQ-Unterlagen (Bewerbung) 28.05.2026 - 28.05.2026
DESCRIPTION:Link zum Verfahren: https://konkurado.ch/de/modernisierung-schu
 lraum-primarschulanlage-rorbas
X-MICROSOFT-CDO-ALLDAYEVENT:TRUE
DTSTART;TZID=Europe/Zurich;VALUE=DATE:20260528
END:VEVENT
BEGIN:VEVENT
UID:69eaae6f99dc4
DTSTAMP:20260423T234239Z
SUMMARY:KONKURADO: Modernisierung Schulraum\, Primarschulanlage Rorbas\, Be
 zug der Bewerbungsunterlagen 03.04.2026 - 03.04.2026
DESCRIPTION:Link zum Verfahren: https://konkurado.ch/de/modernisierung-schu
 lraum-primarschulanlage-rorbas
X-MICROSOFT-CDO-ALLDAYEVENT:TRUE
DTSTART;TZID=Europe/Zurich;VALUE=DATE:20260403
END:VEVENT
BEGIN:VEVENT
UID:69eaae6f99dfe
DTSTAMP:20260423T234239Z
SUMMARY:KONKURADO: Modernisierung Schulraum\, Primarschulanlage Rorbas\, Be
 zug der Bewerbungsunterlagen 03.04.2026 - 03.04.2026
DESCRIPTION:Link zum Verfahren: https://konkurado.ch/de/modernisierung-schu
 lraum-primarschulanlage-rorbas
X-MICROSOFT-CDO-ALLDAYEVENT:TRUE
DTSTART;TZID=Europe/Zurich;VALUE=DATE:20260403
END:VEVENT
BEGIN:VEVENT
UID:69eaae6f99e51
DTSTAMP:20260423T234239Z
SUMMARY:KONKURADO: Modernisierung Schulraum\, Primarschulanlage Rorbas\, Fr
 agenstellung 17.04.2026 - 17.04.2026
DESCRIPTION:Link zum Verfahren: https://konkurado.ch/de/modernisierung-schu
 lraum-primarschulanlage-rorbas
X-MICROSOFT-CDO-ALLDAYEVENT:TRUE
DTSTART;TZID=Europe/Zurich;VALUE=DATE:20260417
END:VEVENT
BEGIN:VEVENT
UID:69eaae6f99e87
DTSTAMP:20260423T234239Z
SUMMARY:KONKURADO: Modernisierung Schulraum\, Primarschulanlage Rorbas\, Fr
 agenstellung 17.04.2026 - 17.04.2026
DESCRIPTION:Link zum Verfahren: https://konkurado.ch/de/modernisierung-schu
 lraum-primarschulanlage-rorbas
X-MICROSOFT-CDO-ALLDAYEVENT:TRUE
DTSTART;TZID=Europe/Zurich;VALUE=DATE:20260417
END:VEVENT
BEGIN:VEVENT
UID:69eaae6f99ec3
DTSTAMP:20260423T234239Z
SUMMARY:KONKURADO: Modernisierung Schulraum\, Primarschulanlage Rorbas\, Vo
 rabgabe Unterlagen Zwischenbesprechung 28.08.2026 - 28.08.2026
DESCRIPTION:Link zum Verfahren: https://konkurado.ch/de/modernisierung-schu
 lraum-primarschulanlage-rorbas
X-MICROSOFT-CDO-ALLDAYEVENT:TRUE
DTSTART;TZID=Europe/Zurich;VALUE=DATE:20260828
END:VEVENT
BEGIN:VEVENT
UID:69eaae6f99ee8
DTSTAMP:20260423T234239Z
SUMMARY:KONKURADO: Modernisierung Schulraum\, Primarschulanlage Rorbas\, Vo
 rabgabe Unterlagen Zwischenbesprechung 28.08.2026 - 28.08.2026
DESCRIPTION:Link zum Verfahren: https://konkurado.ch/de/modernisierung-schu
 lraum-primarschulanlage-rorbas
X-MICROSOFT-CDO-ALLDAYEVENT:TRUE
DTSTART;TZID=Europe/Zurich;VALUE=DATE:20260828
END:VEVENT
BEGIN:VEVENT
UID:69eaae6f99f55
DTSTAMP:20260423T234239Z
SUMMARY:KONKURADO: Modernisierung Schulraum\, Primarschulanlage Rorbas\, Fr
 agenbeantwortung 24.04.2026 - 24.04.2026
DESCRIPTION:Link zum Verfahren: https://konkurado.ch/de/modernisierung-schu
 lraum-primarschulanlage-rorbas
X-MICROSOFT-CDO-ALLDAYEVENT:TRUE
DTSTART;TZID=Europe/Zurich;VALUE=DATE:20260424
END:VEVENT
BEGIN:VEVENT
UID:69eaae6f99f7b
DTSTAMP:20260423T234239Z
SUMMARY:KONKURADO: Modernisierung Schulraum\, Primarschulanlage Rorbas\, Fr
 agenbeantwortung 24.04.2026 - 24.04.2026
DESCRIPTION:Link zum Verfahren: https://konkurado.ch/de/modernisierung-schu
 lraum-primarschulanlage-rorbas
X-MICROSOFT-CDO-ALLDAYEVENT:TRUE
DTSTART;TZID=Europe/Zurich;VALUE=DATE:20260424
END:VEVENT
BEGIN:VEVENT
UID:69eaae6f99fe3
DTSTAMP:20260423T234239Z
SUMMARY:KONKURADO: Modernisierung Schulraum\, Primarschulanlage Rorbas\, Ei
 nreichung Teilnahmebestätigung 12.06.2026 - 12.06.2026
DESCRIPTION:Link zum Verfahren: https://konkurado.ch/de/modernisierung-schu
 lraum-primarschulanlage-rorbas
X-MICROSOFT-CDO-ALLDAYEVENT:TRUE
DTSTART;TZID=Europe/Zurich;VALUE=DATE:20260612
END:VEVENT
BEGIN:VEVENT
UID:69eaae6f9a00b
DTSTAMP:20260423T234239Z
SUMMARY:KONKURADO: Modernisierung Schulraum\, Primarschulanlage Rorbas\, Ei
 nreichung Teilnahmebestätigung 12.06.2026 - 12.06.2026
DESCRIPTION:Link zum Verfahren: https://konkurado.ch/de/modernisierung-schu
 lraum-primarschulanlage-rorbas
X-MICROSOFT-CDO-ALLDAYEVENT:TRUE
DTSTART;TZID=Europe/Zurich;VALUE=DATE:20260612
END:VEVENT
BEGIN:VEVENT
UID:69eaae6f9a060
DTSTAMP:20260423T234239Z
SUMMARY:KONKURADO: Modernisierung Schulraum\, Primarschulanlage Rorbas\, Ei
 nladung / Ausgabe Planunterlagen 19.06.2026 - 19.06.2026
DESCRIPTION:Link zum Verfahren: https://konkurado.ch/de/modernisierung-schu
 lraum-primarschulanlage-rorbas
X-MICROSOFT-CDO-ALLDAYEVENT:TRUE
DTSTART;TZID=Europe/Zurich;VALUE=DATE:20260619
END:VEVENT
BEGIN:VEVENT
UID:69eaae6f9a086
DTSTAMP:20260423T234239Z
SUMMARY:KONKURADO: Modernisierung Schulraum\, Primarschulanlage Rorbas\, Ei
 nladung / Ausgabe Planunterlagen 19.06.2026 - 19.06.2026
DESCRIPTION:Link zum Verfahren: https://konkurado.ch/de/modernisierung-schu
 lraum-primarschulanlage-rorbas
X-MICROSOFT-CDO-ALLDAYEVENT:TRUE
DTSTART;TZID=Europe/Zurich;VALUE=DATE:20260619
END:VEVENT
BEGIN:VEVENT
UID:69eaae6f9a0d8
DTSTAMP:20260423T234239Z
SUMMARY:KONKURADO: Modernisierung Schulraum\, Primarschulanlage Rorbas\, St
 artveranstaltung / Begehung (obligatorisch) 29.06.2026 - 29.06.2026
DESCRIPTION:Link zum Verfahren: https://konkurado.ch/de/modernisierung-schu
 lraum-primarschulanlage-rorbas
X-MICROSOFT-CDO-ALLDAYEVENT:TRUE
DTSTART;TZID=Europe/Zurich;VALUE=DATE:20260629
END:VEVENT
BEGIN:VEVENT
UID:69eaae6f9a0fd
DTSTAMP:20260423T234239Z
SUMMARY:KONKURADO: Modernisierung Schulraum\, Primarschulanlage Rorbas\, St
 artveranstaltung / Begehung (obligatorisch) 29.06.2026 - 29.06.2026
DESCRIPTION:Link zum Verfahren: https://konkurado.ch/de/modernisierung-schu
 lraum-primarschulanlage-rorbas
X-MICROSOFT-CDO-ALLDAYEVENT:TRUE
DTSTART;TZID=Europe/Zurich;VALUE=DATE:20260629
END:VEVENT
BEGIN:VEVENT
UID:69eaae6f9a14d
DTSTAMP:20260423T234239Z
SUMMARY:KONKURADO: Modernisierung Schulraum\, Primarschulanlage Rorbas\, Br
 iefing Planungsteams mit Gebäudebesichtigung / Modellausgabe 29.06.2026 -
  29.05.2026
DESCRIPTION:Link zum Verfahren: https://konkurado.ch/de/modernisierung-schu
 lraum-primarschulanlage-rorbas
X-MICROSOFT-CDO-ALLDAYEVENT:TRUE
DTSTART;TZID=Europe/Zurich;VALUE=DATE:20260629
END:VEVENT
BEGIN:VEVENT
UID:69eaae6f9a183
DTSTAMP:20260423T234239Z
SUMMARY:KONKURADO: Modernisierung Schulraum\, Primarschulanlage Rorbas\, Br
 iefing Planungsteams mit Gebäudebesichtigung / Modellausgabe 29.06.2026 -
  29.05.2026
DESCRIPTION:Link zum Verfahren: https://konkurado.ch/de/modernisierung-schu
 lraum-primarschulanlage-rorbas
X-MICROSOFT-CDO-ALLDAYEVENT:TRUE
DTSTART;TZID=Europe/Zurich;VALUE=DATE:20260529
END:VEVENT
BEGIN:VEVENT
UID:69eaae6f9a1bc
DTSTAMP:20260423T234239Z
SUMMARY:KONKURADO: Modernisierung Schulraum\, Primarschulanlage Rorbas\, Fr
 agenstellung 13.07.2026 - 13.07.2026
DESCRIPTION:Link zum Verfahren: https://konkurado.ch/de/modernisierung-schu
 lraum-primarschulanlage-rorbas
X-MICROSOFT-CDO-ALLDAYEVENT:TRUE
DTSTART;TZID=Europe/Zurich;VALUE=DATE:20260713
END:VEVENT
BEGIN:VEVENT
UID:69eaae6f9a1e0
DTSTAMP:20260423T234239Z
SUMMARY:KONKURADO: Modernisierung Schulraum\, Primarschulanlage Rorbas\, Fr
 agenstellung 13.07.2026 - 13.07.2026
DESCRIPTION:Link zum Verfahren: https://konkurado.ch/de/modernisierung-schu
 lraum-primarschulanlage-rorbas
X-MICROSOFT-CDO-ALLDAYEVENT:TRUE
DTSTART;TZID=Europe/Zurich;VALUE=DATE:20260713
END:VEVENT
BEGIN:VEVENT
UID:69eaae6f9a23d
DTSTAMP:20260423T234239Z
SUMMARY:KONKURADO: Modernisierung Schulraum\, Primarschulanlage Rorbas\, Fr
 agenbeantwortung 24.07.2026 - 24.07.2026
DESCRIPTION:Link zum Verfahren: https://konkurado.ch/de/modernisierung-schu
 lraum-primarschulanlage-rorbas
X-MICROSOFT-CDO-ALLDAYEVENT:TRUE
DTSTART;TZID=Europe/Zurich;VALUE=DATE:20260724
END:VEVENT
BEGIN:VEVENT
UID:69eaae6f9a274
DTSTAMP:20260423T234239Z
SUMMARY:KONKURADO: Modernisierung Schulraum\, Primarschulanlage Rorbas\, Fr
 agenbeantwortung 24.07.2026 - 24.07.2026
DESCRIPTION:Link zum Verfahren: https://konkurado.ch/de/modernisierung-schu
 lraum-primarschulanlage-rorbas
X-MICROSOFT-CDO-ALLDAYEVENT:TRUE
DTSTART;TZID=Europe/Zurich;VALUE=DATE:20260724
END:VEVENT
BEGIN:VEVENT
UID:69eaae6f9a2cd
DTSTAMP:20260423T234239Z
SUMMARY:KONKURADO: Modernisierung Schulraum\, Primarschulanlage Rorbas\, Zw
 ischenbesprechung mit Planungsteams 03.09.2026 - 03.09.2026
DESCRIPTION:Link zum Verfahren: https://konkurado.ch/de/modernisierung-schu
 lraum-primarschulanlage-rorbas
X-MICROSOFT-CDO-ALLDAYEVENT:TRUE
DTSTART;TZID=Europe/Zurich;VALUE=DATE:20260903
END:VEVENT
BEGIN:VEVENT
UID:69eaae6f9a2f3
DTSTAMP:20260423T234239Z
SUMMARY:KONKURADO: Modernisierung Schulraum\, Primarschulanlage Rorbas\, Zw
 ischenbesprechung mit Planungsteams 03.09.2026 - 03.09.2026
DESCRIPTION:Link zum Verfahren: https://konkurado.ch/de/modernisierung-schu
 lraum-primarschulanlage-rorbas
X-MICROSOFT-CDO-ALLDAYEVENT:TRUE
DTSTART;TZID=Europe/Zurich;VALUE=DATE:20260903
END:VEVENT
BEGIN:VEVENT
UID:69eaae6f9a345
DTSTAMP:20260423T234239Z
SUMMARY:KONKURADO: Modernisierung Schulraum\, Primarschulanlage Rorbas\, R
 ückmeldungen an Teams | Empfehlungen im Hinblick auf die Schlussabgabe 18
 .09.2026 - 18.09.2026
DESCRIPTION:Link zum Verfahren: https://konkurado.ch/de/modernisierung-schu
 lraum-primarschulanlage-rorbas
X-MICROSOFT-CDO-ALLDAYEVENT:TRUE
DTSTART;TZID=Europe/Zurich;VALUE=DATE:20260918
END:VEVENT
BEGIN:VEVENT
UID:69eaae6f9a36b
DTSTAMP:20260423T234239Z
SUMMARY:KONKURADO: Modernisierung Schulraum\, Primarschulanlage Rorbas\, R
 ückmeldungen an Teams | Empfehlungen im Hinblick auf die Schlussabgabe 18
 .09.2026 - 18.09.2026
DESCRIPTION:Link zum Verfahren: https://konkurado.ch/de/modernisierung-schu
 lraum-primarschulanlage-rorbas
X-MICROSOFT-CDO-ALLDAYEVENT:TRUE
DTSTART;TZID=Europe/Zurich;VALUE=DATE:20260918
END:VEVENT
BEGIN:VEVENT
UID:69eaae6f9a39b
DTSTAMP:20260423T234239Z
SUMMARY:KONKURADO: Modernisierung Schulraum\, Primarschulanlage Rorbas\, Ab
 gabe der Studien 27.11.2026 - 27.11.2026
DESCRIPTION:Link zum Verfahren: https://konkurado.ch/de/modernisierung-schu
 lraum-primarschulanlage-rorbas
X-MICROSOFT-CDO-ALLDAYEVENT:TRUE
DTSTART;TZID=Europe/Zurich;VALUE=DATE:20261127
END:VEVENT
BEGIN:VEVENT
UID:69eaae6f9a3c0
DTSTAMP:20260423T234239Z
SUMMARY:KONKURADO: Modernisierung Schulraum\, Primarschulanlage Rorbas\, Ab
 gabe der Studien 27.11.2026 - 27.11.2026
DESCRIPTION:Link zum Verfahren: https://konkurado.ch/de/modernisierung-schu
 lraum-primarschulanlage-rorbas
X-MICROSOFT-CDO-ALLDAYEVENT:TRUE
DTSTART;TZID=Europe/Zurich;VALUE=DATE:20261127
END:VEVENT
BEGIN:VEVENT
UID:69eaae6f9a3ec
DTSTAMP:20260423T234239Z
SUMMARY:KONKURADO: Modernisierung Schulraum\, Primarschulanlage Rorbas\, Ab
 gabe der Modelle 09.12.2026 - 09.12.2026
DESCRIPTION:Link zum Verfahren: https://konkurado.ch/de/modernisierung-schu
 lraum-primarschulanlage-rorbas
X-MICROSOFT-CDO-ALLDAYEVENT:TRUE
DTSTART;TZID=Europe/Zurich;VALUE=DATE:20261209
END:VEVENT
BEGIN:VEVENT
UID:69eaae6f9a410
DTSTAMP:20260423T234239Z
SUMMARY:KONKURADO: Modernisierung Schulraum\, Primarschulanlage Rorbas\, Ab
 gabe der Modelle 09.12.2026 - 09.12.2026
DESCRIPTION:Link zum Verfahren: https://konkurado.ch/de/modernisierung-schu
 lraum-primarschulanlage-rorbas
X-MICROSOFT-CDO-ALLDAYEVENT:TRUE
DTSTART;TZID=Europe/Zurich;VALUE=DATE:20261209
END:VEVENT
BEGIN:VEVENT
UID:69eaae6f9a46a
DTSTAMP:20260423T234239Z
SUMMARY:KONKURADO: Modernisierung Schulraum\, Primarschulanlage Rorbas\, 1.
  Beurteilungstag der Jury 10.12.2026 - 10.12.2026
DESCRIPTION:Link zum Verfahren: https://konkurado.ch/de/modernisierung-schu
 lraum-primarschulanlage-rorbas
X-MICROSOFT-CDO-ALLDAYEVENT:TRUE
DTSTART;TZID=Europe/Zurich;VALUE=DATE:20261210
END:VEVENT
BEGIN:VEVENT
UID:69eaae6f9a4a1
DTSTAMP:20260423T234239Z
SUMMARY:KONKURADO: Modernisierung Schulraum\, Primarschulanlage Rorbas\, 1.
  Beurteilungstag der Jury 10.12.2026 - 10.12.2026
DESCRIPTION:Link zum Verfahren: https://konkurado.ch/de/modernisierung-schu
 lraum-primarschulanlage-rorbas
X-MICROSOFT-CDO-ALLDAYEVENT:TRUE
DTSTART;TZID=Europe/Zurich;VALUE=DATE:20261210
END:VEVENT
BEGIN:VEVENT
UID:69eaae6f9a4db
DTSTAMP:20260423T234239Z
SUMMARY:KONKURADO: Modernisierung Schulraum\, Primarschulanlage Rorbas\, 2.
  Beurteilungstag der Jury 15.12.2026 - 15.12.2026
DESCRIPTION:Link zum Verfahren: https://konkurado.ch/de/modernisierung-schu
 lraum-primarschulanlage-rorbas
X-MICROSOFT-CDO-ALLDAYEVENT:TRUE
DTSTART;TZID=Europe/Zurich;VALUE=DATE:20261215
END:VEVENT
BEGIN:VEVENT
UID:69eaae6f9a500
DTSTAMP:20260423T234239Z
SUMMARY:KONKURADO: Modernisierung Schulraum\, Primarschulanlage Rorbas\, 2.
  Beurteilungstag der Jury 15.12.2026 - 15.12.2026
DESCRIPTION:Link zum Verfahren: https://konkurado.ch/de/modernisierung-schu
 lraum-primarschulanlage-rorbas
X-MICROSOFT-CDO-ALLDAYEVENT:TRUE
DTSTART;TZID=Europe/Zurich;VALUE=DATE:20261215
END:VEVENT
END:VCALENDAR