BEGIN:VCALENDAR
VERSION:2.0
PRODID:spatie/icalendar-generator
NAME:Mandataires pour la transformation du Secteur France (phases SIA 31 à
  53)
X-WR-CALNAME:Mandataires pour la transformation du Secteur France (phases S
 IA 31 à 53)
BEGIN:VTIMEZONE
TZID:Europe/Zurich
BEGIN:STANDARD
DTSTART:20251026T030000
TZOFFSETFROM:+0200
TZOFFSETTO:+0100
END:STANDARD
BEGIN:DAYLIGHT
DTSTART:20260329T010000
TZOFFSETFROM:+0100
TZOFFSETTO:+0200
END:DAYLIGHT
BEGIN:STANDARD
DTSTART:20261025T030000
TZOFFSETFROM:+0200
TZOFFSETTO:+0100
END:STANDARD
END:VTIMEZONE
BEGIN:VTIMEZONE
TZID:UTC
BEGIN:STANDARD
DTSTART:20250723T135503
TZOFFSETFROM:+0000
TZOFFSETTO:+0000
END:STANDARD
END:VTIMEZONE
BEGIN:VEVENT
UID:69e4deb779c3d
DTSTAMP:20260419T135503Z
SUMMARY:KONKURADO: Mandataires pour la transformation du Secteur France (ph
 ases SIA 31 à 53)\, Soumission de questions jusqu’au 29.04.2026 - 29.04
 .2026
DESCRIPTION:Link zum Verfahren: https://konkurado.ch/de/mandataires-pour-la
 -transformation-du-secteur-france-phases-sia-31-a-53
X-MICROSOFT-CDO-ALLDAYEVENT:TRUE
DTSTART;TZID=Europe/Zurich;VALUE=DATE:20260429
END:VEVENT
BEGIN:VEVENT
UID:69e4deb779ccc
DTSTAMP:20260419T135503Z
SUMMARY:KONKURADO: Mandataires pour la transformation du Secteur France (ph
 ases SIA 31 à 53)\, Soumission de questions jusqu’au 29.04.2026 - 29.04
 .2026
DESCRIPTION:Link zum Verfahren: https://konkurado.ch/de/mandataires-pour-la
 -transformation-du-secteur-france-phases-sia-31-a-53
X-MICROSOFT-CDO-ALLDAYEVENT:TRUE
DTSTART;TZID=Europe/Zurich;VALUE=DATE:20260429
END:VEVENT
BEGIN:VEVENT
UID:69e4deb779d48
DTSTAMP:20260419T135503Z
SUMMARY:KONKURADO: Mandataires pour la transformation du Secteur France (ph
 ases SIA 31 à 53)\, Soumission des offres jusqu’au 26.05.2026 - 26.05.2
 026
DESCRIPTION:Link zum Verfahren: https://konkurado.ch/de/mandataires-pour-la
 -transformation-du-secteur-france-phases-sia-31-a-53
X-MICROSOFT-CDO-ALLDAYEVENT:TRUE
DTSTART;TZID=Europe/Zurich;VALUE=DATE:20260526
END:VEVENT
BEGIN:VEVENT
UID:69e4deb779d71
DTSTAMP:20260419T135503Z
SUMMARY:KONKURADO: Mandataires pour la transformation du Secteur France (ph
 ases SIA 31 à 53)\, Soumission des offres jusqu’au 26.05.2026 - 26.05.2
 026
DESCRIPTION:Link zum Verfahren: https://konkurado.ch/de/mandataires-pour-la
 -transformation-du-secteur-france-phases-sia-31-a-53
X-MICROSOFT-CDO-ALLDAYEVENT:TRUE
DTSTART;TZID=Europe/Zurich;VALUE=DATE:20260526
END:VEVENT
END:VCALENDAR