BEGIN:VCALENDAR
VERSION:2.0
PRODID:spatie/icalendar-generator
NAME:Maison du Terroir : transformation du dépôt en laboratoire d'oenolog
 ie\, Mandat d'Architecte mandataire principal
X-WR-CALNAME:Maison du Terroir : transformation du dépôt en laboratoire d
 'oenologie\, Mandat d'Architecte mandataire principal
BEGIN:VTIMEZONE
TZID:Europe/Zurich
BEGIN:STANDARD
DTSTART:20251026T030000
TZOFFSETFROM:+0200
TZOFFSETTO:+0100
END:STANDARD
BEGIN:DAYLIGHT
DTSTART:20260329T010000
TZOFFSETFROM:+0100
TZOFFSETTO:+0200
END:DAYLIGHT
BEGIN:STANDARD
DTSTART:20261025T030000
TZOFFSETFROM:+0200
TZOFFSETTO:+0100
END:STANDARD
END:VTIMEZONE
BEGIN:VTIMEZONE
TZID:UTC
BEGIN:STANDARD
DTSTART:20250723T135747
TZOFFSETFROM:+0000
TZOFFSETTO:+0000
END:STANDARD
END:VTIMEZONE
BEGIN:VEVENT
UID:69e4df5b9937a
DTSTAMP:20260419T135747Z
SUMMARY:KONKURADO: Maison du Terroir : transformation du dépôt en laborat
 oire d'oenologie\, Mandat d'Architecte mandataire principal\, Session de q
 uestions\, soumettre avant 17.04.2026 - 17.04.2026
DESCRIPTION:Link zum Verfahren: https://konkurado.ch/de/maison-du-terroir-t
 ransformation-du-depot-en-laboratoire-doenologie-mandat-darchitecte-mandat
 aire-principal
X-MICROSOFT-CDO-ALLDAYEVENT:TRUE
DTSTART;TZID=Europe/Zurich;VALUE=DATE:20260417
END:VEVENT
BEGIN:VEVENT
UID:69e4df5b99406
DTSTAMP:20260419T135747Z
SUMMARY:KONKURADO: Maison du Terroir : transformation du dépôt en laborat
 oire d'oenologie\, Mandat d'Architecte mandataire principal\, Session de q
 uestions\, soumettre avant 17.04.2026 - 17.04.2026
DESCRIPTION:Link zum Verfahren: https://konkurado.ch/de/maison-du-terroir-t
 ransformation-du-depot-en-laboratoire-doenologie-mandat-darchitecte-mandat
 aire-principal
X-MICROSOFT-CDO-ALLDAYEVENT:TRUE
DTSTART;TZID=Europe/Zurich;VALUE=DATE:20260417
END:VEVENT
BEGIN:VEVENT
UID:69e4df5b9947d
DTSTAMP:20260419T135747Z
SUMMARY:KONKURADO: Maison du Terroir : transformation du dépôt en laborat
 oire d'oenologie\, Mandat d'Architecte mandataire principal\, Soumission d
 es offres 08.05.2026 - 08.05.2026
DESCRIPTION:Link zum Verfahren: https://konkurado.ch/de/maison-du-terroir-t
 ransformation-du-depot-en-laboratoire-doenologie-mandat-darchitecte-mandat
 aire-principal
X-MICROSOFT-CDO-ALLDAYEVENT:TRUE
DTSTART;TZID=Europe/Zurich;VALUE=DATE:20260508
END:VEVENT
BEGIN:VEVENT
UID:69e4df5b994a9
DTSTAMP:20260419T135747Z
SUMMARY:KONKURADO: Maison du Terroir : transformation du dépôt en laborat
 oire d'oenologie\, Mandat d'Architecte mandataire principal\, Soumission d
 es offres 08.05.2026 - 08.05.2026
DESCRIPTION:Link zum Verfahren: https://konkurado.ch/de/maison-du-terroir-t
 ransformation-du-depot-en-laboratoire-doenologie-mandat-darchitecte-mandat
 aire-principal
X-MICROSOFT-CDO-ALLDAYEVENT:TRUE
DTSTART;TZID=Europe/Zurich;VALUE=DATE:20260508
END:VEVENT
BEGIN:VEVENT
UID:69e4df5b99505
DTSTAMP:20260419T135747Z
SUMMARY:KONKURADO: Maison du Terroir : transformation du dépôt en laborat
 oire d'oenologie\, Mandat d'Architecte mandataire principal\, Disponibilit
 é des documents d’appel d’offres 27.03.2026 - 08.05.2026
DESCRIPTION:Link zum Verfahren: https://konkurado.ch/de/maison-du-terroir-t
 ransformation-du-depot-en-laboratoire-doenologie-mandat-darchitecte-mandat
 aire-principal
X-MICROSOFT-CDO-ALLDAYEVENT:TRUE
DTSTART;TZID=Europe/Zurich;VALUE=DATE:20260327
END:VEVENT
BEGIN:VEVENT
UID:69e4df5b9952f
DTSTAMP:20260419T135747Z
SUMMARY:KONKURADO: Maison du Terroir : transformation du dépôt en laborat
 oire d'oenologie\, Mandat d'Architecte mandataire principal\, Disponibilit
 é des documents d’appel d’offres 27.03.2026 - 08.05.2026
DESCRIPTION:Link zum Verfahren: https://konkurado.ch/de/maison-du-terroir-t
 ransformation-du-depot-en-laboratoire-doenologie-mandat-darchitecte-mandat
 aire-principal
X-MICROSOFT-CDO-ALLDAYEVENT:TRUE
DTSTART;TZID=Europe/Zurich;VALUE=DATE:20260508
END:VEVENT
END:VCALENDAR