BEGIN:VCALENDAR
VERSION:2.0
PRODID:spatie/icalendar-generator
NAME:Machbarkeitsstudie Ersatz/Umbau Werkstatt und Lager KVA Hagenholz
X-WR-CALNAME:Machbarkeitsstudie Ersatz/Umbau Werkstatt und Lager KVA Hagenh
 olz
BEGIN:VTIMEZONE
TZID:Europe/Zurich
BEGIN:STANDARD
DTSTART:20251026T030000
TZOFFSETFROM:+0200
TZOFFSETTO:+0100
END:STANDARD
BEGIN:DAYLIGHT
DTSTART:20260329T010000
TZOFFSETFROM:+0100
TZOFFSETTO:+0200
END:DAYLIGHT
BEGIN:STANDARD
DTSTART:20261025T030000
TZOFFSETFROM:+0200
TZOFFSETTO:+0100
END:STANDARD
END:VTIMEZONE
BEGIN:VTIMEZONE
TZID:UTC
BEGIN:STANDARD
DTSTART:20250723T135457
TZOFFSETFROM:+0000
TZOFFSETTO:+0000
END:STANDARD
END:VTIMEZONE
BEGIN:VEVENT
UID:69e4deb199cd7
DTSTAMP:20260419T135457Z
SUMMARY:KONKURADO: Machbarkeitsstudie Ersatz/Umbau Werkstatt und Lager KVA 
 Hagenholz\, Fragerunde\, einreichen bis 30.04.2026 - 30.04.2026
DESCRIPTION:Link zum Verfahren: https://konkurado.ch/de/machbarkeitsstudie-
 ersatzumbau-werkstatt-und-lager-kva-hagenholz
X-MICROSOFT-CDO-ALLDAYEVENT:TRUE
DTSTART;TZID=Europe/Zurich;VALUE=DATE:20260430
END:VEVENT
BEGIN:VEVENT
UID:69e4deb199d5e
DTSTAMP:20260419T135457Z
SUMMARY:KONKURADO: Machbarkeitsstudie Ersatz/Umbau Werkstatt und Lager KVA 
 Hagenholz\, Fragerunde\, einreichen bis 30.04.2026 - 30.04.2026
DESCRIPTION:Link zum Verfahren: https://konkurado.ch/de/machbarkeitsstudie-
 ersatzumbau-werkstatt-und-lager-kva-hagenholz
X-MICROSOFT-CDO-ALLDAYEVENT:TRUE
DTSTART;TZID=Europe/Zurich;VALUE=DATE:20260430
END:VEVENT
BEGIN:VEVENT
UID:69e4deb199de6
DTSTAMP:20260419T135457Z
SUMMARY:KONKURADO: Machbarkeitsstudie Ersatz/Umbau Werkstatt und Lager KVA 
 Hagenholz\, Einreichen von Angeboten bis 13.05.2026 - 13.05.2026
DESCRIPTION:Link zum Verfahren: https://konkurado.ch/de/machbarkeitsstudie-
 ersatzumbau-werkstatt-und-lager-kva-hagenholz
X-MICROSOFT-CDO-ALLDAYEVENT:TRUE
DTSTART;TZID=Europe/Zurich;VALUE=DATE:20260513
END:VEVENT
BEGIN:VEVENT
UID:69e4deb199e26
DTSTAMP:20260419T135457Z
SUMMARY:KONKURADO: Machbarkeitsstudie Ersatz/Umbau Werkstatt und Lager KVA 
 Hagenholz\, Einreichen von Angeboten bis 13.05.2026 - 13.05.2026
DESCRIPTION:Link zum Verfahren: https://konkurado.ch/de/machbarkeitsstudie-
 ersatzumbau-werkstatt-und-lager-kva-hagenholz
X-MICROSOFT-CDO-ALLDAYEVENT:TRUE
DTSTART;TZID=Europe/Zurich;VALUE=DATE:20260513
END:VEVENT
BEGIN:VEVENT
UID:69e4deb199e8a
DTSTAMP:20260419T135457Z
SUMMARY:KONKURADO: Machbarkeitsstudie Ersatz/Umbau Werkstatt und Lager KVA 
 Hagenholz\, Offertöffnung 13.05.2026 - 13.05.2026
DESCRIPTION:Link zum Verfahren: https://konkurado.ch/de/machbarkeitsstudie-
 ersatzumbau-werkstatt-und-lager-kva-hagenholz
X-MICROSOFT-CDO-ALLDAYEVENT:TRUE
DTSTART;TZID=Europe/Zurich;VALUE=DATE:20260513
END:VEVENT
BEGIN:VEVENT
UID:69e4deb199eb0
DTSTAMP:20260419T135457Z
SUMMARY:KONKURADO: Machbarkeitsstudie Ersatz/Umbau Werkstatt und Lager KVA 
 Hagenholz\, Offertöffnung 13.05.2026 - 13.05.2026
DESCRIPTION:Link zum Verfahren: https://konkurado.ch/de/machbarkeitsstudie-
 ersatzumbau-werkstatt-und-lager-kva-hagenholz
X-MICROSOFT-CDO-ALLDAYEVENT:TRUE
DTSTART;TZID=Europe/Zurich;VALUE=DATE:20260513
END:VEVENT
BEGIN:VEVENT
UID:69e4deb199f0e
DTSTAMP:20260419T135457Z
SUMMARY:KONKURADO: Machbarkeitsstudie Ersatz/Umbau Werkstatt und Lager KVA 
 Hagenholz\, Verfügbarkeit der Ausschreibungsunterlagen 17.04.2026 - 13.05
 .2026
DESCRIPTION:Link zum Verfahren: https://konkurado.ch/de/machbarkeitsstudie-
 ersatzumbau-werkstatt-und-lager-kva-hagenholz
X-MICROSOFT-CDO-ALLDAYEVENT:TRUE
DTSTART;TZID=Europe/Zurich;VALUE=DATE:20260417
END:VEVENT
BEGIN:VEVENT
UID:69e4deb199f35
DTSTAMP:20260419T135457Z
SUMMARY:KONKURADO: Machbarkeitsstudie Ersatz/Umbau Werkstatt und Lager KVA 
 Hagenholz\, Verfügbarkeit der Ausschreibungsunterlagen 17.04.2026 - 13.05
 .2026
DESCRIPTION:Link zum Verfahren: https://konkurado.ch/de/machbarkeitsstudie-
 ersatzumbau-werkstatt-und-lager-kva-hagenholz
X-MICROSOFT-CDO-ALLDAYEVENT:TRUE
DTSTART;TZID=Europe/Zurich;VALUE=DATE:20260513
END:VEVENT
BEGIN:VEVENT
UID:69e4deb199f87
DTSTAMP:20260419T135457Z
SUMMARY:KONKURADO: Machbarkeitsstudie Ersatz/Umbau Werkstatt und Lager KVA 
 Hagenholz\, Begehung 29.04.2026 - 29.04.2026
DESCRIPTION:Link zum Verfahren: https://konkurado.ch/de/machbarkeitsstudie-
 ersatzumbau-werkstatt-und-lager-kva-hagenholz
X-MICROSOFT-CDO-ALLDAYEVENT:TRUE
DTSTART;TZID=Europe/Zurich;VALUE=DATE:20260429
END:VEVENT
BEGIN:VEVENT
UID:69e4deb199fb3
DTSTAMP:20260419T135457Z
SUMMARY:KONKURADO: Machbarkeitsstudie Ersatz/Umbau Werkstatt und Lager KVA 
 Hagenholz\, Begehung 29.04.2026 - 29.04.2026
DESCRIPTION:Link zum Verfahren: https://konkurado.ch/de/machbarkeitsstudie-
 ersatzumbau-werkstatt-und-lager-kva-hagenholz
X-MICROSOFT-CDO-ALLDAYEVENT:TRUE
DTSTART;TZID=Europe/Zurich;VALUE=DATE:20260429
END:VEVENT
END:VCALENDAR