BEGIN:VCALENDAR
VERSION:2.0
PRODID:spatie/icalendar-generator
NAME:„Lebensraum Dorfzentrum“
X-WR-CALNAME:„Lebensraum Dorfzentrum“
BEGIN:VTIMEZONE
TZID:Europe/Zurich
BEGIN:STANDARD
DTSTART:20251026T030000
TZOFFSETFROM:+0200
TZOFFSETTO:+0100
END:STANDARD
BEGIN:DAYLIGHT
DTSTART:20260329T010000
TZOFFSETFROM:+0100
TZOFFSETTO:+0200
END:DAYLIGHT
BEGIN:STANDARD
DTSTART:20261025T030000
TZOFFSETFROM:+0200
TZOFFSETTO:+0100
END:STANDARD
END:VTIMEZONE
BEGIN:VTIMEZONE
TZID:UTC
BEGIN:STANDARD
DTSTART:20250727T115313
TZOFFSETFROM:+0000
TZOFFSETTO:+0000
END:STANDARD
END:VTIMEZONE
BEGIN:VEVENT
UID:69ea0829845e5
DTSTAMP:20260423T115313Z
SUMMARY:KONKURADO: „Lebensraum Dorfzentrum“\, Anmeldung zur Teilnahme u
 nd Depotzahlung 28.01.2026 - 19.06.2026
DESCRIPTION:Link zum Verfahren: https://konkurado.ch/de/lebensraum-dorfzent
 rum
X-MICROSOFT-CDO-ALLDAYEVENT:TRUE
DTSTART;TZID=Europe/Zurich;VALUE=DATE:20260128
END:VEVENT
BEGIN:VEVENT
UID:69ea0829846c3
DTSTAMP:20260423T115313Z
SUMMARY:KONKURADO: „Lebensraum Dorfzentrum“\, Anmeldung zur Teilnahme u
 nd Depotzahlung 28.01.2026 - 19.06.2026
DESCRIPTION:Link zum Verfahren: https://konkurado.ch/de/lebensraum-dorfzent
 rum
X-MICROSOFT-CDO-ALLDAYEVENT:TRUE
DTSTART;TZID=Europe/Zurich;VALUE=DATE:20260619
END:VEVENT
BEGIN:VEVENT
UID:69ea082984734
DTSTAMP:20260423T115313Z
SUMMARY:KONKURADO: „Lebensraum Dorfzentrum“\, Eingang der Fragen der Te
 ilnehmenden 30.01.2026 - 13.03.2026
DESCRIPTION:Link zum Verfahren: https://konkurado.ch/de/lebensraum-dorfzent
 rum
X-MICROSOFT-CDO-ALLDAYEVENT:TRUE
DTSTART;TZID=Europe/Zurich;VALUE=DATE:20260130
END:VEVENT
BEGIN:VEVENT
UID:69ea082984780
DTSTAMP:20260423T115313Z
SUMMARY:KONKURADO: „Lebensraum Dorfzentrum“\, Eingang der Fragen der Te
 ilnehmenden 30.01.2026 - 13.03.2026
DESCRIPTION:Link zum Verfahren: https://konkurado.ch/de/lebensraum-dorfzent
 rum
X-MICROSOFT-CDO-ALLDAYEVENT:TRUE
DTSTART;TZID=Europe/Zurich;VALUE=DATE:20260313
END:VEVENT
BEGIN:VEVENT
UID:69ea082984999
DTSTAMP:20260423T115313Z
SUMMARY:KONKURADO: „Lebensraum Dorfzentrum“\, Bezug der digitalen Unter
 lagen 30.01.2026 - 30.01.2026
DESCRIPTION:Link zum Verfahren: https://konkurado.ch/de/lebensraum-dorfzent
 rum
X-MICROSOFT-CDO-ALLDAYEVENT:TRUE
DTSTART;TZID=Europe/Zurich;VALUE=DATE:20260130
END:VEVENT
BEGIN:VEVENT
UID:69ea0829849e7
DTSTAMP:20260423T115313Z
SUMMARY:KONKURADO: „Lebensraum Dorfzentrum“\, Bezug der digitalen Unter
 lagen 30.01.2026 - 30.01.2026
DESCRIPTION:Link zum Verfahren: https://konkurado.ch/de/lebensraum-dorfzent
 rum
X-MICROSOFT-CDO-ALLDAYEVENT:TRUE
DTSTART;TZID=Europe/Zurich;VALUE=DATE:20260130
END:VEVENT
BEGIN:VEVENT
UID:69ea082984aa0
DTSTAMP:20260423T115313Z
SUMMARY:KONKURADO: „Lebensraum Dorfzentrum“\, Begehung und Bezug der Mo
 dellgrundlage 30.01.2026 - 04.03.2026
DESCRIPTION:Link zum Verfahren: https://konkurado.ch/de/lebensraum-dorfzent
 rum
X-MICROSOFT-CDO-ALLDAYEVENT:TRUE
DTSTART;TZID=Europe/Zurich;VALUE=DATE:20260130
END:VEVENT
BEGIN:VEVENT
UID:69ea082984af8
DTSTAMP:20260423T115313Z
SUMMARY:KONKURADO: „Lebensraum Dorfzentrum“\, Begehung und Bezug der Mo
 dellgrundlage 30.01.2026 - 04.03.2026
DESCRIPTION:Link zum Verfahren: https://konkurado.ch/de/lebensraum-dorfzent
 rum
X-MICROSOFT-CDO-ALLDAYEVENT:TRUE
DTSTART;TZID=Europe/Zurich;VALUE=DATE:20260304
END:VEVENT
BEGIN:VEVENT
UID:69ea082984bae
DTSTAMP:20260423T115313Z
SUMMARY:KONKURADO: „Lebensraum Dorfzentrum“\, Fragenbeantwortung 27.03.
 2026 - 19.06.2026
DESCRIPTION:Link zum Verfahren: https://konkurado.ch/de/lebensraum-dorfzent
 rum
X-MICROSOFT-CDO-ALLDAYEVENT:TRUE
DTSTART;TZID=Europe/Zurich;VALUE=DATE:20260327
END:VEVENT
BEGIN:VEVENT
UID:69ea082984bf9
DTSTAMP:20260423T115313Z
SUMMARY:KONKURADO: „Lebensraum Dorfzentrum“\, Fragenbeantwortung 27.03.
 2026 - 19.06.2026
DESCRIPTION:Link zum Verfahren: https://konkurado.ch/de/lebensraum-dorfzent
 rum
X-MICROSOFT-CDO-ALLDAYEVENT:TRUE
DTSTART;TZID=Europe/Zurich;VALUE=DATE:20260619
END:VEVENT
BEGIN:VEVENT
UID:69ea082984c64
DTSTAMP:20260423T115313Z
SUMMARY:KONKURADO: „Lebensraum Dorfzentrum“\, Abgabe digitales Verfasse
 rcouvert 30.01.2026 - 19.06.2026
DESCRIPTION:Link zum Verfahren: https://konkurado.ch/de/lebensraum-dorfzent
 rum
X-MICROSOFT-CDO-ALLDAYEVENT:TRUE
DTSTART;TZID=Europe/Zurich;VALUE=DATE:20260130
END:VEVENT
BEGIN:VEVENT
UID:69ea082984caf
DTSTAMP:20260423T115313Z
SUMMARY:KONKURADO: „Lebensraum Dorfzentrum“\, Abgabe digitales Verfasse
 rcouvert 30.01.2026 - 19.06.2026
DESCRIPTION:Link zum Verfahren: https://konkurado.ch/de/lebensraum-dorfzent
 rum
X-MICROSOFT-CDO-ALLDAYEVENT:TRUE
DTSTART;TZID=Europe/Zurich;VALUE=DATE:20260619
END:VEVENT
BEGIN:VEVENT
UID:69ea082984d63
DTSTAMP:20260423T115313Z
SUMMARY:KONKURADO: „Lebensraum Dorfzentrum“\, Abgabe der Modelle 03.07.
 2026 - 03.07.2026
DESCRIPTION:Link zum Verfahren: https://konkurado.ch/de/lebensraum-dorfzent
 rum
X-MICROSOFT-CDO-ALLDAYEVENT:TRUE
DTSTART;TZID=Europe/Zurich;VALUE=DATE:20260703
END:VEVENT
BEGIN:VEVENT
UID:69ea082984dab
DTSTAMP:20260423T115313Z
SUMMARY:KONKURADO: „Lebensraum Dorfzentrum“\, Abgabe der Modelle 03.07.
 2026 - 03.07.2026
DESCRIPTION:Link zum Verfahren: https://konkurado.ch/de/lebensraum-dorfzent
 rum
X-MICROSOFT-CDO-ALLDAYEVENT:TRUE
DTSTART;TZID=Europe/Zurich;VALUE=DATE:20260703
END:VEVENT
BEGIN:VEVENT
UID:69ea082984e03
DTSTAMP:20260423T115313Z
SUMMARY:KONKURADO: „Lebensraum Dorfzentrum“\, Abgabe Unterlagen 30.01.2
 026 - 19.06.2026
DESCRIPTION:Link zum Verfahren: https://konkurado.ch/de/lebensraum-dorfzent
 rum
X-MICROSOFT-CDO-ALLDAYEVENT:TRUE
DTSTART;TZID=Europe/Zurich;VALUE=DATE:20260130
END:VEVENT
BEGIN:VEVENT
UID:69ea082984e4d
DTSTAMP:20260423T115313Z
SUMMARY:KONKURADO: „Lebensraum Dorfzentrum“\, Abgabe Unterlagen 30.01.2
 026 - 19.06.2026
DESCRIPTION:Link zum Verfahren: https://konkurado.ch/de/lebensraum-dorfzent
 rum
X-MICROSOFT-CDO-ALLDAYEVENT:TRUE
DTSTART;TZID=Europe/Zurich;VALUE=DATE:20260619
END:VEVENT
END:VCALENDAR