BEGIN:VCALENDAR
VERSION:2.0
PRODID:spatie/icalendar-generator
NAME:Laufen\, Neubau/Verlegung Naubrücke\, Landschaftsplanung/-architektur
  Phasen 32-53
X-WR-CALNAME:Laufen\, Neubau/Verlegung Naubrücke\, Landschaftsplanung/-arc
 hitektur Phasen 32-53
BEGIN:VTIMEZONE
TZID:Europe/Zurich
BEGIN:STANDARD
DTSTART:20251026T030000
TZOFFSETFROM:+0200
TZOFFSETTO:+0100
END:STANDARD
BEGIN:DAYLIGHT
DTSTART:20260329T010000
TZOFFSETFROM:+0100
TZOFFSETTO:+0200
END:DAYLIGHT
BEGIN:STANDARD
DTSTART:20261025T030000
TZOFFSETFROM:+0200
TZOFFSETTO:+0100
END:STANDARD
END:VTIMEZONE
BEGIN:VTIMEZONE
TZID:UTC
BEGIN:STANDARD
DTSTART:20250723T135503
TZOFFSETFROM:+0000
TZOFFSETTO:+0000
END:STANDARD
END:VTIMEZONE
BEGIN:VEVENT
UID:69e4deb779d28
DTSTAMP:20260419T135503Z
SUMMARY:KONKURADO: Laufen\, Neubau/Verlegung Naubrücke\, Landschaftsplanun
 g/-architektur Phasen 32-53\, Fragerunde\, einreichen bis 21.04.2026 - 21.
 04.2026
DESCRIPTION:Link zum Verfahren: https://konkurado.ch/de/laufen-neubauverleg
 ung-naubrucke-landschaftsplanung-architektur-phasen-32-53
X-MICROSOFT-CDO-ALLDAYEVENT:TRUE
DTSTART;TZID=Europe/Zurich;VALUE=DATE:20260421
END:VEVENT
BEGIN:VEVENT
UID:69e4deb779dd0
DTSTAMP:20260419T135503Z
SUMMARY:KONKURADO: Laufen\, Neubau/Verlegung Naubrücke\, Landschaftsplanun
 g/-architektur Phasen 32-53\, Fragerunde\, einreichen bis 21.04.2026 - 21.
 04.2026
DESCRIPTION:Link zum Verfahren: https://konkurado.ch/de/laufen-neubauverleg
 ung-naubrucke-landschaftsplanung-architektur-phasen-32-53
X-MICROSOFT-CDO-ALLDAYEVENT:TRUE
DTSTART;TZID=Europe/Zurich;VALUE=DATE:20260421
END:VEVENT
BEGIN:VEVENT
UID:69e4deb779e4d
DTSTAMP:20260419T135503Z
SUMMARY:KONKURADO: Laufen\, Neubau/Verlegung Naubrücke\, Landschaftsplanun
 g/-architektur Phasen 32-53\, Einreichen des Teilnahmeantrags 19.05.2026 -
  19.05.2026
DESCRIPTION:Link zum Verfahren: https://konkurado.ch/de/laufen-neubauverleg
 ung-naubrucke-landschaftsplanung-architektur-phasen-32-53
X-MICROSOFT-CDO-ALLDAYEVENT:TRUE
DTSTART;TZID=Europe/Zurich;VALUE=DATE:20260519
END:VEVENT
BEGIN:VEVENT
UID:69e4deb779e86
DTSTAMP:20260419T135503Z
SUMMARY:KONKURADO: Laufen\, Neubau/Verlegung Naubrücke\, Landschaftsplanun
 g/-architektur Phasen 32-53\, Einreichen des Teilnahmeantrags 19.05.2026 -
  19.05.2026
DESCRIPTION:Link zum Verfahren: https://konkurado.ch/de/laufen-neubauverleg
 ung-naubrucke-landschaftsplanung-architektur-phasen-32-53
X-MICROSOFT-CDO-ALLDAYEVENT:TRUE
DTSTART;TZID=Europe/Zurich;VALUE=DATE:20260519
END:VEVENT
BEGIN:VEVENT
UID:69e4deb779efa
DTSTAMP:20260419T135503Z
SUMMARY:KONKURADO: Laufen\, Neubau/Verlegung Naubrücke\, Landschaftsplanun
 g/-architektur Phasen 32-53\, Offertöffnung 20.05.2026 - 20.05.2026
DESCRIPTION:Link zum Verfahren: https://konkurado.ch/de/laufen-neubauverleg
 ung-naubrucke-landschaftsplanung-architektur-phasen-32-53
X-MICROSOFT-CDO-ALLDAYEVENT:TRUE
DTSTART;TZID=Europe/Zurich;VALUE=DATE:20260520
END:VEVENT
BEGIN:VEVENT
UID:69e4deb779f24
DTSTAMP:20260419T135503Z
SUMMARY:KONKURADO: Laufen\, Neubau/Verlegung Naubrücke\, Landschaftsplanun
 g/-architektur Phasen 32-53\, Offertöffnung 20.05.2026 - 20.05.2026
DESCRIPTION:Link zum Verfahren: https://konkurado.ch/de/laufen-neubauverleg
 ung-naubrucke-landschaftsplanung-architektur-phasen-32-53
X-MICROSOFT-CDO-ALLDAYEVENT:TRUE
DTSTART;TZID=Europe/Zurich;VALUE=DATE:20260520
END:VEVENT
BEGIN:VEVENT
UID:69e4deb779f7d
DTSTAMP:20260419T135503Z
SUMMARY:KONKURADO: Laufen\, Neubau/Verlegung Naubrücke\, Landschaftsplanun
 g/-architektur Phasen 32-53\, Verfügbarkeit der Ausschreibungsunterlagen 
 08.04.2026 - 19.05.2026
DESCRIPTION:Link zum Verfahren: https://konkurado.ch/de/laufen-neubauverleg
 ung-naubrucke-landschaftsplanung-architektur-phasen-32-53
X-MICROSOFT-CDO-ALLDAYEVENT:TRUE
DTSTART;TZID=Europe/Zurich;VALUE=DATE:20260408
END:VEVENT
BEGIN:VEVENT
UID:69e4deb779fa4
DTSTAMP:20260419T135503Z
SUMMARY:KONKURADO: Laufen\, Neubau/Verlegung Naubrücke\, Landschaftsplanun
 g/-architektur Phasen 32-53\, Verfügbarkeit der Ausschreibungsunterlagen 
 08.04.2026 - 19.05.2026
DESCRIPTION:Link zum Verfahren: https://konkurado.ch/de/laufen-neubauverleg
 ung-naubrucke-landschaftsplanung-architektur-phasen-32-53
X-MICROSOFT-CDO-ALLDAYEVENT:TRUE
DTSTART;TZID=Europe/Zurich;VALUE=DATE:20260519
END:VEVENT
END:VCALENDAR