BEGIN:VCALENDAR
VERSION:2.0
PRODID:spatie/icalendar-generator
NAME:Kantonsstrasse Nr. 62\, Berg: Korrektion Dorfstrasse
X-WR-CALNAME:Kantonsstrasse Nr. 62\, Berg: Korrektion Dorfstrasse
BEGIN:VTIMEZONE
TZID:Europe/Zurich
BEGIN:STANDARD
DTSTART:20251026T030000
TZOFFSETFROM:+0200
TZOFFSETTO:+0100
END:STANDARD
BEGIN:DAYLIGHT
DTSTART:20260329T010000
TZOFFSETFROM:+0100
TZOFFSETTO:+0200
END:DAYLIGHT
BEGIN:STANDARD
DTSTART:20261025T030000
TZOFFSETFROM:+0200
TZOFFSETTO:+0100
END:STANDARD
END:VTIMEZONE
BEGIN:VTIMEZONE
TZID:UTC
BEGIN:STANDARD
DTSTART:20250723T135320
TZOFFSETFROM:+0000
TZOFFSETTO:+0000
END:STANDARD
END:VTIMEZONE
BEGIN:VEVENT
UID:69e4de50e5382
DTSTAMP:20260419T135320Z
SUMMARY:KONKURADO: Kantonsstrasse Nr. 62\, Berg: Korrektion Dorfstrasse\, F
 ragerunde 1\, einreichen bis 01.05.2026 - 01.05.2026
DESCRIPTION:Link zum Verfahren: https://konkurado.ch/de/kantonsstrasse-nr-6
 2-berg-korrektion-dorfstrasse
X-MICROSOFT-CDO-ALLDAYEVENT:TRUE
DTSTART;TZID=Europe/Zurich;VALUE=DATE:20260501
END:VEVENT
BEGIN:VEVENT
UID:69e4de50e5487
DTSTAMP:20260419T135320Z
SUMMARY:KONKURADO: Kantonsstrasse Nr. 62\, Berg: Korrektion Dorfstrasse\, F
 ragerunde 1\, einreichen bis 01.05.2026 - 01.05.2026
DESCRIPTION:Link zum Verfahren: https://konkurado.ch/de/kantonsstrasse-nr-6
 2-berg-korrektion-dorfstrasse
X-MICROSOFT-CDO-ALLDAYEVENT:TRUE
DTSTART;TZID=Europe/Zurich;VALUE=DATE:20260501
END:VEVENT
BEGIN:VEVENT
UID:69e4de50e5528
DTSTAMP:20260419T135320Z
SUMMARY:KONKURADO: Kantonsstrasse Nr. 62\, Berg: Korrektion Dorfstrasse\, E
 inreichen des Teilnahmeantrags 27.05.2026 - 27.05.2026
DESCRIPTION:Link zum Verfahren: https://konkurado.ch/de/kantonsstrasse-nr-6
 2-berg-korrektion-dorfstrasse
X-MICROSOFT-CDO-ALLDAYEVENT:TRUE
DTSTART;TZID=Europe/Zurich;VALUE=DATE:20260527
END:VEVENT
BEGIN:VEVENT
UID:69e4de50e555d
DTSTAMP:20260419T135320Z
SUMMARY:KONKURADO: Kantonsstrasse Nr. 62\, Berg: Korrektion Dorfstrasse\, E
 inreichen des Teilnahmeantrags 27.05.2026 - 27.05.2026
DESCRIPTION:Link zum Verfahren: https://konkurado.ch/de/kantonsstrasse-nr-6
 2-berg-korrektion-dorfstrasse
X-MICROSOFT-CDO-ALLDAYEVENT:TRUE
DTSTART;TZID=Europe/Zurich;VALUE=DATE:20260527
END:VEVENT
BEGIN:VEVENT
UID:69e4de50e55da
DTSTAMP:20260419T135320Z
SUMMARY:KONKURADO: Kantonsstrasse Nr. 62\, Berg: Korrektion Dorfstrasse\, O
 ffertöffnung 01.06.2026 - 01.06.2026
DESCRIPTION:Link zum Verfahren: https://konkurado.ch/de/kantonsstrasse-nr-6
 2-berg-korrektion-dorfstrasse
X-MICROSOFT-CDO-ALLDAYEVENT:TRUE
DTSTART;TZID=Europe/Zurich;VALUE=DATE:20260601
END:VEVENT
BEGIN:VEVENT
UID:69e4de50e5606
DTSTAMP:20260419T135320Z
SUMMARY:KONKURADO: Kantonsstrasse Nr. 62\, Berg: Korrektion Dorfstrasse\, O
 ffertöffnung 01.06.2026 - 01.06.2026
DESCRIPTION:Link zum Verfahren: https://konkurado.ch/de/kantonsstrasse-nr-6
 2-berg-korrektion-dorfstrasse
X-MICROSOFT-CDO-ALLDAYEVENT:TRUE
DTSTART;TZID=Europe/Zurich;VALUE=DATE:20260601
END:VEVENT
END:VCALENDAR