BEGIN:VCALENDAR
VERSION:2.0
PRODID:spatie/icalendar-generator
NAME:K23 Isenthalerstrasse\, Kehrtunnel bis Chäppelicher
X-WR-CALNAME:K23 Isenthalerstrasse\, Kehrtunnel bis Chäppelicher
BEGIN:VTIMEZONE
TZID:Europe/Zurich
BEGIN:STANDARD
DTSTART:20251026T030000
TZOFFSETFROM:+0200
TZOFFSETTO:+0100
END:STANDARD
BEGIN:DAYLIGHT
DTSTART:20260329T010000
TZOFFSETFROM:+0100
TZOFFSETTO:+0200
END:DAYLIGHT
BEGIN:STANDARD
DTSTART:20261025T030000
TZOFFSETFROM:+0200
TZOFFSETTO:+0100
END:STANDARD
END:VTIMEZONE
BEGIN:VTIMEZONE
TZID:UTC
BEGIN:STANDARD
DTSTART:20250728T173910
TZOFFSETFROM:+0000
TZOFFSETTO:+0000
END:STANDARD
END:VTIMEZONE
BEGIN:VEVENT
UID:69ebaabec4775
DTSTAMP:20260424T173910Z
SUMMARY:KONKURADO: K23 Isenthalerstrasse\, Kehrtunnel bis Chäppelicher\, E
 inreichung von Fragen bis 10.04.2026 - 10.04.2026
DESCRIPTION:Link zum Verfahren: https://konkurado.ch/de/k23-isenthalerstras
 se-kehrtunnel-bis-chappelicher
X-MICROSOFT-CDO-ALLDAYEVENT:TRUE
DTSTART;TZID=Europe/Zurich;VALUE=DATE:20260410
END:VEVENT
BEGIN:VEVENT
UID:69ebaabec47f3
DTSTAMP:20260424T173910Z
SUMMARY:KONKURADO: K23 Isenthalerstrasse\, Kehrtunnel bis Chäppelicher\, E
 inreichung von Fragen bis 10.04.2026 - 10.04.2026
DESCRIPTION:Link zum Verfahren: https://konkurado.ch/de/k23-isenthalerstras
 se-kehrtunnel-bis-chappelicher
X-MICROSOFT-CDO-ALLDAYEVENT:TRUE
DTSTART;TZID=Europe/Zurich;VALUE=DATE:20260410
END:VEVENT
BEGIN:VEVENT
UID:69ebaabec4867
DTSTAMP:20260424T173910Z
SUMMARY:KONKURADO: K23 Isenthalerstrasse\, Kehrtunnel bis Chäppelicher\, E
 inreichung von Angeboten bis 24.04.2026 - 24.04.2026
DESCRIPTION:Link zum Verfahren: https://konkurado.ch/de/k23-isenthalerstras
 se-kehrtunnel-bis-chappelicher
X-MICROSOFT-CDO-ALLDAYEVENT:TRUE
DTSTART;TZID=Europe/Zurich;VALUE=DATE:20260424
END:VEVENT
BEGIN:VEVENT
UID:69ebaabec4891
DTSTAMP:20260424T173910Z
SUMMARY:KONKURADO: K23 Isenthalerstrasse\, Kehrtunnel bis Chäppelicher\, E
 inreichung von Angeboten bis 24.04.2026 - 24.04.2026
DESCRIPTION:Link zum Verfahren: https://konkurado.ch/de/k23-isenthalerstras
 se-kehrtunnel-bis-chappelicher
X-MICROSOFT-CDO-ALLDAYEVENT:TRUE
DTSTART;TZID=Europe/Zurich;VALUE=DATE:20260424
END:VEVENT
BEGIN:VEVENT
UID:69ebaabec48ea
DTSTAMP:20260424T173910Z
SUMMARY:KONKURADO: K23 Isenthalerstrasse\, Kehrtunnel bis Chäppelicher\, O
 ffertöffnung 24.04.2026 - 24.04.2026
DESCRIPTION:Link zum Verfahren: https://konkurado.ch/de/k23-isenthalerstras
 se-kehrtunnel-bis-chappelicher
X-MICROSOFT-CDO-ALLDAYEVENT:TRUE
DTSTART;TZID=Europe/Zurich;VALUE=DATE:20260424
END:VEVENT
BEGIN:VEVENT
UID:69ebaabec4913
DTSTAMP:20260424T173910Z
SUMMARY:KONKURADO: K23 Isenthalerstrasse\, Kehrtunnel bis Chäppelicher\, O
 ffertöffnung 24.04.2026 - 24.04.2026
DESCRIPTION:Link zum Verfahren: https://konkurado.ch/de/k23-isenthalerstras
 se-kehrtunnel-bis-chappelicher
X-MICROSOFT-CDO-ALLDAYEVENT:TRUE
DTSTART;TZID=Europe/Zurich;VALUE=DATE:20260424
END:VEVENT
BEGIN:VEVENT
UID:69ebaabec4968
DTSTAMP:20260424T173910Z
SUMMARY:KONKURADO: K23 Isenthalerstrasse\, Kehrtunnel bis Chäppelicher\, V
 erfügbarkeit der Ausschreibungsunterlagen 02.04.2026 - 24.04.2026
DESCRIPTION:Link zum Verfahren: https://konkurado.ch/de/k23-isenthalerstras
 se-kehrtunnel-bis-chappelicher
X-MICROSOFT-CDO-ALLDAYEVENT:TRUE
DTSTART;TZID=Europe/Zurich;VALUE=DATE:20260402
END:VEVENT
BEGIN:VEVENT
UID:69ebaabec498e
DTSTAMP:20260424T173910Z
SUMMARY:KONKURADO: K23 Isenthalerstrasse\, Kehrtunnel bis Chäppelicher\, V
 erfügbarkeit der Ausschreibungsunterlagen 02.04.2026 - 24.04.2026
DESCRIPTION:Link zum Verfahren: https://konkurado.ch/de/k23-isenthalerstras
 se-kehrtunnel-bis-chappelicher
X-MICROSOFT-CDO-ALLDAYEVENT:TRUE
DTSTART;TZID=Europe/Zurich;VALUE=DATE:20260424
END:VEVENT
END:VCALENDAR