BEGIN:VCALENDAR
VERSION:2.0
PRODID:spatie/icalendar-generator
NAME:Investorenauswahl QP Böschengut 2 Süd im Baurecht
X-WR-CALNAME:Investorenauswahl QP Böschengut 2 Süd im Baurecht
BEGIN:VTIMEZONE
TZID:Europe/Zurich
BEGIN:STANDARD
DTSTART:20241027T030000
TZOFFSETFROM:+0200
TZOFFSETTO:+0100
END:STANDARD
BEGIN:DAYLIGHT
DTSTART:20250330T010000
TZOFFSETFROM:+0100
TZOFFSETTO:+0200
END:DAYLIGHT
BEGIN:STANDARD
DTSTART:20251026T030000
TZOFFSETFROM:+0200
TZOFFSETTO:+0100
END:STANDARD
BEGIN:DAYLIGHT
DTSTART:20260329T010000
TZOFFSETFROM:+0100
TZOFFSETTO:+0200
END:DAYLIGHT
BEGIN:STANDARD
DTSTART:20261025T030000
TZOFFSETFROM:+0200
TZOFFSETTO:+0100
END:STANDARD
BEGIN:DAYLIGHT
DTSTART:20270328T010000
TZOFFSETFROM:+0100
TZOFFSETTO:+0200
END:DAYLIGHT
BEGIN:STANDARD
DTSTART:20271031T030000
TZOFFSETFROM:+0200
TZOFFSETTO:+0100
END:STANDARD
END:VTIMEZONE
BEGIN:VTIMEZONE
TZID:UTC
BEGIN:STANDARD
DTSTART:20250727T132939
TZOFFSETFROM:+0000
TZOFFSETTO:+0000
END:STANDARD
END:VTIMEZONE
BEGIN:VEVENT
UID:69ea1ec3b12a2
DTSTAMP:20260423T132939Z
SUMMARY:KONKURADO: Investorenauswahl QP Böschengut 2 Süd im Baurecht\, An
 meldung 12.06.2025 - 12.09.2025
DESCRIPTION:Link zum Verfahren: https://konkurado.ch/de/investorenauswahl-q
 p-boschengut-2-sud-im-baurecht
X-MICROSOFT-CDO-ALLDAYEVENT:TRUE
DTSTART;TZID=Europe/Zurich;VALUE=DATE:20250612
END:VEVENT
BEGIN:VEVENT
UID:69ea1ec3b130a
DTSTAMP:20260423T132939Z
SUMMARY:KONKURADO: Investorenauswahl QP Böschengut 2 Süd im Baurecht\, An
 meldung 12.06.2025 - 12.09.2025
DESCRIPTION:Link zum Verfahren: https://konkurado.ch/de/investorenauswahl-q
 p-boschengut-2-sud-im-baurecht
X-MICROSOFT-CDO-ALLDAYEVENT:TRUE
DTSTART;TZID=Europe/Zurich;VALUE=DATE:20250912
END:VEVENT
BEGIN:VEVENT
UID:69ea1ec3b143d
DTSTAMP:20260423T132939Z
SUMMARY:KONKURADO: Investorenauswahl QP Böschengut 2 Süd im Baurecht\, Pu
 blikation der Unterlagen 12.06.2025 - 
DESCRIPTION:Link zum Verfahren: https://konkurado.ch/de/investorenauswahl-q
 p-boschengut-2-sud-im-baurecht
X-MICROSOFT-CDO-ALLDAYEVENT:TRUE
DTSTART;TZID=Europe/Zurich;VALUE=DATE:20250612
END:VEVENT
BEGIN:VEVENT
UID:69ea1ec3b147e
DTSTAMP:20260423T132939Z
SUMMARY:KONKURADO: Investorenauswahl QP Böschengut 2 Süd im Baurecht\, Fr
 agerunde 12.06.2025 - 30.06.2025
DESCRIPTION:Link zum Verfahren: https://konkurado.ch/de/investorenauswahl-q
 p-boschengut-2-sud-im-baurecht
X-MICROSOFT-CDO-ALLDAYEVENT:TRUE
DTSTART;TZID=Europe/Zurich;VALUE=DATE:20250612
END:VEVENT
BEGIN:VEVENT
UID:69ea1ec3b14a5
DTSTAMP:20260423T132939Z
SUMMARY:KONKURADO: Investorenauswahl QP Böschengut 2 Süd im Baurecht\, Fr
 agerunde 12.06.2025 - 30.06.2025
DESCRIPTION:Link zum Verfahren: https://konkurado.ch/de/investorenauswahl-q
 p-boschengut-2-sud-im-baurecht
X-MICROSOFT-CDO-ALLDAYEVENT:TRUE
DTSTART;TZID=Europe/Zurich;VALUE=DATE:20250630
END:VEVENT
BEGIN:VEVENT
UID:69ea1ec3b14d9
DTSTAMP:20260423T132939Z
SUMMARY:KONKURADO: Investorenauswahl QP Böschengut 2 Süd im Baurecht\, Ab
 gabe Bewerbung / unverbindliches Angebot (NBO) 12.06.2025 - 12.09.2025
DESCRIPTION:Link zum Verfahren: https://konkurado.ch/de/investorenauswahl-q
 p-boschengut-2-sud-im-baurecht
X-MICROSOFT-CDO-ALLDAYEVENT:TRUE
DTSTART;TZID=Europe/Zurich;VALUE=DATE:20250612
END:VEVENT
BEGIN:VEVENT
UID:69ea1ec3b14ff
DTSTAMP:20260423T132939Z
SUMMARY:KONKURADO: Investorenauswahl QP Böschengut 2 Süd im Baurecht\, Ab
 gabe Bewerbung / unverbindliches Angebot (NBO) 12.06.2025 - 12.09.2025
DESCRIPTION:Link zum Verfahren: https://konkurado.ch/de/investorenauswahl-q
 p-boschengut-2-sud-im-baurecht
X-MICROSOFT-CDO-ALLDAYEVENT:TRUE
DTSTART;TZID=Europe/Zurich;VALUE=DATE:20250912
END:VEVENT
BEGIN:VEVENT
UID:69ea1ec3b154e
DTSTAMP:20260423T132939Z
SUMMARY:KONKURADO: Investorenauswahl QP Böschengut 2 Süd im Baurecht\, An
 gebotsvergleich 13.09.2025 - 30.09.2025
DESCRIPTION:Link zum Verfahren: https://konkurado.ch/de/investorenauswahl-q
 p-boschengut-2-sud-im-baurecht
X-MICROSOFT-CDO-ALLDAYEVENT:TRUE
DTSTART;TZID=Europe/Zurich;VALUE=DATE:20250913
END:VEVENT
BEGIN:VEVENT
UID:69ea1ec3b1574
DTSTAMP:20260423T132939Z
SUMMARY:KONKURADO: Investorenauswahl QP Böschengut 2 Süd im Baurecht\, An
 gebotsvergleich 13.09.2025 - 30.09.2025
DESCRIPTION:Link zum Verfahren: https://konkurado.ch/de/investorenauswahl-q
 p-boschengut-2-sud-im-baurecht
X-MICROSOFT-CDO-ALLDAYEVENT:TRUE
DTSTART;TZID=Europe/Zurich;VALUE=DATE:20250930
END:VEVENT
BEGIN:VEVENT
UID:69ea1ec3b15da
DTSTAMP:20260423T132939Z
SUMMARY:KONKURADO: Investorenauswahl QP Böschengut 2 Süd im Baurecht\, Fr
 agebeantwortung 30.06.2025 - 31.07.2025
DESCRIPTION:Link zum Verfahren: https://konkurado.ch/de/investorenauswahl-q
 p-boschengut-2-sud-im-baurecht
X-MICROSOFT-CDO-ALLDAYEVENT:TRUE
DTSTART;TZID=Europe/Zurich;VALUE=DATE:20250630
END:VEVENT
BEGIN:VEVENT
UID:69ea1ec3b1601
DTSTAMP:20260423T132939Z
SUMMARY:KONKURADO: Investorenauswahl QP Böschengut 2 Süd im Baurecht\, Fr
 agebeantwortung 30.06.2025 - 31.07.2025
DESCRIPTION:Link zum Verfahren: https://konkurado.ch/de/investorenauswahl-q
 p-boschengut-2-sud-im-baurecht
X-MICROSOFT-CDO-ALLDAYEVENT:TRUE
DTSTART;TZID=Europe/Zurich;VALUE=DATE:20250731
END:VEVENT
BEGIN:VEVENT
UID:69ea1ec3b1657
DTSTAMP:20260423T132939Z
SUMMARY:KONKURADO: Investorenauswahl QP Böschengut 2 Süd im Baurecht\, Ei
 nladung zur verbindlichen Offertstellung 03.10.2025 - 03.10.2025
DESCRIPTION:Link zum Verfahren: https://konkurado.ch/de/investorenauswahl-q
 p-boschengut-2-sud-im-baurecht
X-MICROSOFT-CDO-ALLDAYEVENT:TRUE
DTSTART;TZID=Europe/Zurich;VALUE=DATE:20251003
END:VEVENT
BEGIN:VEVENT
UID:69ea1ec3b167e
DTSTAMP:20260423T132939Z
SUMMARY:KONKURADO: Investorenauswahl QP Böschengut 2 Süd im Baurecht\, Ei
 nladung zur verbindlichen Offertstellung 03.10.2025 - 03.10.2025
DESCRIPTION:Link zum Verfahren: https://konkurado.ch/de/investorenauswahl-q
 p-boschengut-2-sud-im-baurecht
X-MICROSOFT-CDO-ALLDAYEVENT:TRUE
DTSTART;TZID=Europe/Zurich;VALUE=DATE:20251003
END:VEVENT
BEGIN:VEVENT
UID:69ea1ec3b16d5
DTSTAMP:20260423T132939Z
SUMMARY:KONKURADO: Investorenauswahl QP Böschengut 2 Süd im Baurecht\, Ab
 gabe verbindliches Angebot (BO) 31.10.2025 - 31.10.2025
DESCRIPTION:Link zum Verfahren: https://konkurado.ch/de/investorenauswahl-q
 p-boschengut-2-sud-im-baurecht
X-MICROSOFT-CDO-ALLDAYEVENT:TRUE
DTSTART;TZID=Europe/Zurich;VALUE=DATE:20251031
END:VEVENT
BEGIN:VEVENT
UID:69ea1ec3b16fb
DTSTAMP:20260423T132939Z
SUMMARY:KONKURADO: Investorenauswahl QP Böschengut 2 Süd im Baurecht\, Ab
 gabe verbindliches Angebot (BO) 31.10.2025 - 31.10.2025
DESCRIPTION:Link zum Verfahren: https://konkurado.ch/de/investorenauswahl-q
 p-boschengut-2-sud-im-baurecht
X-MICROSOFT-CDO-ALLDAYEVENT:TRUE
DTSTART;TZID=Europe/Zurich;VALUE=DATE:20251031
END:VEVENT
BEGIN:VEVENT
UID:69ea1ec3b1754
DTSTAMP:20260423T132939Z
SUMMARY:KONKURADO: Investorenauswahl QP Böschengut 2 Süd im Baurecht\, Sc
 hlussverhandlung 01.11.2025 - 30.11.2025
DESCRIPTION:Link zum Verfahren: https://konkurado.ch/de/investorenauswahl-q
 p-boschengut-2-sud-im-baurecht
X-MICROSOFT-CDO-ALLDAYEVENT:TRUE
DTSTART;TZID=Europe/Zurich;VALUE=DATE:20251101
END:VEVENT
BEGIN:VEVENT
UID:69ea1ec3b177c
DTSTAMP:20260423T132939Z
SUMMARY:KONKURADO: Investorenauswahl QP Böschengut 2 Süd im Baurecht\, Sc
 hlussverhandlung 01.11.2025 - 30.11.2025
DESCRIPTION:Link zum Verfahren: https://konkurado.ch/de/investorenauswahl-q
 p-boschengut-2-sud-im-baurecht
X-MICROSOFT-CDO-ALLDAYEVENT:TRUE
DTSTART;TZID=Europe/Zurich;VALUE=DATE:20251130
END:VEVENT
BEGIN:VEVENT
UID:69ea1ec3b17cf
DTSTAMP:20260423T132939Z
SUMMARY:KONKURADO: Investorenauswahl QP Böschengut 2 Süd im Baurecht\, Ba
 ubewilligung 01.01.2027 - 30.06.2027
DESCRIPTION:Link zum Verfahren: https://konkurado.ch/de/investorenauswahl-q
 p-boschengut-2-sud-im-baurecht
X-MICROSOFT-CDO-ALLDAYEVENT:TRUE
DTSTART;TZID=Europe/Zurich;VALUE=DATE:20270101
END:VEVENT
BEGIN:VEVENT
UID:69ea1ec3b17f6
DTSTAMP:20260423T132939Z
SUMMARY:KONKURADO: Investorenauswahl QP Böschengut 2 Süd im Baurecht\, Ba
 ubewilligung 01.01.2027 - 30.06.2027
DESCRIPTION:Link zum Verfahren: https://konkurado.ch/de/investorenauswahl-q
 p-boschengut-2-sud-im-baurecht
X-MICROSOFT-CDO-ALLDAYEVENT:TRUE
DTSTART;TZID=Europe/Zurich;VALUE=DATE:20270630
END:VEVENT
END:VCALENDAR