BEGIN:VCALENDAR
VERSION:2.0
PRODID:spatie/icalendar-generator
NAME:Instandsetzung Freestylehalle Werdhölzli\, Generalplanungsleistungen
X-WR-CALNAME:Instandsetzung Freestylehalle Werdhölzli\, Generalplanungslei
 stungen
BEGIN:VTIMEZONE
TZID:Europe/Zurich
BEGIN:STANDARD
DTSTART:20241027T030000
TZOFFSETFROM:+0200
TZOFFSETTO:+0100
END:STANDARD
BEGIN:DAYLIGHT
DTSTART:20250330T010000
TZOFFSETFROM:+0100
TZOFFSETTO:+0200
END:DAYLIGHT
BEGIN:STANDARD
DTSTART:20251026T030000
TZOFFSETFROM:+0200
TZOFFSETTO:+0100
END:STANDARD
END:VTIMEZONE
BEGIN:VTIMEZONE
TZID:UTC
BEGIN:STANDARD
DTSTART:20250727T132835
TZOFFSETFROM:+0000
TZOFFSETTO:+0000
END:STANDARD
END:VTIMEZONE
BEGIN:VEVENT
UID:69ea1e83d04db
DTSTAMP:20260423T132835Z
SUMMARY:KONKURADO: Instandsetzung Freestylehalle Werdhölzli\, Generalplanu
 ngsleistungen\, Eingabe Präqualifikation 17.01.2025 - 11.02.2025
DESCRIPTION:Link zum Verfahren: https://konkurado.ch/de/instandsetzung-free
 stylehalle-werdholzli-generalplanungsleistungen
X-MICROSOFT-CDO-ALLDAYEVENT:TRUE
DTSTART;TZID=Europe/Zurich;VALUE=DATE:20250117
END:VEVENT
BEGIN:VEVENT
UID:69ea1e83d0599
DTSTAMP:20260423T132835Z
SUMMARY:KONKURADO: Instandsetzung Freestylehalle Werdhölzli\, Generalplanu
 ngsleistungen\, Eingabe Präqualifikation 17.01.2025 - 11.02.2025
DESCRIPTION:Link zum Verfahren: https://konkurado.ch/de/instandsetzung-free
 stylehalle-werdholzli-generalplanungsleistungen
X-MICROSOFT-CDO-ALLDAYEVENT:TRUE
DTSTART;TZID=Europe/Zurich;VALUE=DATE:20250211
END:VEVENT
BEGIN:VEVENT
UID:69ea1e83d074f
DTSTAMP:20260423T132835Z
SUMMARY:KONKURADO: Instandsetzung Freestylehalle Werdhölzli\, Generalplanu
 ngsleistungen\, Ausgabe Unterlagen Präqualifikation 17.01.2025 - 11.02.20
 25
DESCRIPTION:Link zum Verfahren: https://konkurado.ch/de/instandsetzung-free
 stylehalle-werdholzli-generalplanungsleistungen
X-MICROSOFT-CDO-ALLDAYEVENT:TRUE
DTSTART;TZID=Europe/Zurich;VALUE=DATE:20250117
END:VEVENT
BEGIN:VEVENT
UID:69ea1e83d0796
DTSTAMP:20260423T132835Z
SUMMARY:KONKURADO: Instandsetzung Freestylehalle Werdhölzli\, Generalplanu
 ngsleistungen\, Ausgabe Unterlagen Präqualifikation 17.01.2025 - 11.02.20
 25
DESCRIPTION:Link zum Verfahren: https://konkurado.ch/de/instandsetzung-free
 stylehalle-werdholzli-generalplanungsleistungen
X-MICROSOFT-CDO-ALLDAYEVENT:TRUE
DTSTART;TZID=Europe/Zurich;VALUE=DATE:20250211
END:VEVENT
BEGIN:VEVENT
UID:69ea1e83d07ee
DTSTAMP:20260423T132835Z
SUMMARY:KONKURADO: Instandsetzung Freestylehalle Werdhölzli\, Generalplanu
 ngsleistungen\, Eingabe Angebot 14.04.2025 - 02.06.2025
DESCRIPTION:Link zum Verfahren: https://konkurado.ch/de/instandsetzung-free
 stylehalle-werdholzli-generalplanungsleistungen
X-MICROSOFT-CDO-ALLDAYEVENT:TRUE
DTSTART;TZID=Europe/Zurich;VALUE=DATE:20250414
END:VEVENT
BEGIN:VEVENT
UID:69ea1e83d0835
DTSTAMP:20260423T132835Z
SUMMARY:KONKURADO: Instandsetzung Freestylehalle Werdhölzli\, Generalplanu
 ngsleistungen\, Eingabe Angebot 14.04.2025 - 02.06.2025
DESCRIPTION:Link zum Verfahren: https://konkurado.ch/de/instandsetzung-free
 stylehalle-werdholzli-generalplanungsleistungen
X-MICROSOFT-CDO-ALLDAYEVENT:TRUE
DTSTART;TZID=Europe/Zurich;VALUE=DATE:20250602
END:VEVENT
BEGIN:VEVENT
UID:69ea1e83d08db
DTSTAMP:20260423T132835Z
SUMMARY:KONKURADO: Instandsetzung Freestylehalle Werdhölzli\, Generalplanu
 ngsleistungen\, Ausgabe Unterlagen Angebot 14.04.2025 - 02.06.2025
DESCRIPTION:Link zum Verfahren: https://konkurado.ch/de/instandsetzung-free
 stylehalle-werdholzli-generalplanungsleistungen
X-MICROSOFT-CDO-ALLDAYEVENT:TRUE
DTSTART;TZID=Europe/Zurich;VALUE=DATE:20250414
END:VEVENT
BEGIN:VEVENT
UID:69ea1e83d091b
DTSTAMP:20260423T132835Z
SUMMARY:KONKURADO: Instandsetzung Freestylehalle Werdhölzli\, Generalplanu
 ngsleistungen\, Ausgabe Unterlagen Angebot 14.04.2025 - 02.06.2025
DESCRIPTION:Link zum Verfahren: https://konkurado.ch/de/instandsetzung-free
 stylehalle-werdholzli-generalplanungsleistungen
X-MICROSOFT-CDO-ALLDAYEVENT:TRUE
DTSTART;TZID=Europe/Zurich;VALUE=DATE:20250602
END:VEVENT
END:VCALENDAR