BEGIN:VCALENDAR
VERSION:2.0
PRODID:spatie/icalendar-generator
NAME:HUG_Accompagnement Programmes architecturaux
X-WR-CALNAME:HUG_Accompagnement Programmes architecturaux
BEGIN:VTIMEZONE
TZID:Europe/Zurich
BEGIN:STANDARD
DTSTART:20251026T030000
TZOFFSETFROM:+0200
TZOFFSETTO:+0100
END:STANDARD
BEGIN:DAYLIGHT
DTSTART:20260329T010000
TZOFFSETFROM:+0100
TZOFFSETTO:+0200
END:DAYLIGHT
BEGIN:STANDARD
DTSTART:20261025T030000
TZOFFSETFROM:+0200
TZOFFSETTO:+0100
END:STANDARD
END:VTIMEZONE
BEGIN:VTIMEZONE
TZID:UTC
BEGIN:STANDARD
DTSTART:20250723T135112
TZOFFSETFROM:+0000
TZOFFSETTO:+0000
END:STANDARD
END:VTIMEZONE
BEGIN:VEVENT
UID:69e4ddd039e7c
DTSTAMP:20260419T135112Z
SUMMARY:KONKURADO: HUG_Accompagnement Programmes architecturaux\, Soumissio
 n de questions jusqu’au 23.04.2026 - 23.04.2026
DESCRIPTION:Link zum Verfahren: https://konkurado.ch/de/hug-accompagnement-
 programmes-architecturaux
X-MICROSOFT-CDO-ALLDAYEVENT:TRUE
DTSTART;TZID=Europe/Zurich;VALUE=DATE:20260423
END:VEVENT
BEGIN:VEVENT
UID:69e4ddd039eff
DTSTAMP:20260419T135112Z
SUMMARY:KONKURADO: HUG_Accompagnement Programmes architecturaux\, Soumissio
 n de questions jusqu’au 23.04.2026 - 23.04.2026
DESCRIPTION:Link zum Verfahren: https://konkurado.ch/de/hug-accompagnement-
 programmes-architecturaux
X-MICROSOFT-CDO-ALLDAYEVENT:TRUE
DTSTART;TZID=Europe/Zurich;VALUE=DATE:20260423
END:VEVENT
BEGIN:VEVENT
UID:69e4ddd039f70
DTSTAMP:20260419T135112Z
SUMMARY:KONKURADO: HUG_Accompagnement Programmes architecturaux\, Soumissio
 n des offres jusqu’au 18.05.2026 - 18.05.2026
DESCRIPTION:Link zum Verfahren: https://konkurado.ch/de/hug-accompagnement-
 programmes-architecturaux
X-MICROSOFT-CDO-ALLDAYEVENT:TRUE
DTSTART;TZID=Europe/Zurich;VALUE=DATE:20260518
END:VEVENT
BEGIN:VEVENT
UID:69e4ddd039f98
DTSTAMP:20260419T135112Z
SUMMARY:KONKURADO: HUG_Accompagnement Programmes architecturaux\, Soumissio
 n des offres jusqu’au 18.05.2026 - 18.05.2026
DESCRIPTION:Link zum Verfahren: https://konkurado.ch/de/hug-accompagnement-
 programmes-architecturaux
X-MICROSOFT-CDO-ALLDAYEVENT:TRUE
DTSTART;TZID=Europe/Zurich;VALUE=DATE:20260518
END:VEVENT
END:VCALENDAR