BEGIN:VCALENDAR
VERSION:2.0
PRODID:spatie/icalendar-generator
NAME:Genilac®  PAV – Route des Jeunes Dussaud Etoile
X-WR-CALNAME:Genilac®  PAV – Route des Jeunes Dussaud Etoile
BEGIN:VTIMEZONE
TZID:Europe/Zurich
BEGIN:STANDARD
DTSTART:20251026T030000
TZOFFSETFROM:+0200
TZOFFSETTO:+0100
END:STANDARD
BEGIN:DAYLIGHT
DTSTART:20260329T010000
TZOFFSETFROM:+0100
TZOFFSETTO:+0200
END:DAYLIGHT
BEGIN:STANDARD
DTSTART:20261025T030000
TZOFFSETFROM:+0200
TZOFFSETTO:+0100
END:STANDARD
END:VTIMEZONE
BEGIN:VTIMEZONE
TZID:UTC
BEGIN:STANDARD
DTSTART:20250723T135321
TZOFFSETFROM:+0000
TZOFFSETTO:+0000
END:STANDARD
END:VTIMEZONE
BEGIN:VEVENT
UID:69e4de51ba0db
DTSTAMP:20260419T135321Z
SUMMARY:KONKURADO: Genilac®  PAV – Route des Jeunes Dussaud Etoile\, Ses
 sion de questions\, soumettre avant 24.04.2026 - 24.04.2026
DESCRIPTION:Link zum Verfahren: https://konkurado.ch/de/genilac-pav-route-d
 es-jeunes-dussaud-etoile
X-MICROSOFT-CDO-ALLDAYEVENT:TRUE
DTSTART;TZID=Europe/Zurich;VALUE=DATE:20260424
END:VEVENT
BEGIN:VEVENT
UID:69e4de51ba15d
DTSTAMP:20260419T135321Z
SUMMARY:KONKURADO: Genilac®  PAV – Route des Jeunes Dussaud Etoile\, Ses
 sion de questions\, soumettre avant 24.04.2026 - 24.04.2026
DESCRIPTION:Link zum Verfahren: https://konkurado.ch/de/genilac-pav-route-d
 es-jeunes-dussaud-etoile
X-MICROSOFT-CDO-ALLDAYEVENT:TRUE
DTSTART;TZID=Europe/Zurich;VALUE=DATE:20260424
END:VEVENT
BEGIN:VEVENT
UID:69e4de51ba1d6
DTSTAMP:20260419T135321Z
SUMMARY:KONKURADO: Genilac®  PAV – Route des Jeunes Dussaud Etoile\, Sou
 mission de la demande de participation 11.05.2026 - 11.05.2026
DESCRIPTION:Link zum Verfahren: https://konkurado.ch/de/genilac-pav-route-d
 es-jeunes-dussaud-etoile
X-MICROSOFT-CDO-ALLDAYEVENT:TRUE
DTSTART;TZID=Europe/Zurich;VALUE=DATE:20260511
END:VEVENT
BEGIN:VEVENT
UID:69e4de51ba200
DTSTAMP:20260419T135321Z
SUMMARY:KONKURADO: Genilac®  PAV – Route des Jeunes Dussaud Etoile\, Sou
 mission de la demande de participation 11.05.2026 - 11.05.2026
DESCRIPTION:Link zum Verfahren: https://konkurado.ch/de/genilac-pav-route-d
 es-jeunes-dussaud-etoile
X-MICROSOFT-CDO-ALLDAYEVENT:TRUE
DTSTART;TZID=Europe/Zurich;VALUE=DATE:20260511
END:VEVENT
BEGIN:VEVENT
UID:69e4de51ba259
DTSTAMP:20260419T135321Z
SUMMARY:KONKURADO: Genilac®  PAV – Route des Jeunes Dussaud Etoile\, Ouv
 erture des offres 12.05.2026 - 12.05.2026
DESCRIPTION:Link zum Verfahren: https://konkurado.ch/de/genilac-pav-route-d
 es-jeunes-dussaud-etoile
X-MICROSOFT-CDO-ALLDAYEVENT:TRUE
DTSTART;TZID=Europe/Zurich;VALUE=DATE:20260512
END:VEVENT
BEGIN:VEVENT
UID:69e4de51ba280
DTSTAMP:20260419T135321Z
SUMMARY:KONKURADO: Genilac®  PAV – Route des Jeunes Dussaud Etoile\, Ouv
 erture des offres 12.05.2026 - 12.05.2026
DESCRIPTION:Link zum Verfahren: https://konkurado.ch/de/genilac-pav-route-d
 es-jeunes-dussaud-etoile
X-MICROSOFT-CDO-ALLDAYEVENT:TRUE
DTSTART;TZID=Europe/Zurich;VALUE=DATE:20260512
END:VEVENT
BEGIN:VEVENT
UID:69e4de51ba2e7
DTSTAMP:20260419T135321Z
SUMMARY:KONKURADO: Genilac®  PAV – Route des Jeunes Dussaud Etoile\, Dis
 ponibilité des documents d’appel d’offres 11.04.2026 - 10.05.2026
DESCRIPTION:Link zum Verfahren: https://konkurado.ch/de/genilac-pav-route-d
 es-jeunes-dussaud-etoile
X-MICROSOFT-CDO-ALLDAYEVENT:TRUE
DTSTART;TZID=Europe/Zurich;VALUE=DATE:20260411
END:VEVENT
BEGIN:VEVENT
UID:69e4de51ba30e
DTSTAMP:20260419T135321Z
SUMMARY:KONKURADO: Genilac®  PAV – Route des Jeunes Dussaud Etoile\, Dis
 ponibilité des documents d’appel d’offres 11.04.2026 - 10.05.2026
DESCRIPTION:Link zum Verfahren: https://konkurado.ch/de/genilac-pav-route-d
 es-jeunes-dussaud-etoile
X-MICROSOFT-CDO-ALLDAYEVENT:TRUE
DTSTART;TZID=Europe/Zurich;VALUE=DATE:20260510
END:VEVENT
END:VCALENDAR