BEGIN:VCALENDAR
VERSION:2.0
PRODID:spatie/icalendar-generator
NAME:Generalplanung Transportleitung Fernwärme & Abwasser (Lauterbrunnen 
 – Wengen)
X-WR-CALNAME:Generalplanung Transportleitung Fernwärme & Abwasser (Lauterb
 runnen – Wengen)
BEGIN:VTIMEZONE
TZID:Europe/Zurich
BEGIN:STANDARD
DTSTART:20251026T030000
TZOFFSETFROM:+0200
TZOFFSETTO:+0100
END:STANDARD
BEGIN:DAYLIGHT
DTSTART:20260329T010000
TZOFFSETFROM:+0100
TZOFFSETTO:+0200
END:DAYLIGHT
BEGIN:STANDARD
DTSTART:20261025T030000
TZOFFSETFROM:+0200
TZOFFSETTO:+0100
END:STANDARD
END:VTIMEZONE
BEGIN:VTIMEZONE
TZID:UTC
BEGIN:STANDARD
DTSTART:20250728T172318
TZOFFSETFROM:+0000
TZOFFSETTO:+0000
END:STANDARD
END:VTIMEZONE
BEGIN:VEVENT
UID:69eba706a3fba
DTSTAMP:20260424T172318Z
SUMMARY:KONKURADO: Generalplanung Transportleitung Fernwärme & Abwasser (L
 auterbrunnen – Wengen)\, Fragerunde\, einreichen bis 19.05.2026 - 19.05.
 2026
DESCRIPTION:Link zum Verfahren: https://konkurado.ch/de/generalplanung-tran
 sportleitung-fernwarme-abwasser-lauterbrunnen-wengen
X-MICROSOFT-CDO-ALLDAYEVENT:TRUE
DTSTART;TZID=Europe/Zurich;VALUE=DATE:20260519
END:VEVENT
BEGIN:VEVENT
UID:69eba706a4041
DTSTAMP:20260424T172318Z
SUMMARY:KONKURADO: Generalplanung Transportleitung Fernwärme & Abwasser (L
 auterbrunnen – Wengen)\, Fragerunde\, einreichen bis 19.05.2026 - 19.05.
 2026
DESCRIPTION:Link zum Verfahren: https://konkurado.ch/de/generalplanung-tran
 sportleitung-fernwarme-abwasser-lauterbrunnen-wengen
X-MICROSOFT-CDO-ALLDAYEVENT:TRUE
DTSTART;TZID=Europe/Zurich;VALUE=DATE:20260519
END:VEVENT
BEGIN:VEVENT
UID:69eba706a40b9
DTSTAMP:20260424T172318Z
SUMMARY:KONKURADO: Generalplanung Transportleitung Fernwärme & Abwasser (L
 auterbrunnen – Wengen)\, Einreichen von Angeboten bis 03.06.2026 - 03.06
 .2026
DESCRIPTION:Link zum Verfahren: https://konkurado.ch/de/generalplanung-tran
 sportleitung-fernwarme-abwasser-lauterbrunnen-wengen
X-MICROSOFT-CDO-ALLDAYEVENT:TRUE
DTSTART;TZID=Europe/Zurich;VALUE=DATE:20260603
END:VEVENT
BEGIN:VEVENT
UID:69eba706a40e4
DTSTAMP:20260424T172318Z
SUMMARY:KONKURADO: Generalplanung Transportleitung Fernwärme & Abwasser (L
 auterbrunnen – Wengen)\, Einreichen von Angeboten bis 03.06.2026 - 03.06
 .2026
DESCRIPTION:Link zum Verfahren: https://konkurado.ch/de/generalplanung-tran
 sportleitung-fernwarme-abwasser-lauterbrunnen-wengen
X-MICROSOFT-CDO-ALLDAYEVENT:TRUE
DTSTART;TZID=Europe/Zurich;VALUE=DATE:20260603
END:VEVENT
BEGIN:VEVENT
UID:69eba706a413e
DTSTAMP:20260424T172318Z
SUMMARY:KONKURADO: Generalplanung Transportleitung Fernwärme & Abwasser (L
 auterbrunnen – Wengen)\, Verfügbarkeit der Ausschreibungsunterlagen 24.
 04.2026 - 03.06.2026
DESCRIPTION:Link zum Verfahren: https://konkurado.ch/de/generalplanung-tran
 sportleitung-fernwarme-abwasser-lauterbrunnen-wengen
X-MICROSOFT-CDO-ALLDAYEVENT:TRUE
DTSTART;TZID=Europe/Zurich;VALUE=DATE:20260424
END:VEVENT
BEGIN:VEVENT
UID:69eba706a4164
DTSTAMP:20260424T172318Z
SUMMARY:KONKURADO: Generalplanung Transportleitung Fernwärme & Abwasser (L
 auterbrunnen – Wengen)\, Verfügbarkeit der Ausschreibungsunterlagen 24.
 04.2026 - 03.06.2026
DESCRIPTION:Link zum Verfahren: https://konkurado.ch/de/generalplanung-tran
 sportleitung-fernwarme-abwasser-lauterbrunnen-wengen
X-MICROSOFT-CDO-ALLDAYEVENT:TRUE
DTSTART;TZID=Europe/Zurich;VALUE=DATE:20260603
END:VEVENT
BEGIN:VEVENT
UID:69eba706a41b8
DTSTAMP:20260424T172318Z
SUMMARY:KONKURADO: Generalplanung Transportleitung Fernwärme & Abwasser (L
 auterbrunnen – Wengen)\, Obligatorische Begehung 18.05.2026 - 18.05.2026
DESCRIPTION:Link zum Verfahren: https://konkurado.ch/de/generalplanung-tran
 sportleitung-fernwarme-abwasser-lauterbrunnen-wengen
X-MICROSOFT-CDO-ALLDAYEVENT:TRUE
DTSTART;TZID=Europe/Zurich;VALUE=DATE:20260518
END:VEVENT
BEGIN:VEVENT
UID:69eba706a41de
DTSTAMP:20260424T172318Z
SUMMARY:KONKURADO: Generalplanung Transportleitung Fernwärme & Abwasser (L
 auterbrunnen – Wengen)\, Obligatorische Begehung 18.05.2026 - 18.05.2026
DESCRIPTION:Link zum Verfahren: https://konkurado.ch/de/generalplanung-tran
 sportleitung-fernwarme-abwasser-lauterbrunnen-wengen
X-MICROSOFT-CDO-ALLDAYEVENT:TRUE
DTSTART;TZID=Europe/Zurich;VALUE=DATE:20260518
END:VEVENT
BEGIN:VEVENT
UID:69eba706a423a
DTSTAMP:20260424T172318Z
SUMMARY:KONKURADO: Generalplanung Transportleitung Fernwärme & Abwasser (L
 auterbrunnen – Wengen)\, Angebotspräsentationen 16.06.2026 - 16.06.2026
DESCRIPTION:Link zum Verfahren: https://konkurado.ch/de/generalplanung-tran
 sportleitung-fernwarme-abwasser-lauterbrunnen-wengen
X-MICROSOFT-CDO-ALLDAYEVENT:TRUE
DTSTART;TZID=Europe/Zurich;VALUE=DATE:20260616
END:VEVENT
BEGIN:VEVENT
UID:69eba706a4272
DTSTAMP:20260424T172318Z
SUMMARY:KONKURADO: Generalplanung Transportleitung Fernwärme & Abwasser (L
 auterbrunnen – Wengen)\, Angebotspräsentationen 16.06.2026 - 16.06.2026
DESCRIPTION:Link zum Verfahren: https://konkurado.ch/de/generalplanung-tran
 sportleitung-fernwarme-abwasser-lauterbrunnen-wengen
X-MICROSOFT-CDO-ALLDAYEVENT:TRUE
DTSTART;TZID=Europe/Zurich;VALUE=DATE:20260616
END:VEVENT
END:VCALENDAR