BEGIN:VCALENDAR
VERSION:2.0
PRODID:spatie/icalendar-generator
NAME:Galerie EU – Plaine de l’Aire vers passerelle et diagonale des Che
 rpines Réseaux SIG & Infrastructures communales
X-WR-CALNAME:Galerie EU – Plaine de l’Aire vers passerelle et diagonale
  des Cherpines Réseaux SIG & Infrastructures communales
BEGIN:VTIMEZONE
TZID:Europe/Zurich
BEGIN:STANDARD
DTSTART:20251026T030000
TZOFFSETFROM:+0200
TZOFFSETTO:+0100
END:STANDARD
BEGIN:DAYLIGHT
DTSTART:20260329T010000
TZOFFSETFROM:+0100
TZOFFSETTO:+0200
END:DAYLIGHT
BEGIN:STANDARD
DTSTART:20261025T030000
TZOFFSETFROM:+0200
TZOFFSETTO:+0100
END:STANDARD
END:VTIMEZONE
BEGIN:VTIMEZONE
TZID:UTC
BEGIN:STANDARD
DTSTART:20250723T135514
TZOFFSETFROM:+0000
TZOFFSETTO:+0000
END:STANDARD
END:VTIMEZONE
BEGIN:VEVENT
UID:69e4dec270ed1
DTSTAMP:20260419T135514Z
SUMMARY:KONKURADO: Galerie EU – Plaine de l’Aire vers passerelle et dia
 gonale des Cherpines Réseaux SIG & Infrastructures communales\, Session d
 e questions\, soumettre avant 24.04.2026 - 24.04.2026
DESCRIPTION:Link zum Verfahren: https://konkurado.ch/de/galerie-eu-plaine-d
 e-laire-vers-passerelle-et-diagonale-des-cherpines-reseaux-sig-infrastruct
 ures-communales
X-MICROSOFT-CDO-ALLDAYEVENT:TRUE
DTSTART;TZID=Europe/Zurich;VALUE=DATE:20260424
END:VEVENT
BEGIN:VEVENT
UID:69e4dec270f83
DTSTAMP:20260419T135514Z
SUMMARY:KONKURADO: Galerie EU – Plaine de l’Aire vers passerelle et dia
 gonale des Cherpines Réseaux SIG & Infrastructures communales\, Session d
 e questions\, soumettre avant 24.04.2026 - 24.04.2026
DESCRIPTION:Link zum Verfahren: https://konkurado.ch/de/galerie-eu-plaine-d
 e-laire-vers-passerelle-et-diagonale-des-cherpines-reseaux-sig-infrastruct
 ures-communales
X-MICROSOFT-CDO-ALLDAYEVENT:TRUE
DTSTART;TZID=Europe/Zurich;VALUE=DATE:20260424
END:VEVENT
BEGIN:VEVENT
UID:69e4dec27102e
DTSTAMP:20260419T135514Z
SUMMARY:KONKURADO: Galerie EU – Plaine de l’Aire vers passerelle et dia
 gonale des Cherpines Réseaux SIG & Infrastructures communales\, Soumissio
 n de la demande de participation 11.05.2026 - 11.05.2026
DESCRIPTION:Link zum Verfahren: https://konkurado.ch/de/galerie-eu-plaine-d
 e-laire-vers-passerelle-et-diagonale-des-cherpines-reseaux-sig-infrastruct
 ures-communales
X-MICROSOFT-CDO-ALLDAYEVENT:TRUE
DTSTART;TZID=Europe/Zurich;VALUE=DATE:20260511
END:VEVENT
BEGIN:VEVENT
UID:69e4dec27106e
DTSTAMP:20260419T135514Z
SUMMARY:KONKURADO: Galerie EU – Plaine de l’Aire vers passerelle et dia
 gonale des Cherpines Réseaux SIG & Infrastructures communales\, Soumissio
 n de la demande de participation 11.05.2026 - 11.05.2026
DESCRIPTION:Link zum Verfahren: https://konkurado.ch/de/galerie-eu-plaine-d
 e-laire-vers-passerelle-et-diagonale-des-cherpines-reseaux-sig-infrastruct
 ures-communales
X-MICROSOFT-CDO-ALLDAYEVENT:TRUE
DTSTART;TZID=Europe/Zurich;VALUE=DATE:20260511
END:VEVENT
BEGIN:VEVENT
UID:69e4dec2710ef
DTSTAMP:20260419T135514Z
SUMMARY:KONKURADO: Galerie EU – Plaine de l’Aire vers passerelle et dia
 gonale des Cherpines Réseaux SIG & Infrastructures communales\, Ouverture
  des offres 13.05.2026 - 13.05.2026
DESCRIPTION:Link zum Verfahren: https://konkurado.ch/de/galerie-eu-plaine-d
 e-laire-vers-passerelle-et-diagonale-des-cherpines-reseaux-sig-infrastruct
 ures-communales
X-MICROSOFT-CDO-ALLDAYEVENT:TRUE
DTSTART;TZID=Europe/Zurich;VALUE=DATE:20260513
END:VEVENT
BEGIN:VEVENT
UID:69e4dec27112c
DTSTAMP:20260419T135514Z
SUMMARY:KONKURADO: Galerie EU – Plaine de l’Aire vers passerelle et dia
 gonale des Cherpines Réseaux SIG & Infrastructures communales\, Ouverture
  des offres 13.05.2026 - 13.05.2026
DESCRIPTION:Link zum Verfahren: https://konkurado.ch/de/galerie-eu-plaine-d
 e-laire-vers-passerelle-et-diagonale-des-cherpines-reseaux-sig-infrastruct
 ures-communales
X-MICROSOFT-CDO-ALLDAYEVENT:TRUE
DTSTART;TZID=Europe/Zurich;VALUE=DATE:20260513
END:VEVENT
BEGIN:VEVENT
UID:69e4dec2711ae
DTSTAMP:20260419T135514Z
SUMMARY:KONKURADO: Galerie EU – Plaine de l’Aire vers passerelle et dia
 gonale des Cherpines Réseaux SIG & Infrastructures communales\, Disponibi
 lité des documents d’appel d’offres 11.04.2026 - 10.05.2026
DESCRIPTION:Link zum Verfahren: https://konkurado.ch/de/galerie-eu-plaine-d
 e-laire-vers-passerelle-et-diagonale-des-cherpines-reseaux-sig-infrastruct
 ures-communales
X-MICROSOFT-CDO-ALLDAYEVENT:TRUE
DTSTART;TZID=Europe/Zurich;VALUE=DATE:20260411
END:VEVENT
BEGIN:VEVENT
UID:69e4dec2711e9
DTSTAMP:20260419T135514Z
SUMMARY:KONKURADO: Galerie EU – Plaine de l’Aire vers passerelle et dia
 gonale des Cherpines Réseaux SIG & Infrastructures communales\, Disponibi
 lité des documents d’appel d’offres 11.04.2026 - 10.05.2026
DESCRIPTION:Link zum Verfahren: https://konkurado.ch/de/galerie-eu-plaine-d
 e-laire-vers-passerelle-et-diagonale-des-cherpines-reseaux-sig-infrastruct
 ures-communales
X-MICROSOFT-CDO-ALLDAYEVENT:TRUE
DTSTART;TZID=Europe/Zurich;VALUE=DATE:20260510
END:VEVENT
END:VCALENDAR