BEGIN:VCALENDAR
VERSION:2.0
PRODID:spatie/icalendar-generator
NAME:Fouilles archéologiques préventives - Orbe - Rte de Chavornay (Grang
 es Saint Martin) - parcelle n°280
X-WR-CALNAME:Fouilles archéologiques préventives - Orbe - Rte de Chavorna
 y (Granges Saint Martin) - parcelle n°280
BEGIN:VTIMEZONE
TZID:Europe/Zurich
BEGIN:STANDARD
DTSTART:20251026T030000
TZOFFSETFROM:+0200
TZOFFSETTO:+0100
END:STANDARD
BEGIN:DAYLIGHT
DTSTART:20260329T010000
TZOFFSETFROM:+0100
TZOFFSETTO:+0200
END:DAYLIGHT
END:VTIMEZONE
BEGIN:VTIMEZONE
TZID:UTC
BEGIN:STANDARD
DTSTART:20250725T181826
TZOFFSETFROM:+0000
TZOFFSETTO:+0000
END:STANDARD
END:VTIMEZONE
BEGIN:VEVENT
UID:69e7bf721afe9
DTSTAMP:20260421T181826Z
SUMMARY:KONKURADO: Fouilles archéologiques préventives - Orbe - Rte de Ch
 avornay (Granges Saint Martin) - parcelle n°280\, Session de questions\, 
 soumettre avant 27.02.2026 - 27.02.2026
DESCRIPTION:Link zum Verfahren: https://konkurado.ch/de/fouilles-archeologi
 ques-preventives-orbe-rte-de-chavornay-granges-saint-martin-parcelle-n280
X-MICROSOFT-CDO-ALLDAYEVENT:TRUE
DTSTART;TZID=Europe/Zurich;VALUE=DATE:20260227
END:VEVENT
BEGIN:VEVENT
UID:69e7bf721b074
DTSTAMP:20260421T181826Z
SUMMARY:KONKURADO: Fouilles archéologiques préventives - Orbe - Rte de Ch
 avornay (Granges Saint Martin) - parcelle n°280\, Session de questions\, 
 soumettre avant 27.02.2026 - 27.02.2026
DESCRIPTION:Link zum Verfahren: https://konkurado.ch/de/fouilles-archeologi
 ques-preventives-orbe-rte-de-chavornay-granges-saint-martin-parcelle-n280
X-MICROSOFT-CDO-ALLDAYEVENT:TRUE
DTSTART;TZID=Europe/Zurich;VALUE=DATE:20260227
END:VEVENT
BEGIN:VEVENT
UID:69e7bf721b0e8
DTSTAMP:20260421T181826Z
SUMMARY:KONKURADO: Fouilles archéologiques préventives - Orbe - Rte de Ch
 avornay (Granges Saint Martin) - parcelle n°280\, Soumission de la demand
 e de participation 19.03.2026 - 19.03.2026
DESCRIPTION:Link zum Verfahren: https://konkurado.ch/de/fouilles-archeologi
 ques-preventives-orbe-rte-de-chavornay-granges-saint-martin-parcelle-n280
X-MICROSOFT-CDO-ALLDAYEVENT:TRUE
DTSTART;TZID=Europe/Zurich;VALUE=DATE:20260319
END:VEVENT
BEGIN:VEVENT
UID:69e7bf721b110
DTSTAMP:20260421T181826Z
SUMMARY:KONKURADO: Fouilles archéologiques préventives - Orbe - Rte de Ch
 avornay (Granges Saint Martin) - parcelle n°280\, Soumission de la demand
 e de participation 19.03.2026 - 19.03.2026
DESCRIPTION:Link zum Verfahren: https://konkurado.ch/de/fouilles-archeologi
 ques-preventives-orbe-rte-de-chavornay-granges-saint-martin-parcelle-n280
X-MICROSOFT-CDO-ALLDAYEVENT:TRUE
DTSTART;TZID=Europe/Zurich;VALUE=DATE:20260319
END:VEVENT
BEGIN:VEVENT
UID:69e7bf721b168
DTSTAMP:20260421T181826Z
SUMMARY:KONKURADO: Fouilles archéologiques préventives - Orbe - Rte de Ch
 avornay (Granges Saint Martin) - parcelle n°280\, Disponibilité des docu
 ments d’appel d’offres 06.02.2026 - 20.02.2026
DESCRIPTION:Link zum Verfahren: https://konkurado.ch/de/fouilles-archeologi
 ques-preventives-orbe-rte-de-chavornay-granges-saint-martin-parcelle-n280
X-MICROSOFT-CDO-ALLDAYEVENT:TRUE
DTSTART;TZID=Europe/Zurich;VALUE=DATE:20260206
END:VEVENT
BEGIN:VEVENT
UID:69e7bf721b18e
DTSTAMP:20260421T181826Z
SUMMARY:KONKURADO: Fouilles archéologiques préventives - Orbe - Rte de Ch
 avornay (Granges Saint Martin) - parcelle n°280\, Disponibilité des docu
 ments d’appel d’offres 06.02.2026 - 20.02.2026
DESCRIPTION:Link zum Verfahren: https://konkurado.ch/de/fouilles-archeologi
 ques-preventives-orbe-rte-de-chavornay-granges-saint-martin-parcelle-n280
X-MICROSOFT-CDO-ALLDAYEVENT:TRUE
DTSTART;TZID=Europe/Zurich;VALUE=DATE:20260220
END:VEVENT
END:VCALENDAR