BEGIN:VCALENDAR
VERSION:2.0
PRODID:spatie/icalendar-generator
NAME:Fachplaner Leitungsbau SIA 32-53 für TR1580 und TR1670
X-WR-CALNAME:Fachplaner Leitungsbau SIA 32-53 für TR1580 und TR1670
BEGIN:VTIMEZONE
TZID:Europe/Zurich
BEGIN:STANDARD
DTSTART:20251026T030000
TZOFFSETFROM:+0200
TZOFFSETTO:+0100
END:STANDARD
BEGIN:DAYLIGHT
DTSTART:20260329T010000
TZOFFSETFROM:+0100
TZOFFSETTO:+0200
END:DAYLIGHT
BEGIN:STANDARD
DTSTART:20261025T030000
TZOFFSETFROM:+0200
TZOFFSETTO:+0100
END:STANDARD
END:VTIMEZONE
BEGIN:VTIMEZONE
TZID:UTC
BEGIN:STANDARD
DTSTART:20250723T135454
TZOFFSETFROM:+0000
TZOFFSETTO:+0000
END:STANDARD
END:VTIMEZONE
BEGIN:VEVENT
UID:69e4deae04162
DTSTAMP:20260419T135454Z
SUMMARY:KONKURADO: Fachplaner Leitungsbau SIA 32-53 für TR1580 und TR1670\
 , Einreichung von Fragen bis 04.05.2026 - 04.05.2026
DESCRIPTION:Link zum Verfahren: https://konkurado.ch/de/fachplaner-leitungs
 bau-sia-32-53-fur-tr1580-und-tr1670
X-MICROSOFT-CDO-ALLDAYEVENT:TRUE
DTSTART;TZID=Europe/Zurich;VALUE=DATE:20260504
END:VEVENT
BEGIN:VEVENT
UID:69e4deae0420a
DTSTAMP:20260419T135454Z
SUMMARY:KONKURADO: Fachplaner Leitungsbau SIA 32-53 für TR1580 und TR1670\
 , Einreichung von Fragen bis 04.05.2026 - 04.05.2026
DESCRIPTION:Link zum Verfahren: https://konkurado.ch/de/fachplaner-leitungs
 bau-sia-32-53-fur-tr1580-und-tr1670
X-MICROSOFT-CDO-ALLDAYEVENT:TRUE
DTSTART;TZID=Europe/Zurich;VALUE=DATE:20260504
END:VEVENT
BEGIN:VEVENT
UID:69e4deae0429e
DTSTAMP:20260419T135454Z
SUMMARY:KONKURADO: Fachplaner Leitungsbau SIA 32-53 für TR1580 und TR1670\
 , Einreichung von Angeboten bis 01.06.2026 - 01.06.2026
DESCRIPTION:Link zum Verfahren: https://konkurado.ch/de/fachplaner-leitungs
 bau-sia-32-53-fur-tr1580-und-tr1670
X-MICROSOFT-CDO-ALLDAYEVENT:TRUE
DTSTART;TZID=Europe/Zurich;VALUE=DATE:20260601
END:VEVENT
BEGIN:VEVENT
UID:69e4deae042ca
DTSTAMP:20260419T135454Z
SUMMARY:KONKURADO: Fachplaner Leitungsbau SIA 32-53 für TR1580 und TR1670\
 , Einreichung von Angeboten bis 01.06.2026 - 01.06.2026
DESCRIPTION:Link zum Verfahren: https://konkurado.ch/de/fachplaner-leitungs
 bau-sia-32-53-fur-tr1580-und-tr1670
X-MICROSOFT-CDO-ALLDAYEVENT:TRUE
DTSTART;TZID=Europe/Zurich;VALUE=DATE:20260601
END:VEVENT
BEGIN:VEVENT
UID:69e4deae04328
DTSTAMP:20260419T135454Z
SUMMARY:KONKURADO: Fachplaner Leitungsbau SIA 32-53 für TR1580 und TR1670\
 , Offertöffnung 02.06.2026 - 02.06.2026
DESCRIPTION:Link zum Verfahren: https://konkurado.ch/de/fachplaner-leitungs
 bau-sia-32-53-fur-tr1580-und-tr1670
X-MICROSOFT-CDO-ALLDAYEVENT:TRUE
DTSTART;TZID=Europe/Zurich;VALUE=DATE:20260602
END:VEVENT
BEGIN:VEVENT
UID:69e4deae04351
DTSTAMP:20260419T135454Z
SUMMARY:KONKURADO: Fachplaner Leitungsbau SIA 32-53 für TR1580 und TR1670\
 , Offertöffnung 02.06.2026 - 02.06.2026
DESCRIPTION:Link zum Verfahren: https://konkurado.ch/de/fachplaner-leitungs
 bau-sia-32-53-fur-tr1580-und-tr1670
X-MICROSOFT-CDO-ALLDAYEVENT:TRUE
DTSTART;TZID=Europe/Zurich;VALUE=DATE:20260602
END:VEVENT
BEGIN:VEVENT
UID:69e4deae043a7
DTSTAMP:20260419T135454Z
SUMMARY:KONKURADO: Fachplaner Leitungsbau SIA 32-53 für TR1580 und TR1670\
 , Verfügbarkeit der Ausschreibungsunterlagen 15.04.2026 - 27.05.2026
DESCRIPTION:Link zum Verfahren: https://konkurado.ch/de/fachplaner-leitungs
 bau-sia-32-53-fur-tr1580-und-tr1670
X-MICROSOFT-CDO-ALLDAYEVENT:TRUE
DTSTART;TZID=Europe/Zurich;VALUE=DATE:20260415
END:VEVENT
BEGIN:VEVENT
UID:69e4deae043cf
DTSTAMP:20260419T135454Z
SUMMARY:KONKURADO: Fachplaner Leitungsbau SIA 32-53 für TR1580 und TR1670\
 , Verfügbarkeit der Ausschreibungsunterlagen 15.04.2026 - 27.05.2026
DESCRIPTION:Link zum Verfahren: https://konkurado.ch/de/fachplaner-leitungs
 bau-sia-32-53-fur-tr1580-und-tr1670
X-MICROSOFT-CDO-ALLDAYEVENT:TRUE
DTSTART;TZID=Europe/Zurich;VALUE=DATE:20260527
END:VEVENT
BEGIN:VEVENT
UID:69e4deae04421
DTSTAMP:20260419T135454Z
SUMMARY:KONKURADO: Fachplaner Leitungsbau SIA 32-53 für TR1580 und TR1670\
 , Interview mit Anbietenden zur Auftrags- und Risikoanalyse (Optional) 17.
 06.2026 - 17.06.2026
DESCRIPTION:Link zum Verfahren: https://konkurado.ch/de/fachplaner-leitungs
 bau-sia-32-53-fur-tr1580-und-tr1670
X-MICROSOFT-CDO-ALLDAYEVENT:TRUE
DTSTART;TZID=Europe/Zurich;VALUE=DATE:20260617
END:VEVENT
BEGIN:VEVENT
UID:69e4deae0444a
DTSTAMP:20260419T135454Z
SUMMARY:KONKURADO: Fachplaner Leitungsbau SIA 32-53 für TR1580 und TR1670\
 , Interview mit Anbietenden zur Auftrags- und Risikoanalyse (Optional) 17.
 06.2026 - 17.06.2026
DESCRIPTION:Link zum Verfahren: https://konkurado.ch/de/fachplaner-leitungs
 bau-sia-32-53-fur-tr1580-und-tr1670
X-MICROSOFT-CDO-ALLDAYEVENT:TRUE
DTSTART;TZID=Europe/Zurich;VALUE=DATE:20260617
END:VEVENT
END:VCALENDAR