BEGIN:VCALENDAR
VERSION:2.0
PRODID:spatie/icalendar-generator
NAME:Étude pour la pérennisation de l’arrêt « Palettes » sur le terr
 itoire de la Commune de Lancy
X-WR-CALNAME:Étude pour la pérennisation de l’arrêt « Palettes » sur
  le territoire de la Commune de Lancy
BEGIN:VTIMEZONE
TZID:Europe/Zurich
BEGIN:STANDARD
DTSTART:20251026T030000
TZOFFSETFROM:+0200
TZOFFSETTO:+0100
END:STANDARD
BEGIN:DAYLIGHT
DTSTART:20260329T010000
TZOFFSETFROM:+0100
TZOFFSETTO:+0200
END:DAYLIGHT
BEGIN:STANDARD
DTSTART:20261025T030000
TZOFFSETFROM:+0200
TZOFFSETTO:+0100
END:STANDARD
END:VTIMEZONE
BEGIN:VTIMEZONE
TZID:UTC
BEGIN:STANDARD
DTSTART:20250723T135453
TZOFFSETFROM:+0000
TZOFFSETTO:+0000
END:STANDARD
END:VTIMEZONE
BEGIN:VEVENT
UID:69e4dead7f7cc
DTSTAMP:20260419T135453Z
SUMMARY:KONKURADO: Étude pour la pérennisation de l’arrêt « Palettes 
 » sur le territoire de la Commune de Lancy\, Soumission de questions jusq
 u’au 22.04.2026 - 22.04.2026
DESCRIPTION:Link zum Verfahren: https://konkurado.ch/de/etude-pour-la-peren
 nisation-de-larret-palettes-sur-le-territoire-de-la-commune-de-lancy
X-MICROSOFT-CDO-ALLDAYEVENT:TRUE
DTSTART;TZID=Europe/Zurich;VALUE=DATE:20260422
END:VEVENT
BEGIN:VEVENT
UID:69e4dead7f855
DTSTAMP:20260419T135453Z
SUMMARY:KONKURADO: Étude pour la pérennisation de l’arrêt « Palettes 
 » sur le territoire de la Commune de Lancy\, Soumission de questions jusq
 u’au 22.04.2026 - 22.04.2026
DESCRIPTION:Link zum Verfahren: https://konkurado.ch/de/etude-pour-la-peren
 nisation-de-larret-palettes-sur-le-territoire-de-la-commune-de-lancy
X-MICROSOFT-CDO-ALLDAYEVENT:TRUE
DTSTART;TZID=Europe/Zurich;VALUE=DATE:20260422
END:VEVENT
BEGIN:VEVENT
UID:69e4dead7f8cf
DTSTAMP:20260419T135453Z
SUMMARY:KONKURADO: Étude pour la pérennisation de l’arrêt « Palettes 
 » sur le territoire de la Commune de Lancy\, Soumission des offres jusqu
 ’au 27.05.2026 - 27.05.2026
DESCRIPTION:Link zum Verfahren: https://konkurado.ch/de/etude-pour-la-peren
 nisation-de-larret-palettes-sur-le-territoire-de-la-commune-de-lancy
X-MICROSOFT-CDO-ALLDAYEVENT:TRUE
DTSTART;TZID=Europe/Zurich;VALUE=DATE:20260527
END:VEVENT
BEGIN:VEVENT
UID:69e4dead7f8f7
DTSTAMP:20260419T135453Z
SUMMARY:KONKURADO: Étude pour la pérennisation de l’arrêt « Palettes 
 » sur le territoire de la Commune de Lancy\, Soumission des offres jusqu
 ’au 27.05.2026 - 27.05.2026
DESCRIPTION:Link zum Verfahren: https://konkurado.ch/de/etude-pour-la-peren
 nisation-de-larret-palettes-sur-le-territoire-de-la-commune-de-lancy
X-MICROSOFT-CDO-ALLDAYEVENT:TRUE
DTSTART;TZID=Europe/Zurich;VALUE=DATE:20260527
END:VEVENT
BEGIN:VEVENT
UID:69e4dead7f94e
DTSTAMP:20260419T135453Z
SUMMARY:KONKURADO: Étude pour la pérennisation de l’arrêt « Palettes 
 » sur le territoire de la Commune de Lancy\, Disponibilité des documents
  d’appel d’offres 16.04.2026 - 27.05.2026
DESCRIPTION:Link zum Verfahren: https://konkurado.ch/de/etude-pour-la-peren
 nisation-de-larret-palettes-sur-le-territoire-de-la-commune-de-lancy
X-MICROSOFT-CDO-ALLDAYEVENT:TRUE
DTSTART;TZID=Europe/Zurich;VALUE=DATE:20260416
END:VEVENT
BEGIN:VEVENT
UID:69e4dead7f974
DTSTAMP:20260419T135453Z
SUMMARY:KONKURADO: Étude pour la pérennisation de l’arrêt « Palettes 
 » sur le territoire de la Commune de Lancy\, Disponibilité des documents
  d’appel d’offres 16.04.2026 - 27.05.2026
DESCRIPTION:Link zum Verfahren: https://konkurado.ch/de/etude-pour-la-peren
 nisation-de-larret-palettes-sur-le-territoire-de-la-commune-de-lancy
X-MICROSOFT-CDO-ALLDAYEVENT:TRUE
DTSTART;TZID=Europe/Zurich;VALUE=DATE:20260527
END:VEVENT
END:VCALENDAR