BEGIN:VCALENDAR
VERSION:2.0
PRODID:spatie/icalendar-generator
NAME:Erweiterung Sport- und Freizeitanlage Looren\, 8124 Maur
X-WR-CALNAME:Erweiterung Sport- und Freizeitanlage Looren\, 8124 Maur
BEGIN:VTIMEZONE
TZID:Europe/Zurich
BEGIN:STANDARD
DTSTART:20251026T030000
TZOFFSETFROM:+0200
TZOFFSETTO:+0100
END:STANDARD
BEGIN:DAYLIGHT
DTSTART:20260329T010000
TZOFFSETFROM:+0100
TZOFFSETTO:+0200
END:DAYLIGHT
BEGIN:STANDARD
DTSTART:20261025T030000
TZOFFSETFROM:+0200
TZOFFSETTO:+0100
END:STANDARD
BEGIN:DAYLIGHT
DTSTART:20270328T010000
TZOFFSETFROM:+0100
TZOFFSETTO:+0200
END:DAYLIGHT
END:VTIMEZONE
BEGIN:VTIMEZONE
TZID:UTC
BEGIN:STANDARD
DTSTART:20250728T171630
TZOFFSETFROM:+0000
TZOFFSETTO:+0000
END:STANDARD
END:VTIMEZONE
BEGIN:VEVENT
UID:69eba56e98842
DTSTAMP:20260424T171630Z
SUMMARY:KONKURADO: Erweiterung Sport- und Freizeitanlage Looren\, 8124 Maur
 \, Einreichen des Teilnahmeantrags 05.05.2026 - 05.05.2026
DESCRIPTION:Link zum Verfahren: https://konkurado.ch/de/erweiterung-sport-u
 nd-freizeitanlage-looren-8124-maur
X-MICROSOFT-CDO-ALLDAYEVENT:TRUE
DTSTART;TZID=Europe/Zurich;VALUE=DATE:20260505
END:VEVENT
BEGIN:VEVENT
UID:69eba56e988d0
DTSTAMP:20260424T171630Z
SUMMARY:KONKURADO: Erweiterung Sport- und Freizeitanlage Looren\, 8124 Maur
 \, Einreichen des Teilnahmeantrags 05.05.2026 - 05.05.2026
DESCRIPTION:Link zum Verfahren: https://konkurado.ch/de/erweiterung-sport-u
 nd-freizeitanlage-looren-8124-maur
X-MICROSOFT-CDO-ALLDAYEVENT:TRUE
DTSTART;TZID=Europe/Zurich;VALUE=DATE:20260505
END:VEVENT
BEGIN:VEVENT
UID:69eba56e98945
DTSTAMP:20260424T171630Z
SUMMARY:KONKURADO: Erweiterung Sport- und Freizeitanlage Looren\, 8124 Maur
 \, Einreichung des Projektbeitrags bis 16.10.2026 - 16.10.2026
DESCRIPTION:Link zum Verfahren: https://konkurado.ch/de/erweiterung-sport-u
 nd-freizeitanlage-looren-8124-maur
X-MICROSOFT-CDO-ALLDAYEVENT:TRUE
DTSTART;TZID=Europe/Zurich;VALUE=DATE:20261016
END:VEVENT
BEGIN:VEVENT
UID:69eba56e98970
DTSTAMP:20260424T171630Z
SUMMARY:KONKURADO: Erweiterung Sport- und Freizeitanlage Looren\, 8124 Maur
 \, Einreichung des Projektbeitrags bis 16.10.2026 - 16.10.2026
DESCRIPTION:Link zum Verfahren: https://konkurado.ch/de/erweiterung-sport-u
 nd-freizeitanlage-looren-8124-maur
X-MICROSOFT-CDO-ALLDAYEVENT:TRUE
DTSTART;TZID=Europe/Zurich;VALUE=DATE:20261016
END:VEVENT
BEGIN:VEVENT
UID:69eba56e989ca
DTSTAMP:20260424T171630Z
SUMMARY:KONKURADO: Erweiterung Sport- und Freizeitanlage Looren\, 8124 Maur
 \, Interessensbekundung bis 05.05.2026 - 05.05.2026
DESCRIPTION:Link zum Verfahren: https://konkurado.ch/de/erweiterung-sport-u
 nd-freizeitanlage-looren-8124-maur
X-MICROSOFT-CDO-ALLDAYEVENT:TRUE
DTSTART;TZID=Europe/Zurich;VALUE=DATE:20260505
END:VEVENT
BEGIN:VEVENT
UID:69eba56e989f0
DTSTAMP:20260424T171630Z
SUMMARY:KONKURADO: Erweiterung Sport- und Freizeitanlage Looren\, 8124 Maur
 \, Interessensbekundung bis 05.05.2026 - 05.05.2026
DESCRIPTION:Link zum Verfahren: https://konkurado.ch/de/erweiterung-sport-u
 nd-freizeitanlage-looren-8124-maur
X-MICROSOFT-CDO-ALLDAYEVENT:TRUE
DTSTART;TZID=Europe/Zurich;VALUE=DATE:20260505
END:VEVENT
BEGIN:VEVENT
UID:69eba56e98a43
DTSTAMP:20260424T171630Z
SUMMARY:KONKURADO: Erweiterung Sport- und Freizeitanlage Looren\, 8124 Maur
 \, Abgabe Modell 16.10.2026 - 16.10.2026
DESCRIPTION:Link zum Verfahren: https://konkurado.ch/de/erweiterung-sport-u
 nd-freizeitanlage-looren-8124-maur
X-MICROSOFT-CDO-ALLDAYEVENT:TRUE
DTSTART;TZID=Europe/Zurich;VALUE=DATE:20261016
END:VEVENT
BEGIN:VEVENT
UID:69eba56e98a6b
DTSTAMP:20260424T171630Z
SUMMARY:KONKURADO: Erweiterung Sport- und Freizeitanlage Looren\, 8124 Maur
 \, Abgabe Modell 16.10.2026 - 16.10.2026
DESCRIPTION:Link zum Verfahren: https://konkurado.ch/de/erweiterung-sport-u
 nd-freizeitanlage-looren-8124-maur
X-MICROSOFT-CDO-ALLDAYEVENT:TRUE
DTSTART;TZID=Europe/Zurich;VALUE=DATE:20261016
END:VEVENT
END:VCALENDAR