BEGIN:VCALENDAR
VERSION:2.0
PRODID:spatie/icalendar-generator
NAME:Erweiterung Schulanlage Pünt\, Oberrieden
X-WR-CALNAME:Erweiterung Schulanlage Pünt\, Oberrieden
BEGIN:VTIMEZONE
TZID:Europe/Zurich
BEGIN:DAYLIGHT
DTSTART:20240331T010000
TZOFFSETFROM:+0100
TZOFFSETTO:+0200
END:DAYLIGHT
BEGIN:STANDARD
DTSTART:20241027T030000
TZOFFSETFROM:+0200
TZOFFSETTO:+0100
END:STANDARD
BEGIN:DAYLIGHT
DTSTART:20250330T010000
TZOFFSETFROM:+0100
TZOFFSETTO:+0200
END:DAYLIGHT
BEGIN:STANDARD
DTSTART:20251026T030000
TZOFFSETFROM:+0200
TZOFFSETTO:+0100
END:STANDARD
BEGIN:DAYLIGHT
DTSTART:20260329T010000
TZOFFSETFROM:+0100
TZOFFSETTO:+0200
END:DAYLIGHT
END:VTIMEZONE
BEGIN:VTIMEZONE
TZID:UTC
BEGIN:STANDARD
DTSTART:20250727T132533
TZOFFSETFROM:+0000
TZOFFSETTO:+0000
END:STANDARD
END:VTIMEZONE
BEGIN:VEVENT
UID:69ea1dcdd1787
DTSTAMP:20260423T132533Z
SUMMARY:KONKURADO: Erweiterung Schulanlage Pünt\, Oberrieden\, Einreichen 
 des Teilnahmeantrags 20.11.2024 - 24.01.2025
DESCRIPTION:Link zum Verfahren: https://konkurado.ch/de/erweiterung-schulan
 lage-punt-oberrieden
X-MICROSOFT-CDO-ALLDAYEVENT:TRUE
DTSTART;TZID=Europe/Zurich;VALUE=DATE:20241120
END:VEVENT
BEGIN:VEVENT
UID:69ea1dcdd1810
DTSTAMP:20260423T132533Z
SUMMARY:KONKURADO: Erweiterung Schulanlage Pünt\, Oberrieden\, Einreichen 
 des Teilnahmeantrags 20.11.2024 - 24.01.2025
DESCRIPTION:Link zum Verfahren: https://konkurado.ch/de/erweiterung-schulan
 lage-punt-oberrieden
X-MICROSOFT-CDO-ALLDAYEVENT:TRUE
DTSTART;TZID=Europe/Zurich;VALUE=DATE:20250124
END:VEVENT
BEGIN:VEVENT
UID:69ea1dcdd1987
DTSTAMP:20260423T132533Z
SUMMARY:KONKURADO: Erweiterung Schulanlage Pünt\, Oberrieden\, Öffnung de
 r Teilnahmeanträge 24.01.2025 - 24.01.2025
DESCRIPTION:Link zum Verfahren: https://konkurado.ch/de/erweiterung-schulan
 lage-punt-oberrieden
X-MICROSOFT-CDO-ALLDAYEVENT:TRUE
DTSTART;TZID=Europe/Zurich;VALUE=DATE:20250124
END:VEVENT
BEGIN:VEVENT
UID:69ea1dcdd19b2
DTSTAMP:20260423T132533Z
SUMMARY:KONKURADO: Erweiterung Schulanlage Pünt\, Oberrieden\, Öffnung de
 r Teilnahmeanträge 24.01.2025 - 24.01.2025
DESCRIPTION:Link zum Verfahren: https://konkurado.ch/de/erweiterung-schulan
 lage-punt-oberrieden
X-MICROSOFT-CDO-ALLDAYEVENT:TRUE
DTSTART;TZID=Europe/Zurich;VALUE=DATE:20250124
END:VEVENT
BEGIN:VEVENT
UID:69ea1dcdd19ea
DTSTAMP:20260423T132533Z
SUMMARY:KONKURADO: Erweiterung Schulanlage Pünt\, Oberrieden\, Einreichen 
 von Fragen zum Verfahren 03.03.2025 - 01.04.2025
DESCRIPTION:Link zum Verfahren: https://konkurado.ch/de/erweiterung-schulan
 lage-punt-oberrieden
X-MICROSOFT-CDO-ALLDAYEVENT:TRUE
DTSTART;TZID=Europe/Zurich;VALUE=DATE:20250303
END:VEVENT
BEGIN:VEVENT
UID:69ea1dcdd1a10
DTSTAMP:20260423T132533Z
SUMMARY:KONKURADO: Erweiterung Schulanlage Pünt\, Oberrieden\, Einreichen 
 von Fragen zum Verfahren 03.03.2025 - 01.04.2025
DESCRIPTION:Link zum Verfahren: https://konkurado.ch/de/erweiterung-schulan
 lage-punt-oberrieden
X-MICROSOFT-CDO-ALLDAYEVENT:TRUE
DTSTART;TZID=Europe/Zurich;VALUE=DATE:20250401
END:VEVENT
BEGIN:VEVENT
UID:69ea1dcdd1a42
DTSTAMP:20260423T132533Z
SUMMARY:KONKURADO: Erweiterung Schulanlage Pünt\, Oberrieden\, Einreichen 
 Projektidee 03.03.2025 - 21.05.2025
DESCRIPTION:Link zum Verfahren: https://konkurado.ch/de/erweiterung-schulan
 lage-punt-oberrieden
X-MICROSOFT-CDO-ALLDAYEVENT:TRUE
DTSTART;TZID=Europe/Zurich;VALUE=DATE:20250303
END:VEVENT
BEGIN:VEVENT
UID:69ea1dcdd1a67
DTSTAMP:20260423T132533Z
SUMMARY:KONKURADO: Erweiterung Schulanlage Pünt\, Oberrieden\, Einreichen 
 Projektidee 03.03.2025 - 21.05.2025
DESCRIPTION:Link zum Verfahren: https://konkurado.ch/de/erweiterung-schulan
 lage-punt-oberrieden
X-MICROSOFT-CDO-ALLDAYEVENT:TRUE
DTSTART;TZID=Europe/Zurich;VALUE=DATE:20250521
END:VEVENT
BEGIN:VEVENT
UID:69ea1dcdd1aeb
DTSTAMP:20260423T132533Z
SUMMARY:KONKURADO: Erweiterung Schulanlage Pünt\, Oberrieden\, Ausgabe der
  Submissionsunterlagen 03.03.2025 - 03.03.2025
DESCRIPTION:Link zum Verfahren: https://konkurado.ch/de/erweiterung-schulan
 lage-punt-oberrieden
X-MICROSOFT-CDO-ALLDAYEVENT:TRUE
DTSTART;TZID=Europe/Zurich;VALUE=DATE:20250303
END:VEVENT
BEGIN:VEVENT
UID:69ea1dcdd1b2a
DTSTAMP:20260423T132533Z
SUMMARY:KONKURADO: Erweiterung Schulanlage Pünt\, Oberrieden\, Ausgabe der
  Submissionsunterlagen 03.03.2025 - 03.03.2025
DESCRIPTION:Link zum Verfahren: https://konkurado.ch/de/erweiterung-schulan
 lage-punt-oberrieden
X-MICROSOFT-CDO-ALLDAYEVENT:TRUE
DTSTART;TZID=Europe/Zurich;VALUE=DATE:20250303
END:VEVENT
BEGIN:VEVENT
UID:69ea1dcdd1b92
DTSTAMP:20260423T132533Z
SUMMARY:KONKURADO: Erweiterung Schulanlage Pünt\, Oberrieden\, Besichtigun
 g der Anlage 19.03.2025 - 19.03.2025
DESCRIPTION:Link zum Verfahren: https://konkurado.ch/de/erweiterung-schulan
 lage-punt-oberrieden
X-MICROSOFT-CDO-ALLDAYEVENT:TRUE
DTSTART;TZID=Europe/Zurich;VALUE=DATE:20250319
END:VEVENT
BEGIN:VEVENT
UID:69ea1dcdd1bb9
DTSTAMP:20260423T132533Z
SUMMARY:KONKURADO: Erweiterung Schulanlage Pünt\, Oberrieden\, Besichtigun
 g der Anlage 19.03.2025 - 19.03.2025
DESCRIPTION:Link zum Verfahren: https://konkurado.ch/de/erweiterung-schulan
 lage-punt-oberrieden
X-MICROSOFT-CDO-ALLDAYEVENT:TRUE
DTSTART;TZID=Europe/Zurich;VALUE=DATE:20250319
END:VEVENT
BEGIN:VEVENT
UID:69ea1dcdd1c28
DTSTAMP:20260423T132533Z
SUMMARY:KONKURADO: Erweiterung Schulanlage Pünt\, Oberrieden\, Beantwortun
 g der Fragen 15.04.2025 - 15.04.2025
DESCRIPTION:Link zum Verfahren: https://konkurado.ch/de/erweiterung-schulan
 lage-punt-oberrieden
X-MICROSOFT-CDO-ALLDAYEVENT:TRUE
DTSTART;TZID=Europe/Zurich;VALUE=DATE:20250415
END:VEVENT
BEGIN:VEVENT
UID:69ea1dcdd1c69
DTSTAMP:20260423T132533Z
SUMMARY:KONKURADO: Erweiterung Schulanlage Pünt\, Oberrieden\, Beantwortun
 g der Fragen 15.04.2025 - 15.04.2025
DESCRIPTION:Link zum Verfahren: https://konkurado.ch/de/erweiterung-schulan
 lage-punt-oberrieden
X-MICROSOFT-CDO-ALLDAYEVENT:TRUE
DTSTART;TZID=Europe/Zurich;VALUE=DATE:20250415
END:VEVENT
BEGIN:VEVENT
UID:69ea1dcdd1cd5
DTSTAMP:20260423T132533Z
SUMMARY:KONKURADO: Erweiterung Schulanlage Pünt\, Oberrieden\, Zwischenbes
 prechung 12.06.2025 - 12.06.2025
DESCRIPTION:Link zum Verfahren: https://konkurado.ch/de/erweiterung-schulan
 lage-punt-oberrieden
X-MICROSOFT-CDO-ALLDAYEVENT:TRUE
DTSTART;TZID=Europe/Zurich;VALUE=DATE:20250612
END:VEVENT
BEGIN:VEVENT
UID:69ea1dcdd1cfb
DTSTAMP:20260423T132533Z
SUMMARY:KONKURADO: Erweiterung Schulanlage Pünt\, Oberrieden\, Zwischenbes
 prechung 12.06.2025 - 12.06.2025
DESCRIPTION:Link zum Verfahren: https://konkurado.ch/de/erweiterung-schulan
 lage-punt-oberrieden
X-MICROSOFT-CDO-ALLDAYEVENT:TRUE
DTSTART;TZID=Europe/Zurich;VALUE=DATE:20250612
END:VEVENT
BEGIN:VEVENT
UID:69ea1dcdd1d2e
DTSTAMP:20260423T132533Z
SUMMARY:KONKURADO: Erweiterung Schulanlage Pünt\, Oberrieden\, Einreichen 
 von Fragen 12.06.2025 - 18.07.2025
DESCRIPTION:Link zum Verfahren: https://konkurado.ch/de/erweiterung-schulan
 lage-punt-oberrieden
X-MICROSOFT-CDO-ALLDAYEVENT:TRUE
DTSTART;TZID=Europe/Zurich;VALUE=DATE:20250612
END:VEVENT
BEGIN:VEVENT
UID:69ea1dcdd1d52
DTSTAMP:20260423T132533Z
SUMMARY:KONKURADO: Erweiterung Schulanlage Pünt\, Oberrieden\, Einreichen 
 von Fragen 12.06.2025 - 18.07.2025
DESCRIPTION:Link zum Verfahren: https://konkurado.ch/de/erweiterung-schulan
 lage-punt-oberrieden
X-MICROSOFT-CDO-ALLDAYEVENT:TRUE
DTSTART;TZID=Europe/Zurich;VALUE=DATE:20250718
END:VEVENT
BEGIN:VEVENT
UID:69ea1dcdd1da7
DTSTAMP:20260423T132533Z
SUMMARY:KONKURADO: Erweiterung Schulanlage Pünt\, Oberrieden\, Beantworten
  der Fragen 01.08.2025 - 01.08.2025
DESCRIPTION:Link zum Verfahren: https://konkurado.ch/de/erweiterung-schulan
 lage-punt-oberrieden
X-MICROSOFT-CDO-ALLDAYEVENT:TRUE
DTSTART;TZID=Europe/Zurich;VALUE=DATE:20250801
END:VEVENT
BEGIN:VEVENT
UID:69ea1dcdd1dcd
DTSTAMP:20260423T132533Z
SUMMARY:KONKURADO: Erweiterung Schulanlage Pünt\, Oberrieden\, Beantworten
  der Fragen 01.08.2025 - 01.08.2025
DESCRIPTION:Link zum Verfahren: https://konkurado.ch/de/erweiterung-schulan
 lage-punt-oberrieden
X-MICROSOFT-CDO-ALLDAYEVENT:TRUE
DTSTART;TZID=Europe/Zurich;VALUE=DATE:20250801
END:VEVENT
BEGIN:VEVENT
UID:69ea1dcdd1dfd
DTSTAMP:20260423T132533Z
SUMMARY:KONKURADO: Erweiterung Schulanlage Pünt\, Oberrieden\, Einreichen 
 der definitiven Projekte mit Gesamtleistungsangebot 12.06.2025 - 06.10.202
 5
DESCRIPTION:Link zum Verfahren: https://konkurado.ch/de/erweiterung-schulan
 lage-punt-oberrieden
X-MICROSOFT-CDO-ALLDAYEVENT:TRUE
DTSTART;TZID=Europe/Zurich;VALUE=DATE:20250612
END:VEVENT
BEGIN:VEVENT
UID:69ea1dcdd1e21
DTSTAMP:20260423T132533Z
SUMMARY:KONKURADO: Erweiterung Schulanlage Pünt\, Oberrieden\, Einreichen 
 der definitiven Projekte mit Gesamtleistungsangebot 12.06.2025 - 06.10.202
 5
DESCRIPTION:Link zum Verfahren: https://konkurado.ch/de/erweiterung-schulan
 lage-punt-oberrieden
X-MICROSOFT-CDO-ALLDAYEVENT:TRUE
DTSTART;TZID=Europe/Zurich;VALUE=DATE:20251006
END:VEVENT
BEGIN:VEVENT
UID:69ea1dcdd1e7d
DTSTAMP:20260423T132533Z
SUMMARY:KONKURADO: Erweiterung Schulanlage Pünt\, Oberrieden\, Offertberei
 nigung / Projektpräsentation 14.11.2025 - 14.11.2025
DESCRIPTION:Link zum Verfahren: https://konkurado.ch/de/erweiterung-schulan
 lage-punt-oberrieden
X-MICROSOFT-CDO-ALLDAYEVENT:TRUE
DTSTART;TZID=Europe/Zurich;VALUE=DATE:20251114
END:VEVENT
BEGIN:VEVENT
UID:69ea1dcdd1ea8
DTSTAMP:20260423T132533Z
SUMMARY:KONKURADO: Erweiterung Schulanlage Pünt\, Oberrieden\, Offertberei
 nigung / Projektpräsentation 14.11.2025 - 14.11.2025
DESCRIPTION:Link zum Verfahren: https://konkurado.ch/de/erweiterung-schulan
 lage-punt-oberrieden
X-MICROSOFT-CDO-ALLDAYEVENT:TRUE
DTSTART;TZID=Europe/Zurich;VALUE=DATE:20251114
END:VEVENT
END:VCALENDAR