BEGIN:VCALENDAR
VERSION:2.0
PRODID:spatie/icalendar-generator
NAME:Ersatzneubau Schulhaus Staffeln
X-WR-CALNAME:Ersatzneubau Schulhaus Staffeln
BEGIN:VTIMEZONE
TZID:Europe/Zurich
BEGIN:STANDARD
DTSTART:20241027T030000
TZOFFSETFROM:+0200
TZOFFSETTO:+0100
END:STANDARD
BEGIN:DAYLIGHT
DTSTART:20250330T010000
TZOFFSETFROM:+0100
TZOFFSETTO:+0200
END:DAYLIGHT
BEGIN:STANDARD
DTSTART:20251026T030000
TZOFFSETFROM:+0200
TZOFFSETTO:+0100
END:STANDARD
BEGIN:DAYLIGHT
DTSTART:20260329T010000
TZOFFSETFROM:+0100
TZOFFSETTO:+0200
END:DAYLIGHT
END:VTIMEZONE
BEGIN:VTIMEZONE
TZID:UTC
BEGIN:STANDARD
DTSTART:20250727T132507
TZOFFSETFROM:+0000
TZOFFSETTO:+0000
END:STANDARD
END:VTIMEZONE
BEGIN:VEVENT
UID:69ea1db365be9
DTSTAMP:20260423T132507Z
SUMMARY:KONKURADO: Ersatzneubau Schulhaus Staffeln\, Eingabe der Bewerbung 
 16.06.2025 - 11.07.2025
DESCRIPTION:Link zum Verfahren: https://konkurado.ch/de/ersatzneubau-schulh
 aus-staffeln
X-MICROSOFT-CDO-ALLDAYEVENT:TRUE
DTSTART;TZID=Europe/Zurich;VALUE=DATE:20250616
END:VEVENT
BEGIN:VEVENT
UID:69ea1db365c6e
DTSTAMP:20260423T132507Z
SUMMARY:KONKURADO: Ersatzneubau Schulhaus Staffeln\, Eingabe der Bewerbung 
 16.06.2025 - 11.07.2025
DESCRIPTION:Link zum Verfahren: https://konkurado.ch/de/ersatzneubau-schulh
 aus-staffeln
X-MICROSOFT-CDO-ALLDAYEVENT:TRUE
DTSTART;TZID=Europe/Zurich;VALUE=DATE:20250711
END:VEVENT
BEGIN:VEVENT
UID:69ea1db365caa
DTSTAMP:20260423T132507Z
SUMMARY:KONKURADO: Ersatzneubau Schulhaus Staffeln\, Eingabe Fragen 13.10.2
 025 - 20.10.2025
DESCRIPTION:Link zum Verfahren: https://konkurado.ch/de/ersatzneubau-schulh
 aus-staffeln
X-MICROSOFT-CDO-ALLDAYEVENT:TRUE
DTSTART;TZID=Europe/Zurich;VALUE=DATE:20251013
END:VEVENT
BEGIN:VEVENT
UID:69ea1db365cd1
DTSTAMP:20260423T132507Z
SUMMARY:KONKURADO: Ersatzneubau Schulhaus Staffeln\, Eingabe Fragen 13.10.2
 025 - 20.10.2025
DESCRIPTION:Link zum Verfahren: https://konkurado.ch/de/ersatzneubau-schulh
 aus-staffeln
X-MICROSOFT-CDO-ALLDAYEVENT:TRUE
DTSTART;TZID=Europe/Zurich;VALUE=DATE:20251020
END:VEVENT
BEGIN:VEVENT
UID:69ea1db365d09
DTSTAMP:20260423T132507Z
SUMMARY:KONKURADO: Ersatzneubau Schulhaus Staffeln\, Eingabe Angebot 20.10.
 2025 - 21.11.2025
DESCRIPTION:Link zum Verfahren: https://konkurado.ch/de/ersatzneubau-schulh
 aus-staffeln
X-MICROSOFT-CDO-ALLDAYEVENT:TRUE
DTSTART;TZID=Europe/Zurich;VALUE=DATE:20251020
END:VEVENT
BEGIN:VEVENT
UID:69ea1db365d3c
DTSTAMP:20260423T132507Z
SUMMARY:KONKURADO: Ersatzneubau Schulhaus Staffeln\, Eingabe Angebot 20.10.
 2025 - 21.11.2025
DESCRIPTION:Link zum Verfahren: https://konkurado.ch/de/ersatzneubau-schulh
 aus-staffeln
X-MICROSOFT-CDO-ALLDAYEVENT:TRUE
DTSTART;TZID=Europe/Zurich;VALUE=DATE:20251121
END:VEVENT
BEGIN:VEVENT
UID:69ea1db365ef9
DTSTAMP:20260423T132507Z
SUMMARY:KONKURADO: Ersatzneubau Schulhaus Staffeln\, Start Phase Angebot 13
 .10.2025 - 13.10.2025
DESCRIPTION:Link zum Verfahren: https://konkurado.ch/de/ersatzneubau-schulh
 aus-staffeln
X-MICROSOFT-CDO-ALLDAYEVENT:TRUE
DTSTART;TZID=Europe/Zurich;VALUE=DATE:20251013
END:VEVENT
BEGIN:VEVENT
UID:69ea1db365f24
DTSTAMP:20260423T132507Z
SUMMARY:KONKURADO: Ersatzneubau Schulhaus Staffeln\, Start Phase Angebot 13
 .10.2025 - 13.10.2025
DESCRIPTION:Link zum Verfahren: https://konkurado.ch/de/ersatzneubau-schulh
 aus-staffeln
X-MICROSOFT-CDO-ALLDAYEVENT:TRUE
DTSTART;TZID=Europe/Zurich;VALUE=DATE:20251013
END:VEVENT
BEGIN:VEVENT
UID:69ea1db365f6a
DTSTAMP:20260423T132507Z
SUMMARY:KONKURADO: Ersatzneubau Schulhaus Staffeln\, Entscheid Angebot 16.0
 2.2026 - 16.02.2026
DESCRIPTION:Link zum Verfahren: https://konkurado.ch/de/ersatzneubau-schulh
 aus-staffeln
X-MICROSOFT-CDO-ALLDAYEVENT:TRUE
DTSTART;TZID=Europe/Zurich;VALUE=DATE:20260216
END:VEVENT
BEGIN:VEVENT
UID:69ea1db365f90
DTSTAMP:20260423T132507Z
SUMMARY:KONKURADO: Ersatzneubau Schulhaus Staffeln\, Entscheid Angebot 16.0
 2.2026 - 16.02.2026
DESCRIPTION:Link zum Verfahren: https://konkurado.ch/de/ersatzneubau-schulh
 aus-staffeln
X-MICROSOFT-CDO-ALLDAYEVENT:TRUE
DTSTART;TZID=Europe/Zurich;VALUE=DATE:20260216
END:VEVENT
BEGIN:VEVENT
UID:69ea1db365ff1
DTSTAMP:20260423T132507Z
SUMMARY:KONKURADO: Ersatzneubau Schulhaus Staffeln\, Fragenbeantwortung 21.
 10.2025 - 31.10.2025
DESCRIPTION:Link zum Verfahren: https://konkurado.ch/de/ersatzneubau-schulh
 aus-staffeln
X-MICROSOFT-CDO-ALLDAYEVENT:TRUE
DTSTART;TZID=Europe/Zurich;VALUE=DATE:20251021
END:VEVENT
BEGIN:VEVENT
UID:69ea1db366018
DTSTAMP:20260423T132507Z
SUMMARY:KONKURADO: Ersatzneubau Schulhaus Staffeln\, Fragenbeantwortung 21.
 10.2025 - 31.10.2025
DESCRIPTION:Link zum Verfahren: https://konkurado.ch/de/ersatzneubau-schulh
 aus-staffeln
X-MICROSOFT-CDO-ALLDAYEVENT:TRUE
DTSTART;TZID=Europe/Zurich;VALUE=DATE:20251031
END:VEVENT
BEGIN:VEVENT
UID:69ea1db36606e
DTSTAMP:20260423T132507Z
SUMMARY:KONKURADO: Ersatzneubau Schulhaus Staffeln\, Entscheid Präqualifik
 ation 12.07.2025 - 15.09.2025
DESCRIPTION:Link zum Verfahren: https://konkurado.ch/de/ersatzneubau-schulh
 aus-staffeln
X-MICROSOFT-CDO-ALLDAYEVENT:TRUE
DTSTART;TZID=Europe/Zurich;VALUE=DATE:20250712
END:VEVENT
BEGIN:VEVENT
UID:69ea1db366093
DTSTAMP:20260423T132507Z
SUMMARY:KONKURADO: Ersatzneubau Schulhaus Staffeln\, Entscheid Präqualifik
 ation 12.07.2025 - 15.09.2025
DESCRIPTION:Link zum Verfahren: https://konkurado.ch/de/ersatzneubau-schulh
 aus-staffeln
X-MICROSOFT-CDO-ALLDAYEVENT:TRUE
DTSTART;TZID=Europe/Zurich;VALUE=DATE:20250915
END:VEVENT
END:VCALENDAR