BEGIN:VCALENDAR
VERSION:2.0
PRODID:spatie/icalendar-generator
NAME:Ersatzneubau Mehrzweckanlage MZA
X-WR-CALNAME:Ersatzneubau Mehrzweckanlage MZA
BEGIN:VTIMEZONE
TZID:Europe/Zurich
BEGIN:STANDARD
DTSTART:20251026T030000
TZOFFSETFROM:+0200
TZOFFSETTO:+0100
END:STANDARD
BEGIN:DAYLIGHT
DTSTART:20260329T010000
TZOFFSETFROM:+0100
TZOFFSETTO:+0200
END:DAYLIGHT
BEGIN:STANDARD
DTSTART:20261025T030000
TZOFFSETFROM:+0200
TZOFFSETTO:+0100
END:STANDARD
BEGIN:DAYLIGHT
DTSTART:20270328T010000
TZOFFSETFROM:+0100
TZOFFSETTO:+0200
END:DAYLIGHT
END:VTIMEZONE
BEGIN:VTIMEZONE
TZID:UTC
BEGIN:STANDARD
DTSTART:20250724T023541
TZOFFSETFROM:+0000
TZOFFSETTO:+0000
END:STANDARD
END:VTIMEZONE
BEGIN:VEVENT
UID:69e590fd6b8ae
DTSTAMP:20260420T023541Z
SUMMARY:KONKURADO: Ersatzneubau Mehrzweckanlage MZA\, Einreichen des Teilna
 hmeantrags 07.05.2026 - 07.05.2026
DESCRIPTION:Link zum Verfahren: https://konkurado.ch/de/ersatzneubau-mehrzw
 eckanlage
X-MICROSOFT-CDO-ALLDAYEVENT:TRUE
DTSTART;TZID=Europe/Zurich;VALUE=DATE:20260507
END:VEVENT
BEGIN:VEVENT
UID:69e590fd6b941
DTSTAMP:20260420T023541Z
SUMMARY:KONKURADO: Ersatzneubau Mehrzweckanlage MZA\, Einreichen des Teilna
 hmeantrags 07.05.2026 - 07.05.2026
DESCRIPTION:Link zum Verfahren: https://konkurado.ch/de/ersatzneubau-mehrzw
 eckanlage
X-MICROSOFT-CDO-ALLDAYEVENT:TRUE
DTSTART;TZID=Europe/Zurich;VALUE=DATE:20260507
END:VEVENT
BEGIN:VEVENT
UID:69e590fd6b9ba
DTSTAMP:20260420T023541Z
SUMMARY:KONKURADO: Ersatzneubau Mehrzweckanlage MZA\, Öffnung der Teilnahm
 eanträge 11.05.2026 - 11.05.2026
DESCRIPTION:Link zum Verfahren: https://konkurado.ch/de/ersatzneubau-mehrzw
 eckanlage
X-MICROSOFT-CDO-ALLDAYEVENT:TRUE
DTSTART;TZID=Europe/Zurich;VALUE=DATE:20260511
END:VEVENT
BEGIN:VEVENT
UID:69e590fd6b9e5
DTSTAMP:20260420T023541Z
SUMMARY:KONKURADO: Ersatzneubau Mehrzweckanlage MZA\, Öffnung der Teilnahm
 eanträge 11.05.2026 - 11.05.2026
DESCRIPTION:Link zum Verfahren: https://konkurado.ch/de/ersatzneubau-mehrzw
 eckanlage
X-MICROSOFT-CDO-ALLDAYEVENT:TRUE
DTSTART;TZID=Europe/Zurich;VALUE=DATE:20260511
END:VEVENT
BEGIN:VEVENT
UID:69e590fd6ba3e
DTSTAMP:20260420T023541Z
SUMMARY:KONKURADO: Ersatzneubau Mehrzweckanlage MZA\, Interessensbekundung 
 bis 07.05.2026 - 07.05.2026
DESCRIPTION:Link zum Verfahren: https://konkurado.ch/de/ersatzneubau-mehrzw
 eckanlage
X-MICROSOFT-CDO-ALLDAYEVENT:TRUE
DTSTART;TZID=Europe/Zurich;VALUE=DATE:20260507
END:VEVENT
BEGIN:VEVENT
UID:69e590fd6ba64
DTSTAMP:20260420T023541Z
SUMMARY:KONKURADO: Ersatzneubau Mehrzweckanlage MZA\, Interessensbekundung 
 bis 07.05.2026 - 07.05.2026
DESCRIPTION:Link zum Verfahren: https://konkurado.ch/de/ersatzneubau-mehrzw
 eckanlage
X-MICROSOFT-CDO-ALLDAYEVENT:TRUE
DTSTART;TZID=Europe/Zurich;VALUE=DATE:20260507
END:VEVENT
BEGIN:VEVENT
UID:69e590fd6baba
DTSTAMP:20260420T023541Z
SUMMARY:KONKURADO: Ersatzneubau Mehrzweckanlage MZA\, Verfügbarkeit der Au
 sschreibungsunterlagen 28.03.2026 - 30.12.2026
DESCRIPTION:Link zum Verfahren: https://konkurado.ch/de/ersatzneubau-mehrzw
 eckanlage
X-MICROSOFT-CDO-ALLDAYEVENT:TRUE
DTSTART;TZID=Europe/Zurich;VALUE=DATE:20260328
END:VEVENT
BEGIN:VEVENT
UID:69e590fd6bae0
DTSTAMP:20260420T023541Z
SUMMARY:KONKURADO: Ersatzneubau Mehrzweckanlage MZA\, Verfügbarkeit der Au
 sschreibungsunterlagen 28.03.2026 - 30.12.2026
DESCRIPTION:Link zum Verfahren: https://konkurado.ch/de/ersatzneubau-mehrzw
 eckanlage
X-MICROSOFT-CDO-ALLDAYEVENT:TRUE
DTSTART;TZID=Europe/Zurich;VALUE=DATE:20261230
END:VEVENT
BEGIN:VEVENT
UID:69e590fd6bb32
DTSTAMP:20260420T023541Z
SUMMARY:KONKURADO: Ersatzneubau Mehrzweckanlage MZA\, Bestimmung der Teilne
 hmer 02.06.2026 - 02.06.2026
DESCRIPTION:Link zum Verfahren: https://konkurado.ch/de/ersatzneubau-mehrzw
 eckanlage
X-MICROSOFT-CDO-ALLDAYEVENT:TRUE
DTSTART;TZID=Europe/Zurich;VALUE=DATE:20260602
END:VEVENT
BEGIN:VEVENT
UID:69e590fd6bb5a
DTSTAMP:20260420T023541Z
SUMMARY:KONKURADO: Ersatzneubau Mehrzweckanlage MZA\, Bestimmung der Teilne
 hmer 02.06.2026 - 02.06.2026
DESCRIPTION:Link zum Verfahren: https://konkurado.ch/de/ersatzneubau-mehrzw
 eckanlage
X-MICROSOFT-CDO-ALLDAYEVENT:TRUE
DTSTART;TZID=Europe/Zurich;VALUE=DATE:20260602
END:VEVENT
END:VCALENDAR