BEGIN:VCALENDAR
VERSION:2.0
PRODID:spatie/icalendar-generator
NAME:Construction d'une école spécialisée et d'une UAPE\, concept Ecole 
 DUO à Roche
X-WR-CALNAME:Construction d'une école spécialisée et d'une UAPE\, concep
 t Ecole DUO à Roche
BEGIN:VTIMEZONE
TZID:Europe/Zurich
BEGIN:STANDARD
DTSTART:20241027T030000
TZOFFSETFROM:+0200
TZOFFSETTO:+0100
END:STANDARD
BEGIN:DAYLIGHT
DTSTART:20250330T010000
TZOFFSETFROM:+0100
TZOFFSETTO:+0200
END:DAYLIGHT
BEGIN:STANDARD
DTSTART:20251026T030000
TZOFFSETFROM:+0200
TZOFFSETTO:+0100
END:STANDARD
END:VTIMEZONE
BEGIN:VTIMEZONE
TZID:UTC
BEGIN:STANDARD
DTSTART:20250727T132405
TZOFFSETFROM:+0000
TZOFFSETTO:+0000
END:STANDARD
END:VTIMEZONE
BEGIN:VEVENT
UID:69ea1d75358fc
DTSTAMP:20260423T132405Z
SUMMARY:KONKURADO: Construction d'une école spécialisée et d'une UAPE\, 
 concept Ecole DUO à Roche\, Einreichung der Wettbewerbsbeiträge bis 08.0
 4.2025 - 22.07.2025
DESCRIPTION:Link zum Verfahren: https://konkurado.ch/de/construction-dune-e
 cole-specialisee-et-dune-uape-concept-ecole-duo-a-roche
X-MICROSOFT-CDO-ALLDAYEVENT:TRUE
DTSTART;TZID=Europe/Zurich;VALUE=DATE:20250408
END:VEVENT
BEGIN:VEVENT
UID:69ea1d753596d
DTSTAMP:20260423T132405Z
SUMMARY:KONKURADO: Construction d'une école spécialisée et d'une UAPE\, 
 concept Ecole DUO à Roche\, Einreichung der Wettbewerbsbeiträge bis 08.0
 4.2025 - 22.07.2025
DESCRIPTION:Link zum Verfahren: https://konkurado.ch/de/construction-dune-e
 cole-specialisee-et-dune-uape-concept-ecole-duo-a-roche
X-MICROSOFT-CDO-ALLDAYEVENT:TRUE
DTSTART;TZID=Europe/Zurich;VALUE=DATE:20250722
END:VEVENT
BEGIN:VEVENT
UID:69ea1d7535aec
DTSTAMP:20260423T132405Z
SUMMARY:KONKURADO: Construction d'une école spécialisée et d'une UAPE\, 
 concept Ecole DUO à Roche\, Modellausgabe ab 22.04.2025 - 22.04.2025
DESCRIPTION:Link zum Verfahren: https://konkurado.ch/de/construction-dune-e
 cole-specialisee-et-dune-uape-concept-ecole-duo-a-roche
X-MICROSOFT-CDO-ALLDAYEVENT:TRUE
DTSTART;TZID=Europe/Zurich;VALUE=DATE:20250422
END:VEVENT
BEGIN:VEVENT
UID:69ea1d7535b18
DTSTAMP:20260423T132405Z
SUMMARY:KONKURADO: Construction d'une école spécialisée et d'une UAPE\, 
 concept Ecole DUO à Roche\, Modellausgabe ab 22.04.2025 - 22.04.2025
DESCRIPTION:Link zum Verfahren: https://konkurado.ch/de/construction-dune-e
 cole-specialisee-et-dune-uape-concept-ecole-duo-a-roche
X-MICROSOFT-CDO-ALLDAYEVENT:TRUE
DTSTART;TZID=Europe/Zurich;VALUE=DATE:20250422
END:VEVENT
BEGIN:VEVENT
UID:69ea1d7535b77
DTSTAMP:20260423T132405Z
SUMMARY:KONKURADO: Construction d'une école spécialisée et d'une UAPE\, 
 concept Ecole DUO à Roche\, Begehung 25.04.2025 - 25.04.2025
DESCRIPTION:Link zum Verfahren: https://konkurado.ch/de/construction-dune-e
 cole-specialisee-et-dune-uape-concept-ecole-duo-a-roche
X-MICROSOFT-CDO-ALLDAYEVENT:TRUE
DTSTART;TZID=Europe/Zurich;VALUE=DATE:20250425
END:VEVENT
BEGIN:VEVENT
UID:69ea1d7535b9e
DTSTAMP:20260423T132405Z
SUMMARY:KONKURADO: Construction d'une école spécialisée et d'une UAPE\, 
 concept Ecole DUO à Roche\, Begehung 25.04.2025 - 25.04.2025
DESCRIPTION:Link zum Verfahren: https://konkurado.ch/de/construction-dune-e
 cole-specialisee-et-dune-uape-concept-ecole-duo-a-roche
X-MICROSOFT-CDO-ALLDAYEVENT:TRUE
DTSTART;TZID=Europe/Zurich;VALUE=DATE:20250425
END:VEVENT
BEGIN:VEVENT
UID:69ea1d7535bd2
DTSTAMP:20260423T132405Z
SUMMARY:KONKURADO: Construction d'une école spécialisée et d'une UAPE\, 
 concept Ecole DUO à Roche\, Einreichen von Fragen bis 10.04.2025 - 10.04.
 2025
DESCRIPTION:Link zum Verfahren: https://konkurado.ch/de/construction-dune-e
 cole-specialisee-et-dune-uape-concept-ecole-duo-a-roche
X-MICROSOFT-CDO-ALLDAYEVENT:TRUE
DTSTART;TZID=Europe/Zurich;VALUE=DATE:20250410
END:VEVENT
BEGIN:VEVENT
UID:69ea1d7535bf7
DTSTAMP:20260423T132405Z
SUMMARY:KONKURADO: Construction d'une école spécialisée et d'une UAPE\, 
 concept Ecole DUO à Roche\, Einreichen von Fragen bis 10.04.2025 - 10.04.
 2025
DESCRIPTION:Link zum Verfahren: https://konkurado.ch/de/construction-dune-e
 cole-specialisee-et-dune-uape-concept-ecole-duo-a-roche
X-MICROSOFT-CDO-ALLDAYEVENT:TRUE
DTSTART;TZID=Europe/Zurich;VALUE=DATE:20250410
END:VEVENT
BEGIN:VEVENT
UID:69ea1d7535c67
DTSTAMP:20260423T132405Z
SUMMARY:KONKURADO: Construction d'une école spécialisée et d'une UAPE\, 
 concept Ecole DUO à Roche\, Einreichung der Modelle bis 22.04.2025 - 14.0
 8.2025
DESCRIPTION:Link zum Verfahren: https://konkurado.ch/de/construction-dune-e
 cole-specialisee-et-dune-uape-concept-ecole-duo-a-roche
X-MICROSOFT-CDO-ALLDAYEVENT:TRUE
DTSTART;TZID=Europe/Zurich;VALUE=DATE:20250422
END:VEVENT
BEGIN:VEVENT
UID:69ea1d7535c96
DTSTAMP:20260423T132405Z
SUMMARY:KONKURADO: Construction d'une école spécialisée et d'une UAPE\, 
 concept Ecole DUO à Roche\, Einreichung der Modelle bis 22.04.2025 - 14.0
 8.2025
DESCRIPTION:Link zum Verfahren: https://konkurado.ch/de/construction-dune-e
 cole-specialisee-et-dune-uape-concept-ecole-duo-a-roche
X-MICROSOFT-CDO-ALLDAYEVENT:TRUE
DTSTART;TZID=Europe/Zurich;VALUE=DATE:20250814
END:VEVENT
END:VCALENDAR