BEGIN:VCALENDAR
VERSION:2.0
PRODID:spatie/icalendar-generator
NAME:Construction d’un nouvel EMS\, relié à l’existant
X-WR-CALNAME:Construction d’un nouvel EMS\, relié à l’existant
BEGIN:VTIMEZONE
TZID:Europe/Zurich
BEGIN:STANDARD
DTSTART:20241027T030000
TZOFFSETFROM:+0200
TZOFFSETTO:+0100
END:STANDARD
BEGIN:DAYLIGHT
DTSTART:20250330T010000
TZOFFSETFROM:+0100
TZOFFSETTO:+0200
END:DAYLIGHT
BEGIN:STANDARD
DTSTART:20251026T030000
TZOFFSETFROM:+0200
TZOFFSETTO:+0100
END:STANDARD
END:VTIMEZONE
BEGIN:VTIMEZONE
TZID:UTC
BEGIN:STANDARD
DTSTART:20250727T132350
TZOFFSETFROM:+0000
TZOFFSETTO:+0000
END:STANDARD
END:VTIMEZONE
BEGIN:VEVENT
UID:69ea1d6699aba
DTSTAMP:20260423T132350Z
SUMMARY:KONKURADO: Construction d’un nouvel EMS\, relié à l’existant\
 , Einreichung von Fragen bis 28.04.2025 - 23.05.2025
DESCRIPTION:Link zum Verfahren: https://konkurado.ch/de/construction-d-un-n
 ouvel-EMS-relie-a-l-existant
X-MICROSOFT-CDO-ALLDAYEVENT:TRUE
DTSTART;TZID=Europe/Zurich;VALUE=DATE:20250428
END:VEVENT
BEGIN:VEVENT
UID:69ea1d6699b3d
DTSTAMP:20260423T132350Z
SUMMARY:KONKURADO: Construction d’un nouvel EMS\, relié à l’existant\
 , Einreichung von Fragen bis 28.04.2025 - 23.05.2025
DESCRIPTION:Link zum Verfahren: https://konkurado.ch/de/construction-d-un-n
 ouvel-EMS-relie-a-l-existant
X-MICROSOFT-CDO-ALLDAYEVENT:TRUE
DTSTART;TZID=Europe/Zurich;VALUE=DATE:20250523
END:VEVENT
BEGIN:VEVENT
UID:69ea1d6699b7a
DTSTAMP:20260423T132350Z
SUMMARY:KONKURADO: Construction d’un nouvel EMS\, relié à l’existant\
 , Abgabe Projektbeitrag bis 28.04.2025 - 22.08.2025
DESCRIPTION:Link zum Verfahren: https://konkurado.ch/de/construction-d-un-n
 ouvel-EMS-relie-a-l-existant
X-MICROSOFT-CDO-ALLDAYEVENT:TRUE
DTSTART;TZID=Europe/Zurich;VALUE=DATE:20250428
END:VEVENT
BEGIN:VEVENT
UID:69ea1d6699ba0
DTSTAMP:20260423T132350Z
SUMMARY:KONKURADO: Construction d’un nouvel EMS\, relié à l’existant\
 , Abgabe Projektbeitrag bis 28.04.2025 - 22.08.2025
DESCRIPTION:Link zum Verfahren: https://konkurado.ch/de/construction-d-un-n
 ouvel-EMS-relie-a-l-existant
X-MICROSOFT-CDO-ALLDAYEVENT:TRUE
DTSTART;TZID=Europe/Zurich;VALUE=DATE:20250822
END:VEVENT
BEGIN:VEVENT
UID:69ea1d6699d05
DTSTAMP:20260423T132350Z
SUMMARY:KONKURADO: Construction d’un nouvel EMS\, relié à l’existant\
 , Modellausgabe ab 09.05.2025 - 12.09.2025
DESCRIPTION:Link zum Verfahren: https://konkurado.ch/de/construction-d-un-n
 ouvel-EMS-relie-a-l-existant
X-MICROSOFT-CDO-ALLDAYEVENT:TRUE
DTSTART;TZID=Europe/Zurich;VALUE=DATE:20250509
END:VEVENT
BEGIN:VEVENT
UID:69ea1d6699d2f
DTSTAMP:20260423T132350Z
SUMMARY:KONKURADO: Construction d’un nouvel EMS\, relié à l’existant\
 , Modellausgabe ab 09.05.2025 - 12.09.2025
DESCRIPTION:Link zum Verfahren: https://konkurado.ch/de/construction-d-un-n
 ouvel-EMS-relie-a-l-existant
X-MICROSOFT-CDO-ALLDAYEVENT:TRUE
DTSTART;TZID=Europe/Zurich;VALUE=DATE:20250912
END:VEVENT
BEGIN:VEVENT
UID:69ea1d6699d8f
DTSTAMP:20260423T132350Z
SUMMARY:KONKURADO: Construction d’un nouvel EMS\, relié à l’existant\
 , Begehung 09.05.2025 - 09.05.2025
DESCRIPTION:Link zum Verfahren: https://konkurado.ch/de/construction-d-un-n
 ouvel-EMS-relie-a-l-existant
X-MICROSOFT-CDO-ALLDAYEVENT:TRUE
DTSTART;TZID=Europe/Zurich;VALUE=DATE:20250509
END:VEVENT
BEGIN:VEVENT
UID:69ea1d6699db6
DTSTAMP:20260423T132350Z
SUMMARY:KONKURADO: Construction d’un nouvel EMS\, relié à l’existant\
 , Begehung 09.05.2025 - 09.05.2025
DESCRIPTION:Link zum Verfahren: https://konkurado.ch/de/construction-d-un-n
 ouvel-EMS-relie-a-l-existant
X-MICROSOFT-CDO-ALLDAYEVENT:TRUE
DTSTART;TZID=Europe/Zurich;VALUE=DATE:20250509
END:VEVENT
BEGIN:VEVENT
UID:69ea1d6699e0b
DTSTAMP:20260423T132350Z
SUMMARY:KONKURADO: Construction d’un nouvel EMS\, relié à l’existant\
 , Begehung 16.05.2025 - 16.05.2025
DESCRIPTION:Link zum Verfahren: https://konkurado.ch/de/construction-d-un-n
 ouvel-EMS-relie-a-l-existant
X-MICROSOFT-CDO-ALLDAYEVENT:TRUE
DTSTART;TZID=Europe/Zurich;VALUE=DATE:20250516
END:VEVENT
BEGIN:VEVENT
UID:69ea1d6699e31
DTSTAMP:20260423T132350Z
SUMMARY:KONKURADO: Construction d’un nouvel EMS\, relié à l’existant\
 , Begehung 16.05.2025 - 16.05.2025
DESCRIPTION:Link zum Verfahren: https://konkurado.ch/de/construction-d-un-n
 ouvel-EMS-relie-a-l-existant
X-MICROSOFT-CDO-ALLDAYEVENT:TRUE
DTSTART;TZID=Europe/Zurich;VALUE=DATE:20250516
END:VEVENT
BEGIN:VEVENT
UID:69ea1d6699e83
DTSTAMP:20260423T132350Z
SUMMARY:KONKURADO: Construction d’un nouvel EMS\, relié à l’existant\
 , Fragenbeantwortung ab 06.06.2025 - 22.08.2025
DESCRIPTION:Link zum Verfahren: https://konkurado.ch/de/construction-d-un-n
 ouvel-EMS-relie-a-l-existant
X-MICROSOFT-CDO-ALLDAYEVENT:TRUE
DTSTART;TZID=Europe/Zurich;VALUE=DATE:20250606
END:VEVENT
BEGIN:VEVENT
UID:69ea1d6699ea9
DTSTAMP:20260423T132350Z
SUMMARY:KONKURADO: Construction d’un nouvel EMS\, relié à l’existant\
 , Fragenbeantwortung ab 06.06.2025 - 22.08.2025
DESCRIPTION:Link zum Verfahren: https://konkurado.ch/de/construction-d-un-n
 ouvel-EMS-relie-a-l-existant
X-MICROSOFT-CDO-ALLDAYEVENT:TRUE
DTSTART;TZID=Europe/Zurich;VALUE=DATE:20250822
END:VEVENT
BEGIN:VEVENT
UID:69ea1d6699ede
DTSTAMP:20260423T132350Z
SUMMARY:KONKURADO: Construction d’un nouvel EMS\, relié à l’existant\
 , Anmeldung 28.04.2025 - 25.07.2025
DESCRIPTION:Link zum Verfahren: https://konkurado.ch/de/construction-d-un-n
 ouvel-EMS-relie-a-l-existant
X-MICROSOFT-CDO-ALLDAYEVENT:TRUE
DTSTART;TZID=Europe/Zurich;VALUE=DATE:20250428
END:VEVENT
BEGIN:VEVENT
UID:69ea1d6699f02
DTSTAMP:20260423T132350Z
SUMMARY:KONKURADO: Construction d’un nouvel EMS\, relié à l’existant\
 , Anmeldung 28.04.2025 - 25.07.2025
DESCRIPTION:Link zum Verfahren: https://konkurado.ch/de/construction-d-un-n
 ouvel-EMS-relie-a-l-existant
X-MICROSOFT-CDO-ALLDAYEVENT:TRUE
DTSTART;TZID=Europe/Zurich;VALUE=DATE:20250725
END:VEVENT
BEGIN:VEVENT
UID:69ea1d6699f5c
DTSTAMP:20260423T132350Z
SUMMARY:KONKURADO: Construction d’un nouvel EMS\, relié à l’existant\
 , Modellabgabe 09.05.2025 - 12.09.2025
DESCRIPTION:Link zum Verfahren: https://konkurado.ch/de/construction-d-un-n
 ouvel-EMS-relie-a-l-existant
X-MICROSOFT-CDO-ALLDAYEVENT:TRUE
DTSTART;TZID=Europe/Zurich;VALUE=DATE:20250509
END:VEVENT
BEGIN:VEVENT
UID:69ea1d6699f92
DTSTAMP:20260423T132350Z
SUMMARY:KONKURADO: Construction d’un nouvel EMS\, relié à l’existant\
 , Modellabgabe 09.05.2025 - 12.09.2025
DESCRIPTION:Link zum Verfahren: https://konkurado.ch/de/construction-d-un-n
 ouvel-EMS-relie-a-l-existant
X-MICROSOFT-CDO-ALLDAYEVENT:TRUE
DTSTART;TZID=Europe/Zurich;VALUE=DATE:20250912
END:VEVENT
END:VCALENDAR