BEGIN:VCALENDAR
VERSION:2.0
PRODID:spatie/icalendar-generator
NAME:Breitestrasse\, Breiteplatz - Storchenbrücke\, Bauingenieurleistungen
X-WR-CALNAME:Breitestrasse\, Breiteplatz - Storchenbrücke\, Bauingenieurle
 istungen
BEGIN:VTIMEZONE
TZID:Europe/Zurich
BEGIN:STANDARD
DTSTART:20251026T030000
TZOFFSETFROM:+0200
TZOFFSETTO:+0100
END:STANDARD
BEGIN:DAYLIGHT
DTSTART:20260329T010000
TZOFFSETFROM:+0100
TZOFFSETTO:+0200
END:DAYLIGHT
BEGIN:STANDARD
DTSTART:20261025T030000
TZOFFSETFROM:+0200
TZOFFSETTO:+0100
END:STANDARD
END:VTIMEZONE
BEGIN:VTIMEZONE
TZID:UTC
BEGIN:STANDARD
DTSTART:20250723T135344
TZOFFSETFROM:+0000
TZOFFSETTO:+0000
END:STANDARD
END:VTIMEZONE
BEGIN:VEVENT
UID:69e4de6880b8f
DTSTAMP:20260419T135344Z
SUMMARY:KONKURADO: Breitestrasse\, Breiteplatz - Storchenbrücke\, Bauingen
 ieurleistungen\, Fragerunde\, einreichen bis 15.05.2026 - 15.05.2026
DESCRIPTION:Link zum Verfahren: https://konkurado.ch/de/breitestrasse-breit
 eplatz-storchenbrucke-bauingenieurleistungen
X-MICROSOFT-CDO-ALLDAYEVENT:TRUE
DTSTART;TZID=Europe/Zurich;VALUE=DATE:20260515
END:VEVENT
BEGIN:VEVENT
UID:69e4de6880c13
DTSTAMP:20260419T135344Z
SUMMARY:KONKURADO: Breitestrasse\, Breiteplatz - Storchenbrücke\, Bauingen
 ieurleistungen\, Fragerunde\, einreichen bis 15.05.2026 - 15.05.2026
DESCRIPTION:Link zum Verfahren: https://konkurado.ch/de/breitestrasse-breit
 eplatz-storchenbrucke-bauingenieurleistungen
X-MICROSOFT-CDO-ALLDAYEVENT:TRUE
DTSTART;TZID=Europe/Zurich;VALUE=DATE:20260515
END:VEVENT
BEGIN:VEVENT
UID:69e4de6880c83
DTSTAMP:20260419T135344Z
SUMMARY:KONKURADO: Breitestrasse\, Breiteplatz - Storchenbrücke\, Bauingen
 ieurleistungen\, Einreichen von Angeboten bis 27.05.2026 - 27.05.2026
DESCRIPTION:Link zum Verfahren: https://konkurado.ch/de/breitestrasse-breit
 eplatz-storchenbrucke-bauingenieurleistungen
X-MICROSOFT-CDO-ALLDAYEVENT:TRUE
DTSTART;TZID=Europe/Zurich;VALUE=DATE:20260527
END:VEVENT
BEGIN:VEVENT
UID:69e4de6880cab
DTSTAMP:20260419T135344Z
SUMMARY:KONKURADO: Breitestrasse\, Breiteplatz - Storchenbrücke\, Bauingen
 ieurleistungen\, Einreichen von Angeboten bis 27.05.2026 - 27.05.2026
DESCRIPTION:Link zum Verfahren: https://konkurado.ch/de/breitestrasse-breit
 eplatz-storchenbrucke-bauingenieurleistungen
X-MICROSOFT-CDO-ALLDAYEVENT:TRUE
DTSTART;TZID=Europe/Zurich;VALUE=DATE:20260527
END:VEVENT
END:VCALENDAR