BEGIN:VCALENDAR
VERSION:2.0
PRODID:spatie/icalendar-generator
NAME:Arealentwicklung Glatthof\, Opfikon
X-WR-CALNAME:Arealentwicklung Glatthof\, Opfikon
BEGIN:VTIMEZONE
TZID:Europe/Zurich
BEGIN:STANDARD
DTSTART:20241027T030000
TZOFFSETFROM:+0200
TZOFFSETTO:+0100
END:STANDARD
BEGIN:DAYLIGHT
DTSTART:20250330T010000
TZOFFSETFROM:+0100
TZOFFSETTO:+0200
END:DAYLIGHT
BEGIN:STANDARD
DTSTART:20251026T030000
TZOFFSETFROM:+0200
TZOFFSETTO:+0100
END:STANDARD
BEGIN:DAYLIGHT
DTSTART:20260329T010000
TZOFFSETFROM:+0100
TZOFFSETTO:+0200
END:DAYLIGHT
END:VTIMEZONE
BEGIN:VTIMEZONE
TZID:UTC
BEGIN:STANDARD
DTSTART:20250727T132350
TZOFFSETFROM:+0000
TZOFFSETTO:+0000
END:STANDARD
END:VTIMEZONE
BEGIN:VEVENT
UID:69ea1d6699bd3
DTSTAMP:20260423T132350Z
SUMMARY:KONKURADO: Arealentwicklung Glatthof\, Opfikon\, Eingang der Bewerb
 ungen 11.06.2025 - 16.07.2025
DESCRIPTION:Link zum Verfahren: https://konkurado.ch/de/arealentwicklung-gl
 atthof-opfikon
X-MICROSOFT-CDO-ALLDAYEVENT:TRUE
DTSTART;TZID=Europe/Zurich;VALUE=DATE:20250611
END:VEVENT
BEGIN:VEVENT
UID:69ea1d6699c45
DTSTAMP:20260423T132350Z
SUMMARY:KONKURADO: Arealentwicklung Glatthof\, Opfikon\, Eingang der Bewerb
 ungen 11.06.2025 - 16.07.2025
DESCRIPTION:Link zum Verfahren: https://konkurado.ch/de/arealentwicklung-gl
 atthof-opfikon
X-MICROSOFT-CDO-ALLDAYEVENT:TRUE
DTSTART;TZID=Europe/Zurich;VALUE=DATE:20250716
END:VEVENT
BEGIN:VEVENT
UID:69ea1d6699cb2
DTSTAMP:20260423T132350Z
SUMMARY:KONKURADO: Arealentwicklung Glatthof\, Opfikon\, Bekanntgabe Ergebn
 is Präqualifikation 05.09.2025 - 05.09.2025
DESCRIPTION:Link zum Verfahren: https://konkurado.ch/de/arealentwicklung-gl
 atthof-opfikon
X-MICROSOFT-CDO-ALLDAYEVENT:TRUE
DTSTART;TZID=Europe/Zurich;VALUE=DATE:20250905
END:VEVENT
BEGIN:VEVENT
UID:69ea1d6699cdb
DTSTAMP:20260423T132350Z
SUMMARY:KONKURADO: Arealentwicklung Glatthof\, Opfikon\, Bekanntgabe Ergebn
 is Präqualifikation 05.09.2025 - 05.09.2025
DESCRIPTION:Link zum Verfahren: https://konkurado.ch/de/arealentwicklung-gl
 atthof-opfikon
X-MICROSOFT-CDO-ALLDAYEVENT:TRUE
DTSTART;TZID=Europe/Zurich;VALUE=DATE:20250905
END:VEVENT
BEGIN:VEVENT
UID:69ea1d6699dcf
DTSTAMP:20260423T132350Z
SUMMARY:KONKURADO: Arealentwicklung Glatthof\, Opfikon\, Versand Programm u
 nd Unterlagen 11.09.2025 - 11.09.2025
DESCRIPTION:Link zum Verfahren: https://konkurado.ch/de/arealentwicklung-gl
 atthof-opfikon
X-MICROSOFT-CDO-ALLDAYEVENT:TRUE
DTSTART;TZID=Europe/Zurich;VALUE=DATE:20250911
END:VEVENT
BEGIN:VEVENT
UID:69ea1d6699dfa
DTSTAMP:20260423T132350Z
SUMMARY:KONKURADO: Arealentwicklung Glatthof\, Opfikon\, Versand Programm u
 nd Unterlagen 11.09.2025 - 11.09.2025
DESCRIPTION:Link zum Verfahren: https://konkurado.ch/de/arealentwicklung-gl
 atthof-opfikon
X-MICROSOFT-CDO-ALLDAYEVENT:TRUE
DTSTART;TZID=Europe/Zurich;VALUE=DATE:20250911
END:VEVENT
BEGIN:VEVENT
UID:69ea1d6699e57
DTSTAMP:20260423T132350Z
SUMMARY:KONKURADO: Arealentwicklung Glatthof\, Opfikon\, Startkolloquium mi
 t Begehung 25.09.2025 - 25.09.2025
DESCRIPTION:Link zum Verfahren: https://konkurado.ch/de/arealentwicklung-gl
 atthof-opfikon
X-MICROSOFT-CDO-ALLDAYEVENT:TRUE
DTSTART;TZID=Europe/Zurich;VALUE=DATE:20250925
END:VEVENT
BEGIN:VEVENT
UID:69ea1d6699e7d
DTSTAMP:20260423T132350Z
SUMMARY:KONKURADO: Arealentwicklung Glatthof\, Opfikon\, Startkolloquium mi
 t Begehung 25.09.2025 - 25.09.2025
DESCRIPTION:Link zum Verfahren: https://konkurado.ch/de/arealentwicklung-gl
 atthof-opfikon
X-MICROSOFT-CDO-ALLDAYEVENT:TRUE
DTSTART;TZID=Europe/Zurich;VALUE=DATE:20250925
END:VEVENT
BEGIN:VEVENT
UID:69ea1d6699ed1
DTSTAMP:20260423T132350Z
SUMMARY:KONKURADO: Arealentwicklung Glatthof\, Opfikon\, Fragenstellung 02.
 10.2025 - 02.10.2025
DESCRIPTION:Link zum Verfahren: https://konkurado.ch/de/arealentwicklung-gl
 atthof-opfikon
X-MICROSOFT-CDO-ALLDAYEVENT:TRUE
DTSTART;TZID=Europe/Zurich;VALUE=DATE:20251002
END:VEVENT
BEGIN:VEVENT
UID:69ea1d6699ef7
DTSTAMP:20260423T132350Z
SUMMARY:KONKURADO: Arealentwicklung Glatthof\, Opfikon\, Fragenstellung 02.
 10.2025 - 02.10.2025
DESCRIPTION:Link zum Verfahren: https://konkurado.ch/de/arealentwicklung-gl
 atthof-opfikon
X-MICROSOFT-CDO-ALLDAYEVENT:TRUE
DTSTART;TZID=Europe/Zurich;VALUE=DATE:20251002
END:VEVENT
BEGIN:VEVENT
UID:69ea1d6699f5c
DTSTAMP:20260423T132350Z
SUMMARY:KONKURADO: Arealentwicklung Glatthof\, Opfikon\, Fragenbeantwortung
  15.10.2025 - 15.10.2025
DESCRIPTION:Link zum Verfahren: https://konkurado.ch/de/arealentwicklung-gl
 atthof-opfikon
X-MICROSOFT-CDO-ALLDAYEVENT:TRUE
DTSTART;TZID=Europe/Zurich;VALUE=DATE:20251015
END:VEVENT
BEGIN:VEVENT
UID:69ea1d6699f84
DTSTAMP:20260423T132350Z
SUMMARY:KONKURADO: Arealentwicklung Glatthof\, Opfikon\, Fragenbeantwortung
  15.10.2025 - 15.10.2025
DESCRIPTION:Link zum Verfahren: https://konkurado.ch/de/arealentwicklung-gl
 atthof-opfikon
X-MICROSOFT-CDO-ALLDAYEVENT:TRUE
DTSTART;TZID=Europe/Zurich;VALUE=DATE:20251015
END:VEVENT
BEGIN:VEVENT
UID:69ea1d6699fdb
DTSTAMP:20260423T132350Z
SUMMARY:KONKURADO: Arealentwicklung Glatthof\, Opfikon\, Abgabe Projektdoss
 ier 12.12.2025 - 12.12.2025
DESCRIPTION:Link zum Verfahren: https://konkurado.ch/de/arealentwicklung-gl
 atthof-opfikon
X-MICROSOFT-CDO-ALLDAYEVENT:TRUE
DTSTART;TZID=Europe/Zurich;VALUE=DATE:20251212
END:VEVENT
BEGIN:VEVENT
UID:69ea1d669a004
DTSTAMP:20260423T132350Z
SUMMARY:KONKURADO: Arealentwicklung Glatthof\, Opfikon\, Abgabe Projektdoss
 ier 12.12.2025 - 12.12.2025
DESCRIPTION:Link zum Verfahren: https://konkurado.ch/de/arealentwicklung-gl
 atthof-opfikon
X-MICROSOFT-CDO-ALLDAYEVENT:TRUE
DTSTART;TZID=Europe/Zurich;VALUE=DATE:20251212
END:VEVENT
BEGIN:VEVENT
UID:69ea1d669a056
DTSTAMP:20260423T132350Z
SUMMARY:KONKURADO: Arealentwicklung Glatthof\, Opfikon\, Abgabe Modell 13.0
 1.2026 - 13.01.2026
DESCRIPTION:Link zum Verfahren: https://konkurado.ch/de/arealentwicklung-gl
 atthof-opfikon
X-MICROSOFT-CDO-ALLDAYEVENT:TRUE
DTSTART;TZID=Europe/Zurich;VALUE=DATE:20260113
END:VEVENT
BEGIN:VEVENT
UID:69ea1d669a07d
DTSTAMP:20260423T132350Z
SUMMARY:KONKURADO: Arealentwicklung Glatthof\, Opfikon\, Abgabe Modell 13.0
 1.2026 - 13.01.2026
DESCRIPTION:Link zum Verfahren: https://konkurado.ch/de/arealentwicklung-gl
 atthof-opfikon
X-MICROSOFT-CDO-ALLDAYEVENT:TRUE
DTSTART;TZID=Europe/Zurich;VALUE=DATE:20260113
END:VEVENT
BEGIN:VEVENT
UID:69ea1d669a0ce
DTSTAMP:20260423T132350Z
SUMMARY:KONKURADO: Arealentwicklung Glatthof\, Opfikon\, Bekanntgabe Wettbe
 werbsergebnis 28.02.2026 - 28.02.2026
DESCRIPTION:Link zum Verfahren: https://konkurado.ch/de/arealentwicklung-gl
 atthof-opfikon
X-MICROSOFT-CDO-ALLDAYEVENT:TRUE
DTSTART;TZID=Europe/Zurich;VALUE=DATE:20260228
END:VEVENT
BEGIN:VEVENT
UID:69ea1d669a0f3
DTSTAMP:20260423T132350Z
SUMMARY:KONKURADO: Arealentwicklung Glatthof\, Opfikon\, Bekanntgabe Wettbe
 werbsergebnis 28.02.2026 - 28.02.2026
DESCRIPTION:Link zum Verfahren: https://konkurado.ch/de/arealentwicklung-gl
 atthof-opfikon
X-MICROSOFT-CDO-ALLDAYEVENT:TRUE
DTSTART;TZID=Europe/Zurich;VALUE=DATE:20260228
END:VEVENT
END:VCALENDAR