BEGIN:VCALENDAR
VERSION:2.0
PRODID:spatie/icalendar-generator
NAME:24035 Bahnhofbrücke
X-WR-CALNAME:24035 Bahnhofbrücke
BEGIN:VTIMEZONE
TZID:Europe/Zurich
BEGIN:STANDARD
DTSTART:20251026T030000
TZOFFSETFROM:+0200
TZOFFSETTO:+0100
END:STANDARD
BEGIN:DAYLIGHT
DTSTART:20260329T010000
TZOFFSETFROM:+0100
TZOFFSETTO:+0200
END:DAYLIGHT
BEGIN:STANDARD
DTSTART:20261025T030000
TZOFFSETFROM:+0200
TZOFFSETTO:+0100
END:STANDARD
END:VTIMEZONE
BEGIN:VTIMEZONE
TZID:UTC
BEGIN:STANDARD
DTSTART:20250723T135110
TZOFFSETFROM:+0000
TZOFFSETTO:+0000
END:STANDARD
END:VTIMEZONE
BEGIN:VEVENT
UID:69e4ddceb4471
DTSTAMP:20260419T135110Z
SUMMARY:KONKURADO: 24035 Bahnhofbrücke\, Fragerunde\, einreichen bis 29.04
 .2026 - 29.04.2026
DESCRIPTION:Link zum Verfahren: https://konkurado.ch/de/24035-bahnhofbrucke
X-MICROSOFT-CDO-ALLDAYEVENT:TRUE
DTSTART;TZID=Europe/Zurich;VALUE=DATE:20260429
END:VEVENT
BEGIN:VEVENT
UID:69e4ddceb4502
DTSTAMP:20260419T135110Z
SUMMARY:KONKURADO: 24035 Bahnhofbrücke\, Fragerunde\, einreichen bis 29.04
 .2026 - 29.04.2026
DESCRIPTION:Link zum Verfahren: https://konkurado.ch/de/24035-bahnhofbrucke
X-MICROSOFT-CDO-ALLDAYEVENT:TRUE
DTSTART;TZID=Europe/Zurich;VALUE=DATE:20260429
END:VEVENT
BEGIN:VEVENT
UID:69e4ddceb4581
DTSTAMP:20260419T135110Z
SUMMARY:KONKURADO: 24035 Bahnhofbrücke\, Einreichen von Angeboten bis 04.0
 6.2026 - 04.06.2026
DESCRIPTION:Link zum Verfahren: https://konkurado.ch/de/24035-bahnhofbrucke
X-MICROSOFT-CDO-ALLDAYEVENT:TRUE
DTSTART;TZID=Europe/Zurich;VALUE=DATE:20260604
END:VEVENT
BEGIN:VEVENT
UID:69e4ddceb45ae
DTSTAMP:20260419T135110Z
SUMMARY:KONKURADO: 24035 Bahnhofbrücke\, Einreichen von Angeboten bis 04.0
 6.2026 - 04.06.2026
DESCRIPTION:Link zum Verfahren: https://konkurado.ch/de/24035-bahnhofbrucke
X-MICROSOFT-CDO-ALLDAYEVENT:TRUE
DTSTART;TZID=Europe/Zurich;VALUE=DATE:20260604
END:VEVENT
BEGIN:VEVENT
UID:69e4ddceb4621
DTSTAMP:20260419T135110Z
SUMMARY:KONKURADO: 24035 Bahnhofbrücke\, Offertöffnung 04.06.2026 - 04.06
 .2026
DESCRIPTION:Link zum Verfahren: https://konkurado.ch/de/24035-bahnhofbrucke
X-MICROSOFT-CDO-ALLDAYEVENT:TRUE
DTSTART;TZID=Europe/Zurich;VALUE=DATE:20260604
END:VEVENT
BEGIN:VEVENT
UID:69e4ddceb464e
DTSTAMP:20260419T135110Z
SUMMARY:KONKURADO: 24035 Bahnhofbrücke\, Offertöffnung 04.06.2026 - 04.06
 .2026
DESCRIPTION:Link zum Verfahren: https://konkurado.ch/de/24035-bahnhofbrucke
X-MICROSOFT-CDO-ALLDAYEVENT:TRUE
DTSTART;TZID=Europe/Zurich;VALUE=DATE:20260604
END:VEVENT
BEGIN:VEVENT
UID:69e4ddceb46ab
DTSTAMP:20260419T135110Z
SUMMARY:KONKURADO: 24035 Bahnhofbrücke\, Verfügbarkeit der Ausschreibungs
 unterlagen 17.04.2026 - 04.06.2026
DESCRIPTION:Link zum Verfahren: https://konkurado.ch/de/24035-bahnhofbrucke
X-MICROSOFT-CDO-ALLDAYEVENT:TRUE
DTSTART;TZID=Europe/Zurich;VALUE=DATE:20260417
END:VEVENT
BEGIN:VEVENT
UID:69e4ddceb46d6
DTSTAMP:20260419T135110Z
SUMMARY:KONKURADO: 24035 Bahnhofbrücke\, Verfügbarkeit der Ausschreibungs
 unterlagen 17.04.2026 - 04.06.2026
DESCRIPTION:Link zum Verfahren: https://konkurado.ch/de/24035-bahnhofbrucke
X-MICROSOFT-CDO-ALLDAYEVENT:TRUE
DTSTART;TZID=Europe/Zurich;VALUE=DATE:20260604
END:VEVENT
END:VCALENDAR